| Back to Multiple platform build/check report for BioC 3.11 |
|
This page was generated on 2020-10-17 11:56:29 -0400 (Sat, 17 Oct 2020).
| TO THE DEVELOPERS/MAINTAINERS OF THE DriverNet PACKAGE: Please make sure to use the following settings in order to reproduce any error or warning you see on this page. |
| Package 505/1905 | Hostname | OS / Arch | INSTALL | BUILD | CHECK | BUILD BIN | ||||||
| DriverNet 1.28.0 Jiarui Ding
| malbec2 | Linux (Ubuntu 18.04.4 LTS) / x86_64 | OK | OK | OK | |||||||
| tokay2 | Windows Server 2012 R2 Standard / x64 | [ OK ] | OK | OK | OK | |||||||
| machv2 | macOS 10.14.6 Mojave / x86_64 | OK | OK | OK | OK |
| Package: DriverNet |
| Version: 1.28.0 |
| Command: C:\cygwin\bin\curl.exe -O https://malbec2.bioconductor.org/BBS/3.11/bioc/src/contrib/DriverNet_1.28.0.tar.gz && rm -rf DriverNet.buildbin-libdir && mkdir DriverNet.buildbin-libdir && C:\Users\biocbuild\bbs-3.11-bioc\R\bin\R.exe CMD INSTALL --merge-multiarch --build --library=DriverNet.buildbin-libdir DriverNet_1.28.0.tar.gz && C:\Users\biocbuild\bbs-3.11-bioc\R\bin\R.exe CMD INSTALL DriverNet_1.28.0.zip && rm DriverNet_1.28.0.tar.gz DriverNet_1.28.0.zip |
| StartedAt: 2020-10-16 17:10:09 -0400 (Fri, 16 Oct 2020) |
| EndedAt: 2020-10-16 17:10:36 -0400 (Fri, 16 Oct 2020) |
| EllapsedTime: 27.5 seconds |
| RetCode: 0 |
| Status: OK |
##############################################################################
##############################################################################
###
### Running command:
###
### C:\cygwin\bin\curl.exe -O https://malbec2.bioconductor.org/BBS/3.11/bioc/src/contrib/DriverNet_1.28.0.tar.gz && rm -rf DriverNet.buildbin-libdir && mkdir DriverNet.buildbin-libdir && C:\Users\biocbuild\bbs-3.11-bioc\R\bin\R.exe CMD INSTALL --merge-multiarch --build --library=DriverNet.buildbin-libdir DriverNet_1.28.0.tar.gz && C:\Users\biocbuild\bbs-3.11-bioc\R\bin\R.exe CMD INSTALL DriverNet_1.28.0.zip && rm DriverNet_1.28.0.tar.gz DriverNet_1.28.0.zip
###
##############################################################################
##############################################################################
% Total % Received % Xferd Average Speed Time Time Time Current
Dload Upload Total Spent Left Speed
0 0 0 0 0 0 0 0 --:--:-- --:--:-- --:--:-- 0
100 1016k 100 1016k 0 0 13.8M 0 --:--:-- --:--:-- --:--:-- 15.2M
install for i386
* installing *source* package 'DriverNet' ...
** using staged installation
** R
** data
** byte-compile and prepare package for lazy loading
** help
*** installing help indices
converting help for package 'DriverNet'
finding HTML links ... done
DriverNet-package html
DriverNetResult-class html
actualEvents html
computeDrivers html
computeRandomizedResult html
drivers html
getPatientOutlierMatrix html
preprocessMatrices html
resultSummary html
sampleDriversList html
sampleGeneNames html
sampleInfluenceGraph html
samplePatientExpressionMatrix html
samplePatientMutationMatrix html
samplePatientOutlierMatrix html
sampleRandomDriversResult html
totalEvents html
** building package indices
** installing vignettes
** testing if installed package can be loaded from temporary location
** testing if installed package can be loaded from final location
** testing if installed package keeps a record of temporary installation path
install for x64
* installing *source* package 'DriverNet' ...
** testing if installed package can be loaded
* MD5 sums
packaged installation of 'DriverNet' as DriverNet_1.28.0.zip
* DONE (DriverNet)
* installing to library 'C:/Users/biocbuild/bbs-3.11-bioc/R/library'
package 'DriverNet' successfully unpacked and MD5 sums checked