| Back to Multiple platform build/check report for BioC 3.11 |
|
This page was generated on 2020-10-17 11:56:26 -0400 (Sat, 17 Oct 2020).
| TO THE DEVELOPERS/MAINTAINERS OF THE DEFormats PACKAGE: Please make sure to use the following settings in order to reproduce any error or warning you see on this page. |
| Package 441/1905 | Hostname | OS / Arch | INSTALL | BUILD | CHECK | BUILD BIN | ||||||
| DEFormats 1.16.0 Andrzej OleÅ›
| malbec2 | Linux (Ubuntu 18.04.4 LTS) / x86_64 | OK | OK | OK | |||||||
| tokay2 | Windows Server 2012 R2 Standard / x64 | OK | OK | OK | [ OK ] | |||||||
| machv2 | macOS 10.14.6 Mojave / x86_64 | OK | OK | OK | OK |
| Package: DEFormats |
| Version: 1.16.0 |
| Command: rm -rf DEFormats.buildbin-libdir && mkdir DEFormats.buildbin-libdir && C:\Users\biocbuild\bbs-3.11-bioc\R\bin\R.exe CMD INSTALL --merge-multiarch --build --library=DEFormats.buildbin-libdir DEFormats_1.16.0.tar.gz |
| StartedAt: 2020-10-17 10:17:43 -0400 (Sat, 17 Oct 2020) |
| EndedAt: 2020-10-17 10:18:29 -0400 (Sat, 17 Oct 2020) |
| EllapsedTime: 45.7 seconds |
| RetCode: 0 |
| Status: OK |
| PackageFile: DEFormats_1.16.0.zip |
| PackageFileSize: 561 KiB |
##############################################################################
##############################################################################
###
### Running command:
###
### rm -rf DEFormats.buildbin-libdir && mkdir DEFormats.buildbin-libdir && C:\Users\biocbuild\bbs-3.11-bioc\R\bin\R.exe CMD INSTALL --merge-multiarch --build --library=DEFormats.buildbin-libdir DEFormats_1.16.0.tar.gz
###
##############################################################################
##############################################################################
install for i386
* installing *source* package 'DEFormats' ...
** using staged installation
** R
** inst
** byte-compile and prepare package for lazy loading
Creating a generic function for 'DGEList' from 'edgeR' in package 'DEFormats'
(from the saved implicit definition)
** help
*** installing help indices
converting help for package 'DEFormats'
finding HTML links ... done
DEFormats html
finding level-2 HTML links ... done
DGEList html
as.DESeqDataSet html
as.DGEList html
simulateNormFactors html
simulateRnaSeqData html
** building package indices
** installing vignettes
** testing if installed package can be loaded from temporary location
** testing if installed package can be loaded from final location
** testing if installed package keeps a record of temporary installation path
install for x64
* installing *source* package 'DEFormats' ...
** testing if installed package can be loaded
* MD5 sums
packaged installation of 'DEFormats' as DEFormats_1.16.0.zip
* DONE (DEFormats)