| Back to Multiple platform build/check report for BioC 3.11 |
|
This page was generated on 2020-10-17 11:54:38 -0400 (Sat, 17 Oct 2020).
| TO THE DEVELOPERS/MAINTAINERS OF THE DAPAR PACKAGE: Please make sure to use the following settings in order to reproduce any error or warning you see on this page. |
| Package 421/1905 | Hostname | OS / Arch | INSTALL | BUILD | CHECK | BUILD BIN | ||||||
| DAPAR 1.20.3 Samuel Wieczorek
| malbec2 | Linux (Ubuntu 18.04.4 LTS) / x86_64 | OK | OK | [ OK ] | |||||||
| tokay2 | Windows Server 2012 R2 Standard / x64 | OK | OK | OK | OK | |||||||
| machv2 | macOS 10.14.6 Mojave / x86_64 | OK | OK | OK | OK |
| Package: DAPAR |
| Version: 1.20.3 |
| Command: /home/biocbuild/bbs-3.11-bioc/R/bin/R CMD check --install=check:DAPAR.install-out.txt --library=/home/biocbuild/bbs-3.11-bioc/R/library --no-vignettes --timings DAPAR_1.20.3.tar.gz |
| StartedAt: 2020-10-17 00:28:21 -0400 (Sat, 17 Oct 2020) |
| EndedAt: 2020-10-17 00:34:08 -0400 (Sat, 17 Oct 2020) |
| EllapsedTime: 346.9 seconds |
| RetCode: 0 |
| Status: OK |
| CheckDir: DAPAR.Rcheck |
| Warnings: 0 |
##############################################################################
##############################################################################
###
### Running command:
###
### /home/biocbuild/bbs-3.11-bioc/R/bin/R CMD check --install=check:DAPAR.install-out.txt --library=/home/biocbuild/bbs-3.11-bioc/R/library --no-vignettes --timings DAPAR_1.20.3.tar.gz
###
##############################################################################
##############################################################################
* using log directory ‘/home/biocbuild/bbs-3.11-bioc/meat/DAPAR.Rcheck’
* using R version 4.0.3 (2020-10-10)
* using platform: x86_64-pc-linux-gnu (64-bit)
* using session charset: UTF-8
* using option ‘--no-vignettes’
* checking for file ‘DAPAR/DESCRIPTION’ ... OK
* checking extension type ... Package
* this is package ‘DAPAR’ version ‘1.20.3’
* checking package namespace information ... OK
* checking package dependencies ... OK
* checking if this is a source package ... OK
* checking if there is a namespace ... OK
* checking for hidden files and directories ... OK
* checking for portable file names ... OK
* checking for sufficient/correct file permissions ... OK
* checking whether package ‘DAPAR’ can be installed ... OK
* checking installed package size ... OK
* checking package directory ... OK
* checking ‘build’ directory ... OK
* checking DESCRIPTION meta-information ... OK
* checking top-level files ... OK
* checking for left-over files ... OK
* checking index information ... OK
* checking package subdirectories ... OK
* checking R files for non-ASCII characters ... OK
* checking R files for syntax errors ... OK
* checking whether the package can be loaded ... OK
* checking whether the package can be loaded with stated dependencies ... OK
* checking whether the package can be unloaded cleanly ... OK
* checking whether the namespace can be loaded with stated dependencies ... OK
* checking whether the namespace can be unloaded cleanly ... OK
* checking dependencies in R code ... NOTE
Namespace in Imports field not imported from: ‘tidyverse’
All declared Imports should be used.
Package in Depends field not imported from: ‘igraph’
These packages need to be imported from (in the NAMESPACE file)
for when this namespace is loaded but not attached.
* checking S3 generic/method consistency ... OK
* checking replacement functions ... OK
* checking foreign function calls ... OK
* checking R code for possible problems ... NOTE
boxPlotD: warning in axis(side = 1, at = 1:ncol(qData), label =
legend): partial argument match of 'label' to 'labels'
heatmap.DAPAR: warning in axis(1, 1:nc, label = labCol, las = 2, line =
-0.5 + offsetCol, tick = 0, cex.axis = cexCol, hadj = NA, padj = 0):
partial argument match of 'label' to 'labels'
heatmap.DAPAR: warning in axis(1, 1:nc, label = rep("", nc), las = 2,
tick = 0): partial argument match of 'label' to 'labels'
heatmap.DAPAR: warning in axis(4, iy, label = labRow, las = 5, line =
-0.5 + offsetRow, tick = 0, cex.axis = cexRow, hadj = 0, padj = NA):
partial argument match of 'label' to 'labels'
heatmap.DAPAR: warning in axis(4, iy, label = rep("", nr), las = 2,
line = -0.5, tick = 0): partial argument match of 'label' to 'labels'
violinPlotD: warning in axis(side = 1, at = 1:ncol(qData), label = if
(is.vector(legend)) {: partial argument match of 'label' to 'labels'
violinPlotD: warning in legend: partial argument match of 'label' to
'labels'
violinPlotD: warning in } else {: partial argument match of 'label' to
'labels'
violinPlotD: warning in legend[, i]: partial argument match of 'label'
to 'labels'
violinPlotD: warning in }, line = 2 * i - 1): partial argument match of
'label' to 'labels'
aggregateIterParallel: no visible binding for global variable ‘cond’
diffAnaVolcanoplot_rCharts: no visible binding for global variable ‘x’
diffAnaVolcanoplot_rCharts: no visible binding for global variable ‘y’
diffAnaVolcanoplot_rCharts: no visible binding for global variable ‘g’
display.CC.visNet: no visible binding for global variable
‘layout_nicely’
getTextForGOAnalysis: no visible binding for global variable
‘textGOParams’
getTextForGOAnalysis: no visible binding for global variable ‘input’
Undefined global functions or variables:
cond g input layout_nicely textGOParams x y
* checking Rd files ... NOTE
prepare_Rd: plotJitter_rCharts.Rd:20-23: Dropping empty section \examples
* checking Rd metadata ... OK
* checking Rd cross-references ... OK
* checking for missing documentation entries ... OK
* checking for code/documentation mismatches ... OK
* checking Rd \usage sections ... OK
* checking Rd contents ... OK
* checking for unstated dependencies in examples ... OK
* checking files in ‘vignettes’ ... OK
* checking examples ... OK
* checking for unstated dependencies in ‘tests’ ... OK
* checking tests ...
Running ‘testthat.R’
OK
* checking for unstated dependencies in vignettes ... OK
* checking package vignettes in ‘inst/doc’ ... OK
* checking running R code from vignettes ... SKIPPED
* checking re-building of vignette outputs ... SKIPPED
* checking PDF version of manual ... OK
* DONE
Status: 3 NOTEs
See
‘/home/biocbuild/bbs-3.11-bioc/meat/DAPAR.Rcheck/00check.log’
for details.
DAPAR.Rcheck/00install.out
############################################################################## ############################################################################## ### ### Running command: ### ### /home/biocbuild/bbs-3.11-bioc/R/bin/R CMD INSTALL DAPAR ### ############################################################################## ############################################################################## * installing to library ‘/home/biocbuild/bbs-3.11-bioc/R/library’ * installing *source* package ‘DAPAR’ ... ** using staged installation ** R ** inst ** byte-compile and prepare package for lazy loading ** help *** installing help indices ** building package indices ** installing vignettes ** testing if installed package can be loaded from temporary location ** testing if installed package can be loaded from final location ** testing if installed package keeps a record of temporary installation path * DONE (DAPAR)
DAPAR.Rcheck/tests/testthat.Rout
R version 4.0.3 (2020-10-10) -- "Bunny-Wunnies Freak Out"
Copyright (C) 2020 The R Foundation for Statistical Computing
Platform: x86_64-pc-linux-gnu (64-bit)
R is free software and comes with ABSOLUTELY NO WARRANTY.
You are welcome to redistribute it under certain conditions.
Type 'license()' or 'licence()' for distribution details.
R is a collaborative project with many contributors.
Type 'contributors()' for more information and
'citation()' on how to cite R or R packages in publications.
Type 'demo()' for some demos, 'help()' for on-line help, or
'help.start()' for an HTML browser interface to help.
Type 'q()' to quit R.
> library(testthat)
> library(DAPAR)
Loading required package: foreach
Loading required package: parallel
Loading required package: doParallel
Loading required package: iterators
Loading required package: igraph
Attaching package: 'igraph'
The following object is masked from 'package:testthat':
compare
The following objects are masked from 'package:stats':
decompose, spectrum
The following object is masked from 'package:base':
union
>
> test_check("DAPAR")
══ testthat results ═══════════════════════════════════════════════════════════
[ OK: 0 | SKIPPED: 0 | WARNINGS: 0 | FAILED: 0 ]
>
> proc.time()
user system elapsed
15.929 0.670 16.650
DAPAR.Rcheck/DAPAR-Ex.timings
| name | user | system | elapsed | |
| BuildAdjacencyMatrix | 1.438 | 0.064 | 1.518 | |
| BuildColumnToProteinDataset | 4.164 | 0.265 | 4.415 | |
| BuildColumnToProteinDataset_par | 0.001 | 0.000 | 0.000 | |
| CVDistD | 0 | 0 | 0 | |
| CVDistD_HC | 3.073 | 1.034 | 4.466 | |
| CountPep | 0.590 | 0.040 | 0.627 | |
| GetDetailedNbPeptides | 0.297 | 0.023 | 0.320 | |
| Get_AllComparisons | 0.484 | 0.016 | 0.497 | |
| GraphPepProt | 0.323 | 0.004 | 0.327 | |
| NumericalFiltering | 0.299 | 0.000 | 0.298 | |
| NumericalgetIndicesOfLinesToRemove | 0.222 | 0.000 | 0.222 | |
| StringBasedFiltering | 0.407 | 0.011 | 0.416 | |
| StringBasedFiltering2 | 0.306 | 0.012 | 0.315 | |
| addOriginOfValue | 0.218 | 0.004 | 0.222 | |
| aggregateIter | 2.035 | 0.059 | 2.087 | |
| aggregateIterParallel | 3.624 | 1.164 | 3.227 | |
| aggregateMean | 0.420 | 0.012 | 0.431 | |
| aggregateSum | 0.434 | 0.008 | 0.440 | |
| aggregateTopn | 2.179 | 0.081 | 2.246 | |
| boxPlotD | 0.452 | 0.000 | 0.452 | |
| boxPlotD_HC | 0 | 0 | 0 | |
| buildGraph | 0 | 0 | 0 | |
| check.conditions | 0.400 | 0.006 | 0.404 | |
| check.design | 0.407 | 0.000 | 0.407 | |
| compareNormalizationD | 1.347 | 0.014 | 1.363 | |
| compareNormalizationD_HC | 3.079 | 0.635 | 3.569 | |
| compute.t.tests | 1.141 | 0.109 | 1.220 | |
| corrMatrixD | 1.818 | 0.019 | 1.834 | |
| corrMatrixD_HC | 0.439 | 0.016 | 0.452 | |
| createMSnset | 0.794 | 0.044 | 0.869 | |
| deleteLinesFromIndices | 0.320 | 0.000 | 0.319 | |
| densityPlotD | 0.239 | 0.000 | 0.238 | |
| densityPlotD_HC | 1.453 | 0.269 | 1.640 | |
| diffAnaComputeFDR | 0.264 | 0.000 | 0.263 | |
| diffAnaGetSignificant | 0.440 | 0.008 | 0.445 | |
| diffAnaSave | 0.450 | 0.008 | 0.455 | |
| diffAnaVolcanoplot | 0.272 | 0.000 | 0.271 | |
| diffAnaVolcanoplot_rCharts | 0 | 0 | 0 | |
| display.CC.visNet | 0.001 | 0.000 | 0.000 | |
| enrich_GO | 0 | 0 | 0 | |
| findMECBlock | 0.239 | 0.000 | 0.239 | |
| formatLimmaResult | 0.322 | 0.015 | 0.336 | |
| get.pep.prot.cc | 1.538 | 0.012 | 1.547 | |
| getIndicesConditions | 0.372 | 0.000 | 0.371 | |
| getIndicesOfLinesToRemove | 0.38 | 0.00 | 0.38 | |
| getListNbValuesInLines | 0.442 | 0.003 | 0.444 | |
| getNumberOf | 0.373 | 0.001 | 0.375 | |
| getNumberOfEmptyLines | 0.432 | 0.000 | 0.433 | |
| getPourcentageOfMV | 0.391 | 0.004 | 0.394 | |
| getProcessingInfo | 0.377 | 0.004 | 0.382 | |
| getProteinsStats | 0.495 | 0.004 | 0.498 | |
| getQuantile4Imp | 0.398 | 0.002 | 0.400 | |
| getTextForAggregation | 0 | 0 | 0 | |
| getTextForAnaDiff | 0.001 | 0.000 | 0.001 | |
| getTextForFiltering | 0 | 0 | 0 | |
| getTextForGOAnalysis | 0.001 | 0.000 | 0.001 | |
| getTextForHypothesisTest | 0.001 | 0.000 | 0.001 | |
| getTextForNewDataset | 0.003 | 0.000 | 0.003 | |
| getTextForNormalization | 0 | 0 | 0 | |
| getTextForpeptideImputation | 0.001 | 0.000 | 0.000 | |
| getTextForproteinImputation | 0.001 | 0.000 | 0.001 | |
| group_GO | 0 | 0 | 0 | |
| hc_logFC_DensityPlot | 0.746 | 0.130 | 0.854 | |
| hc_mvTypePlot2 | 2.988 | 0.362 | 3.258 | |
| heatmap.DAPAR | 0.824 | 0.003 | 0.825 | |
| heatmapD | 0 | 0 | 0 | |
| histPValue_HC | 0.699 | 0.016 | 0.711 | |
| impute.detQuant | 0.758 | 0.234 | 0.992 | |
| impute.pa2 | 0.561 | 0.064 | 0.626 | |
| is.MV | 0.708 | 0.257 | 0.957 | |
| is.OfType | 0.636 | 0.182 | 0.811 | |
| limmaCompleteTest | 0.527 | 0.012 | 0.538 | |
| make.contrast | 0.391 | 0.000 | 0.390 | |
| make.design.1 | 0.399 | 0.003 | 0.402 | |
| make.design.2 | 0.000 | 0.000 | 0.001 | |
| make.design.3 | 0.433 | 0.007 | 0.440 | |
| make.design | 0.381 | 0.000 | 0.381 | |
| mvFilter | 0.420 | 0.003 | 0.422 | |
| mvFilterFromIndices | 0.389 | 0.004 | 0.393 | |
| mvFilterGetIndices | 0.485 | 0.044 | 0.529 | |
| mvHisto | 0.268 | 0.000 | 0.268 | |
| mvHisto_HC | 0.321 | 0.008 | 0.327 | |
| mvImage | 3.713 | 0.125 | 3.809 | |
| mvPerLinesHisto | 0.501 | 0.000 | 0.502 | |
| mvPerLinesHistoPerCondition | 0.425 | 0.000 | 0.425 | |
| mvPerLinesHistoPerCondition_HC | 0.513 | 0.007 | 0.520 | |
| mvPerLinesHisto_HC | 0.461 | 0.012 | 0.471 | |
| my_hc_ExportMenu | 0.160 | 0.033 | 0.251 | |
| my_hc_chart | 0.157 | 0.040 | 0.197 | |
| nonzero | 0.024 | 0.001 | 0.026 | |
| plotJitter | 2.066 | 0.003 | 2.068 | |
| plotPCA_Eigen | 0.377 | 0.000 | 0.377 | |
| plotPCA_Eigen_hc | 0.390 | 0.004 | 0.394 | |
| plotPCA_Ind | 0.389 | 0.000 | 0.389 | |
| plotPCA_Var | 0.384 | 0.003 | 0.387 | |
| proportionConRev_HC | 0.056 | 0.021 | 0.075 | |
| rbindMSnset | 0.520 | 0.003 | 0.524 | |
| reIntroduceMEC | 0.595 | 0.004 | 0.598 | |
| removeLines | 0.391 | 0.000 | 0.391 | |
| saveParameters | 0.257 | 0.000 | 0.256 | |
| setMEC | 0.320 | 0.007 | 0.326 | |
| test.design | 0.391 | 0.000 | 0.391 | |
| translatedRandomBeta | 0.006 | 0.000 | 0.006 | |
| violinPlotD | 1.204 | 0.011 | 1.214 | |
| wrapper.CVDistD | 0.001 | 0.000 | 0.000 | |
| wrapper.CVDistD_HC | 3.172 | 1.092 | 3.923 | |
| wrapper.compareNormalizationD | 1.149 | 0.007 | 1.156 | |
| wrapper.compareNormalizationD_HC | 0 | 0 | 0 | |
| wrapper.corrMatrixD | 1.937 | 0.027 | 1.959 | |
| wrapper.corrMatrixD_HC | 0.373 | 0.016 | 0.385 | |
| wrapper.dapar.impute.mi | 0.001 | 0.000 | 0.000 | |
| wrapper.hc_mvTypePlot2 | 2.513 | 0.416 | 2.824 | |
| wrapper.heatmapD | 0 | 0 | 0 | |
| wrapper.impute.KNN | 0.270 | 0.004 | 0.273 | |
| wrapper.impute.detQuant | 0.243 | 0.004 | 0.247 | |
| wrapper.impute.fixedValue | 0.281 | 0.003 | 0.285 | |
| wrapper.impute.mle | 0.282 | 0.004 | 0.285 | |
| wrapper.impute.pa | 0.352 | 0.049 | 0.386 | |
| wrapper.impute.pa2 | 0.378 | 0.085 | 0.446 | |
| wrapper.impute.slsa | 1.878 | 0.052 | 1.909 | |
| wrapper.mvHisto | 0.241 | 0.004 | 0.245 | |
| wrapper.mvHisto_HC | 0.269 | 0.004 | 0.272 | |
| wrapper.mvImage | 0.458 | 0.016 | 0.471 | |
| wrapper.mvPerLinesHisto | 0.304 | 0.000 | 0.304 | |
| wrapper.mvPerLinesHistoPerCondition | 0.238 | 0.000 | 0.239 | |
| wrapper.mvPerLinesHistoPerCondition_HC | 0.282 | 0.007 | 0.289 | |
| wrapper.mvPerLinesHisto_HC | 0.226 | 0.000 | 0.226 | |
| wrapper.normalizeD | 0.24 | 0.00 | 0.24 | |
| wrapper.pca | 0.286 | 0.008 | 0.292 | |
| wrapper.t_test_Complete | 0.258 | 0.000 | 0.257 | |
| wrapperCalibrationPlot | 0.302 | 0.000 | 0.302 | |
| writeMSnsetToCSV | 0.001 | 0.000 | 0.000 | |
| writeMSnsetToExcel | 0 | 0 | 0 | |