| Back to Multiple platform build/check report for BioC 3.11 |
|
This page was generated on 2020-10-17 11:58:20 -0400 (Sat, 17 Oct 2020).
| TO THE DEVELOPERS/MAINTAINERS OF THE DAPAR PACKAGE: Please make sure to use the following settings in order to reproduce any error or warning you see on this page. |
| Package 421/1905 | Hostname | OS / Arch | INSTALL | BUILD | CHECK | BUILD BIN | ||||||
| DAPAR 1.20.3 Samuel Wieczorek
| malbec2 | Linux (Ubuntu 18.04.4 LTS) / x86_64 | OK | OK | OK | |||||||
| tokay2 | Windows Server 2012 R2 Standard / x64 | OK | OK | OK | OK | |||||||
| machv2 | macOS 10.14.6 Mojave / x86_64 | OK | OK | OK | [ OK ] |
| Package: DAPAR |
| Version: 1.20.3 |
| Command: rm -rf DAPAR.buildbin-libdir && mkdir DAPAR.buildbin-libdir && /Users/biocbuild/BBS/utils/build-universal.sh DAPAR_1.20.3.tar.gz /Library/Frameworks/R.framework/Versions/Current/Resources/bin/R DAPAR.buildbin-libdir |
| StartedAt: 2020-10-17 06:54:04 -0400 (Sat, 17 Oct 2020) |
| EndedAt: 2020-10-17 06:54:57 -0400 (Sat, 17 Oct 2020) |
| EllapsedTime: 53.4 seconds |
| RetCode: 0 |
| Status: OK |
| PackageFile: DAPAR_1.20.3.tgz |
| PackageFileSize: 2.091 MiB |
############################################################################## ############################################################################## ### ### Running command: ### ### rm -rf DAPAR.buildbin-libdir && mkdir DAPAR.buildbin-libdir && /Users/biocbuild/BBS/utils/build-universal.sh DAPAR_1.20.3.tar.gz /Library/Frameworks/R.framework/Versions/Current/Resources/bin/R DAPAR.buildbin-libdir ### ############################################################################## ############################################################################## >>>>>>> >>>>>>> INSTALLATION WITH 'R CMD INSTALL --preclean --no-multiarch --library=DAPAR.buildbin-libdir DAPAR_1.20.3.tar.gz' >>>>>>> * installing *source* package ‘DAPAR’ ... ** using staged installation ** R ** inst ** byte-compile and prepare package for lazy loading ** help *** installing help indices ** building package indices ** installing vignettes ** testing if installed package can be loaded from temporary location ** testing if installed package can be loaded from final location ** testing if installed package keeps a record of temporary installation path * DONE (DAPAR)