| Back to Multiple platform build/check report for BioC 3.11 |
|
This page was generated on 2020-10-17 11:54:36 -0400 (Sat, 17 Oct 2020).
| TO THE DEVELOPERS/MAINTAINERS OF THE CopyNumberPlots PACKAGE: Please make sure to use the following settings in order to reproduce any error or warning you see on this page. |
| Package 371/1905 | Hostname | OS / Arch | INSTALL | BUILD | CHECK | BUILD BIN | ||||||
| CopyNumberPlots 1.4.0 Bernat Gel
| malbec2 | Linux (Ubuntu 18.04.4 LTS) / x86_64 | OK | OK | [ OK ] | |||||||
| tokay2 | Windows Server 2012 R2 Standard / x64 | OK | OK | OK | OK | |||||||
| machv2 | macOS 10.14.6 Mojave / x86_64 | OK | OK | OK | OK |
| Package: CopyNumberPlots |
| Version: 1.4.0 |
| Command: /home/biocbuild/bbs-3.11-bioc/R/bin/R CMD check --install=check:CopyNumberPlots.install-out.txt --library=/home/biocbuild/bbs-3.11-bioc/R/library --no-vignettes --timings CopyNumberPlots_1.4.0.tar.gz |
| StartedAt: 2020-10-17 00:14:25 -0400 (Sat, 17 Oct 2020) |
| EndedAt: 2020-10-17 00:21:05 -0400 (Sat, 17 Oct 2020) |
| EllapsedTime: 399.9 seconds |
| RetCode: 0 |
| Status: OK |
| CheckDir: CopyNumberPlots.Rcheck |
| Warnings: 0 |
############################################################################## ############################################################################## ### ### Running command: ### ### /home/biocbuild/bbs-3.11-bioc/R/bin/R CMD check --install=check:CopyNumberPlots.install-out.txt --library=/home/biocbuild/bbs-3.11-bioc/R/library --no-vignettes --timings CopyNumberPlots_1.4.0.tar.gz ### ############################################################################## ############################################################################## * using log directory ‘/home/biocbuild/bbs-3.11-bioc/meat/CopyNumberPlots.Rcheck’ * using R version 4.0.3 (2020-10-10) * using platform: x86_64-pc-linux-gnu (64-bit) * using session charset: UTF-8 * using option ‘--no-vignettes’ * checking for file ‘CopyNumberPlots/DESCRIPTION’ ... OK * checking extension type ... Package * this is package ‘CopyNumberPlots’ version ‘1.4.0’ * package encoding: UTF-8 * checking package namespace information ... OK * checking package dependencies ... OK * checking if this is a source package ... OK * checking if there is a namespace ... OK * checking for hidden files and directories ... OK * checking for portable file names ... OK * checking for sufficient/correct file permissions ... OK * checking whether package ‘CopyNumberPlots’ can be installed ... OK * checking installed package size ... OK * checking package directory ... OK * checking ‘build’ directory ... OK * checking DESCRIPTION meta-information ... OK * checking top-level files ... OK * checking for left-over files ... OK * checking index information ... OK * checking package subdirectories ... OK * checking R files for non-ASCII characters ... OK * checking R files for syntax errors ... OK * checking whether the package can be loaded ... OK * checking whether the package can be loaded with stated dependencies ... OK * checking whether the package can be unloaded cleanly ... OK * checking whether the namespace can be loaded with stated dependencies ... OK * checking whether the namespace can be unloaded cleanly ... OK * checking dependencies in R code ... OK * checking S3 generic/method consistency ... OK * checking replacement functions ... OK * checking foreign function calls ... OK * checking R code for possible problems ... OK * checking Rd files ... OK * checking Rd metadata ... OK * checking Rd cross-references ... OK * checking for missing documentation entries ... OK * checking for code/documentation mismatches ... OK * checking Rd \usage sections ... OK * checking Rd contents ... OK * checking for unstated dependencies in examples ... OK * checking files in ‘vignettes’ ... OK * checking examples ... OK * checking for unstated dependencies in ‘tests’ ... OK * checking tests ... Running ‘testthat.R’ OK * checking for unstated dependencies in vignettes ... OK * checking package vignettes in ‘inst/doc’ ... OK * checking running R code from vignettes ... SKIPPED * checking re-building of vignette outputs ... SKIPPED * checking PDF version of manual ... OK * DONE Status: OK
CopyNumberPlots.Rcheck/00install.out
############################################################################## ############################################################################## ### ### Running command: ### ### /home/biocbuild/bbs-3.11-bioc/R/bin/R CMD INSTALL CopyNumberPlots ### ############################################################################## ############################################################################## * installing to library ‘/home/biocbuild/bbs-3.11-bioc/R/library’ * installing *source* package ‘CopyNumberPlots’ ... ** using staged installation ** R ** inst ** byte-compile and prepare package for lazy loading ** help *** installing help indices ** building package indices ** installing vignettes ** testing if installed package can be loaded from temporary location ** testing if installed package can be loaded from final location ** testing if installed package keeps a record of temporary installation path * DONE (CopyNumberPlots)
CopyNumberPlots.Rcheck/tests/testthat.Rout
R version 4.0.3 (2020-10-10) -- "Bunny-Wunnies Freak Out"
Copyright (C) 2020 The R Foundation for Statistical Computing
Platform: x86_64-pc-linux-gnu (64-bit)
R is free software and comes with ABSOLUTELY NO WARRANTY.
You are welcome to redistribute it under certain conditions.
Type 'license()' or 'licence()' for distribution details.
R is a collaborative project with many contributors.
Type 'contributors()' for more information and
'citation()' on how to cite R or R packages in publications.
Type 'demo()' for some demos, 'help()' for on-line help, or
'help.start()' for an HTML browser interface to help.
Type 'q()' to quit R.
> library(testthat)
> library(CopyNumberPlots)
Loading required package: karyoploteR
Loading required package: regioneR
Loading required package: GenomicRanges
Loading required package: stats4
Loading required package: BiocGenerics
Loading required package: parallel
Attaching package: 'BiocGenerics'
The following objects are masked from 'package:parallel':
clusterApply, clusterApplyLB, clusterCall, clusterEvalQ,
clusterExport, clusterMap, parApply, parCapply, parLapply,
parLapplyLB, parRapply, parSapply, parSapplyLB
The following objects are masked from 'package:stats':
IQR, mad, sd, var, xtabs
The following objects are masked from 'package:base':
Filter, Find, Map, Position, Reduce, anyDuplicated, append,
as.data.frame, basename, cbind, colnames, dirname, do.call,
duplicated, eval, evalq, get, grep, grepl, intersect, is.unsorted,
lapply, mapply, match, mget, order, paste, pmax, pmax.int, pmin,
pmin.int, rank, rbind, rownames, sapply, setdiff, sort, table,
tapply, union, unique, unsplit, which, which.max, which.min
Loading required package: S4Vectors
Attaching package: 'S4Vectors'
The following object is masked from 'package:base':
expand.grid
Loading required package: IRanges
Loading required package: GenomeInfoDb
>
> test_check("CopyNumberPlots")
══ testthat results ═══════════════════════════════════════════════════════════
[ OK: 26 | SKIPPED: 0 | WARNINGS: 0 | FAILED: 0 ]
>
> proc.time()
user system elapsed
21.548 0.572 25.086
CopyNumberPlots.Rcheck/CopyNumberPlots-Ex.timings
| name | user | system | elapsed | |
| EnsemblStyle | 0.452 | 0.004 | 0.456 | |
| UCSCStyle | 0.430 | 0.008 | 0.438 | |
| Ztree2Hclust | 0.004 | 0.004 | 0.008 | |
| colByCopyNumber | 0.745 | 0.008 | 0.753 | |
| computeHclustPlotOrder | 0.03 | 0.00 | 0.03 | |
| getBAFColumn | 0.003 | 0.000 | 0.003 | |
| getChrColumn | 0.003 | 0.000 | 0.003 | |
| getColumn | 0.004 | 0.000 | 0.004 | |
| getCopyNumberColors | 0.001 | 0.000 | 0.001 | |
| getCopyNumberColumn | 0.003 | 0.000 | 0.003 | |
| getEndColumn | 0.003 | 0.000 | 0.003 | |
| getIDColumn | 0.003 | 0.000 | 0.003 | |
| getLOHColumn | 0.003 | 0.000 | 0.003 | |
| getLRRColumn | 0.003 | 0.000 | 0.003 | |
| getPosColumn | 0.003 | 0.000 | 0.002 | |
| getSegmentValueColumn | 0.003 | 0.000 | 0.002 | |
| getStartColumn | 0.003 | 0.000 | 0.003 | |
| loadCopyNumberCalls | 0.036 | 0.000 | 0.037 | |
| loadCopyNumberCallsCNVkit | 0.895 | 0.000 | 0.908 | |
| loadCopyNumberCallsCnmops | 0.168 | 0.000 | 0.168 | |
| loadCopyNumberCallsDECoN | 0.07 | 0.00 | 0.07 | |
| loadCopyNumberCallsDNAcopy | 0.798 | 0.003 | 0.805 | |
| loadCopyNumberCallsPanelcnmops | 0.322 | 0.004 | 0.353 | |
| loadCopyNumberCallsSeg | 0.017 | 0.000 | 0.017 | |
| loadCopyNumberCallspennCNV | 0.034 | 0.000 | 0.034 | |
| loadSNPData | 0.047 | 0.004 | 0.051 | |
| loadSNPDataDNAcopy | 0.813 | 0.008 | 0.821 | |
| loadSNPDataFromVCF | 0.001 | 0.000 | 0.001 | |
| plotBAF | 1.632 | 0.064 | 1.697 | |
| plotCopyNumberCalls | 0.560 | 0.000 | 0.561 | |
| plotCopyNumberCallsAsLines | 0.814 | 0.016 | 0.830 | |
| plotCopyNumberSummary | 1.825 | 0.004 | 1.830 | |
| plotLRR | 0.467 | 0.000 | 0.467 | |
| plotSingleCellCopyNumberCalls | 0.06 | 0.00 | 0.06 | |
| plotSingleCellCopyNumberSummary | 0.038 | 0.000 | 0.038 | |
| prepareLabels | 0.085 | 0.000 | 0.085 | |
| readHDF5Ztree | 0 | 0 | 0 | |
| removeNAs | 0.176 | 0.000 | 0.175 | |
| transformChr | 0.004 | 0.000 | 0.004 | |