| Back to Multiple platform build/check report for BioC 3.11 |
|
This page was generated on 2020-10-17 11:56:17 -0400 (Sat, 17 Oct 2020).
| TO THE DEVELOPERS/MAINTAINERS OF THE ClassifyR PACKAGE: Please make sure to use the following settings in order to reproduce any error or warning you see on this page. |
| Package 304/1905 | Hostname | OS / Arch | INSTALL | BUILD | CHECK | BUILD BIN | ||||||
| ClassifyR 2.8.0 Dario Strbenac
| malbec2 | Linux (Ubuntu 18.04.4 LTS) / x86_64 | OK | OK | OK | |||||||
| tokay2 | Windows Server 2012 R2 Standard / x64 | [ OK ] | OK | WARNINGS | OK | |||||||
| machv2 | macOS 10.14.6 Mojave / x86_64 | OK | OK | OK | OK |
| Package: ClassifyR |
| Version: 2.8.0 |
| Command: C:\cygwin\bin\curl.exe -O https://malbec2.bioconductor.org/BBS/3.11/bioc/src/contrib/ClassifyR_2.8.0.tar.gz && rm -rf ClassifyR.buildbin-libdir && mkdir ClassifyR.buildbin-libdir && C:\Users\biocbuild\bbs-3.11-bioc\R\bin\R.exe CMD INSTALL --merge-multiarch --build --library=ClassifyR.buildbin-libdir ClassifyR_2.8.0.tar.gz && C:\Users\biocbuild\bbs-3.11-bioc\R\bin\R.exe CMD INSTALL ClassifyR_2.8.0.zip && rm ClassifyR_2.8.0.tar.gz ClassifyR_2.8.0.zip |
| StartedAt: 2020-10-16 18:22:41 -0400 (Fri, 16 Oct 2020) |
| EndedAt: 2020-10-16 18:24:03 -0400 (Fri, 16 Oct 2020) |
| EllapsedTime: 81.5 seconds |
| RetCode: 0 |
| Status: OK |
##############################################################################
##############################################################################
###
### Running command:
###
### C:\cygwin\bin\curl.exe -O https://malbec2.bioconductor.org/BBS/3.11/bioc/src/contrib/ClassifyR_2.8.0.tar.gz && rm -rf ClassifyR.buildbin-libdir && mkdir ClassifyR.buildbin-libdir && C:\Users\biocbuild\bbs-3.11-bioc\R\bin\R.exe CMD INSTALL --merge-multiarch --build --library=ClassifyR.buildbin-libdir ClassifyR_2.8.0.tar.gz && C:\Users\biocbuild\bbs-3.11-bioc\R\bin\R.exe CMD INSTALL ClassifyR_2.8.0.zip && rm ClassifyR_2.8.0.tar.gz ClassifyR_2.8.0.zip
###
##############################################################################
##############################################################################
% Total % Received % Xferd Average Speed Time Time Time Current
Dload Upload Total Spent Left Speed
0 0 0 0 0 0 0 0 --:--:-- --:--:-- --:--:-- 0
100 1004k 100 1004k 0 0 3960k 0 --:--:-- --:--:-- --:--:-- 4066k
install for i386
* installing *source* package 'ClassifyR' ...
** using staged installation
** R
** data
** inst
** byte-compile and prepare package for lazy loading
** help
*** installing help indices
converting help for package 'ClassifyR'
finding HTML links ... done
ClassifyResult-class html
finding level-2 HTML links ... done
DLDAinterface html
DMDselection html
EasyHardClassifier-class html
FeatureSetCollection-class html
FeatureSetCollectionOrNULL-class html
KolmogorovSmirnovSelection html
KullbackLeiblerSelection html
MixModelsListsSet-class html
NSCpredictInterface html
NSCselectionInterface html
NSCtrainInterface html
PredictParams-class html
ROCplot html
ResubstituteParams-class html
SVMinterface html
SelectParams-class html
SelectResult-class html
TrainParams-class html
TransformParams-class html
asthmaDataset html
bartlettSelection html
calcPerformance html
characterOrDataFrame-class html
classifyInterface html
differentMeansSelection html
Rd warning: C:/Users/biocbuild/bbs-3.11-bioc/tmpdir/RtmpktZfwe/R.INSTALL2128198f63ab/ClassifyR/man/differentMeansSelection.Rd:40: file link 'rowttests' in package 'genefilter' does not exist and so has been treated as a topic
distribution html
Rd warning: C:/Users/biocbuild/bbs-3.11-bioc/tmpdir/RtmpktZfwe/R.INSTALL2128198f63ab/ClassifyR/man/distribution.Rd:32: file link 'stat_density' in package 'ggplot2' does not exist and so has been treated as a topic
dlda-class html
easyHardClassifier html
easyHardFeatures html
edgeRselection html
Rd warning: C:/Users/biocbuild/bbs-3.11-bioc/tmpdir/RtmpktZfwe/R.INSTALL2128198f63ab/ClassifyR/man/edgeRselection.Rd:45: file link 'edgeR' in package 'edgeR' does not exist and so has been treated as a topic
edgesToHubNetworks html
elasticNetFeatures html
elasticNetGLMinterface html
featureSetSummary html
fisherDiscriminant html
forestFeatures html
functionOrList-class html
functionOrNULL-class html
getLocationsAndScales html
integerOrNumeric-class html
interactorDifferences html
kTSPclassifier html
knnInterface html
leveneSelection html
likelihoodRatioSelection html
limmaSelection html
listOrCharacterOrNULL-class html
listOrNULL-class html
mixmodels html
multnet-class html
naiveBayesKernel html
networkCorrelationsSelection html
pairsDifferencesSelection html
pamrtrained-class html
performancePlot html
plotFeatureClasses html
previousSelection html
previousTrained html
randomForest-class html
randomForestInterface html
rankingPlot html
runTest html
runTests html
samplesMetricMap html
selectionPlot html
subtractFromLocation html
svm-class html
** building package indices
** installing vignettes
** testing if installed package can be loaded from temporary location
** testing if installed package can be loaded from final location
** testing if installed package keeps a record of temporary installation path
install for x64
* installing *source* package 'ClassifyR' ...
** testing if installed package can be loaded
* MD5 sums
packaged installation of 'ClassifyR' as ClassifyR_2.8.0.zip
* DONE (ClassifyR)
* installing to library 'C:/Users/biocbuild/bbs-3.11-bioc/R/library'
package 'ClassifyR' successfully unpacked and MD5 sums checked