| Back to Multiple platform build/check report for BioC 3.11 |
|
This page was generated on 2020-10-17 11:54:33 -0400 (Sat, 17 Oct 2020).
| TO THE DEVELOPERS/MAINTAINERS OF THE ClassifyR PACKAGE: Please make sure to use the following settings in order to reproduce any error or warning you see on this page. |
| Package 304/1905 | Hostname | OS / Arch | INSTALL | BUILD | CHECK | BUILD BIN | ||||||
| ClassifyR 2.8.0 Dario Strbenac
| malbec2 | Linux (Ubuntu 18.04.4 LTS) / x86_64 | OK | OK | [ OK ] | |||||||
| tokay2 | Windows Server 2012 R2 Standard / x64 | OK | OK | WARNINGS | OK | |||||||
| machv2 | macOS 10.14.6 Mojave / x86_64 | OK | OK | OK | OK |
| Package: ClassifyR |
| Version: 2.8.0 |
| Command: /home/biocbuild/bbs-3.11-bioc/R/bin/R CMD check --install=check:ClassifyR.install-out.txt --library=/home/biocbuild/bbs-3.11-bioc/R/library --no-vignettes --timings ClassifyR_2.8.0.tar.gz |
| StartedAt: 2020-10-16 23:55:41 -0400 (Fri, 16 Oct 2020) |
| EndedAt: 2020-10-17 00:01:03 -0400 (Sat, 17 Oct 2020) |
| EllapsedTime: 321.5 seconds |
| RetCode: 0 |
| Status: OK |
| CheckDir: ClassifyR.Rcheck |
| Warnings: 0 |
##############################################################################
##############################################################################
###
### Running command:
###
### /home/biocbuild/bbs-3.11-bioc/R/bin/R CMD check --install=check:ClassifyR.install-out.txt --library=/home/biocbuild/bbs-3.11-bioc/R/library --no-vignettes --timings ClassifyR_2.8.0.tar.gz
###
##############################################################################
##############################################################################
* using log directory ‘/home/biocbuild/bbs-3.11-bioc/meat/ClassifyR.Rcheck’
* using R version 4.0.3 (2020-10-10)
* using platform: x86_64-pc-linux-gnu (64-bit)
* using session charset: UTF-8
* using option ‘--no-vignettes’
* checking for file ‘ClassifyR/DESCRIPTION’ ... OK
* checking extension type ... Package
* this is package ‘ClassifyR’ version ‘2.8.0’
* checking package namespace information ... OK
* checking package dependencies ... OK
* checking if this is a source package ... OK
* checking if there is a namespace ... OK
* checking for hidden files and directories ... OK
* checking for portable file names ... OK
* checking for sufficient/correct file permissions ... OK
* checking whether package ‘ClassifyR’ can be installed ... OK
* checking installed package size ... OK
* checking package directory ... OK
* checking ‘build’ directory ... OK
* checking DESCRIPTION meta-information ... OK
* checking top-level files ... OK
* checking for left-over files ... OK
* checking index information ... OK
* checking package subdirectories ... OK
* checking R files for non-ASCII characters ... OK
* checking R files for syntax errors ... OK
* checking whether the package can be loaded ... OK
* checking whether the package can be loaded with stated dependencies ... OK
* checking whether the package can be unloaded cleanly ... OK
* checking whether the namespace can be loaded with stated dependencies ... OK
* checking whether the namespace can be unloaded cleanly ... OK
* checking dependencies in R code ... OK
* checking S3 generic/method consistency ... OK
* checking replacement functions ... OK
* checking foreign function calls ... OK
* checking R code for possible problems ... NOTE
.posterior_probs : <anonymous>: no visible global function definition
for ‘dmvnorm’
easyHardClassifierPredict,EasyHardClassifier-MultiAssayExperiment: no
visible binding for global variable ‘measurements’
kTSPclassifier,DataFrame : <anonymous>: no visible global function
definition for ‘Pairs’
plotFeatureClasses,DataFrame : <anonymous>: no visible binding for
global variable ‘measurement’
plotFeatureClasses,DataFrame : <anonymous>: no visible binding for
global variable ‘..density..’
plotFeatureClasses,DataFrame : <anonymous>: no visible binding for
global variable ‘legends grouping’
plotFeatureClasses,DataFrame : <anonymous>: no visible binding for
global variable ‘key’
plotFeatureClasses,DataFrame : <anonymous>: no visible binding for
global variable ‘value’
plotFeatureClasses,DataFrame : <anonymous>: no visible binding for
global variable ‘ID’
rankingPlot,list : <anonymous> : <anonymous>: no visible global
function definition for ‘first’
rankingPlot,list : <anonymous> : <anonymous>: no visible global
function definition for ‘second’
rankingPlot,list : <anonymous> : <anonymous> : <anonymous>: no visible
global function definition for ‘first’
rankingPlot,list : <anonymous> : <anonymous> : <anonymous>: no visible
global function definition for ‘second’
runTest,DataFrame: no visible binding for global variable ‘setsNodes’
runTestEasyHard,MultiAssayExperiment: no visible binding for global
variable ‘setsNodes’
runTests,DataFrame: no visible binding for global variable ‘setsNodes’
runTestsEasyHard,MultiAssayExperiment: no visible binding for global
variable ‘setsNodes’
runTestsEasyHard,MultiAssayExperiment: no visible binding for global
variable ‘.iteration’
samplesMetricMap,list: no visible binding for global variable ‘Class’
samplesMetricMap,list: no visible binding for global variable ‘Group’
samplesMetricMap,list: no visible binding for global variable
‘measurements’
samplesMetricMap,list: no visible binding for global variable ‘name’
samplesMetricMap,list: no visible binding for global variable ‘type’
samplesMetricMap,list: no visible binding for global variable ‘Metric’
samplesMetricMap,matrix: no visible binding for global variable ‘Class’
samplesMetricMap,matrix: no visible binding for global variable ‘Group’
samplesMetricMap,matrix: no visible binding for global variable
‘measurements’
samplesMetricMap,matrix: no visible binding for global variable ‘name’
samplesMetricMap,matrix: no visible binding for global variable ‘type’
samplesMetricMap,matrix: no visible binding for global variable
‘Metric’
selectionPlot,list : <anonymous> : <anonymous>: no visible global
function definition for ‘first’
selectionPlot,list : <anonymous> : <anonymous>: no visible global
function definition for ‘second’
selectionPlot,list : <anonymous> : <anonymous> : <anonymous>: no
visible global function definition for ‘first’
selectionPlot,list : <anonymous> : <anonymous> : <anonymous>: no
visible global function definition for ‘second’
selectionPlot,list: no visible binding for global variable ‘Freq’
Undefined global functions or variables:
..density.. .iteration Class Freq Group ID Metric Pairs dmvnorm first
key legends grouping measurement measurements name second setsNodes
type value
Consider adding
importFrom("base", "grouping")
to your NAMESPACE file.
* checking Rd files ... OK
* checking Rd metadata ... OK
* checking Rd cross-references ... OK
* checking for missing documentation entries ... OK
* checking for code/documentation mismatches ... OK
* checking Rd \usage sections ... OK
* checking Rd contents ... OK
* checking for unstated dependencies in examples ... OK
* checking contents of ‘data’ directory ... OK
* checking data for non-ASCII characters ... OK
* checking data for ASCII and uncompressed saves ... OK
* checking files in ‘vignettes’ ... OK
* checking examples ... OK
Examples with CPU (user + system) or elapsed time > 5s
user system elapsed
ClassifyResult-class 115.700 3.406 38.690
elasticNetGLMinterface 37.298 2.217 15.392
elasticNetFeatures 20.801 1.624 15.879
runTests 16.616 3.202 8.614
distribution 14.577 1.514 6.821
fisherDiscriminant 14.901 0.496 0.122
runTest 6.306 0.136 6.463
likelihoodRatioSelection 5.020 0.048 5.068
* checking for unstated dependencies in vignettes ... OK
* checking package vignettes in ‘inst/doc’ ... OK
* checking running R code from vignettes ... SKIPPED
* checking re-building of vignette outputs ... SKIPPED
* checking PDF version of manual ... OK
* DONE
Status: 1 NOTE
See
‘/home/biocbuild/bbs-3.11-bioc/meat/ClassifyR.Rcheck/00check.log’
for details.
ClassifyR.Rcheck/00install.out
############################################################################## ############################################################################## ### ### Running command: ### ### /home/biocbuild/bbs-3.11-bioc/R/bin/R CMD INSTALL ClassifyR ### ############################################################################## ############################################################################## * installing to library ‘/home/biocbuild/bbs-3.11-bioc/R/library’ * installing *source* package ‘ClassifyR’ ... ** using staged installation ** R ** data ** inst ** byte-compile and prepare package for lazy loading ** help *** installing help indices ** building package indices ** installing vignettes ** testing if installed package can be loaded from temporary location ** testing if installed package can be loaded from final location ** testing if installed package keeps a record of temporary installation path * DONE (ClassifyR)
ClassifyR.Rcheck/ClassifyR-Ex.timings
| name | user | system | elapsed | |
| ClassifyResult-class | 115.700 | 3.406 | 38.690 | |
| DLDAinterface | 0.052 | 0.004 | 0.056 | |
| DMDselection | 4.644 | 0.064 | 4.709 | |
| EasyHardClassifier-class | 0.013 | 0.000 | 0.014 | |
| FeatureSetCollection-class | 0.006 | 0.000 | 0.006 | |
| FeatureSetCollectionOrNULL-class | 0.003 | 0.000 | 0.002 | |
| KolmogorovSmirnovSelection | 2.719 | 0.113 | 2.833 | |
| KullbackLeiblerSelection | 1.202 | 0.004 | 1.218 | |
| MixModelsListsSet-class | 0.518 | 0.005 | 0.600 | |
| NSCpredictInterface | 0.128 | 0.003 | 0.186 | |
| NSCselectionInterface | 0.100 | 0.004 | 0.104 | |
| NSCtrainInterface | 0.064 | 0.000 | 0.063 | |
| PredictParams-class | 0.002 | 0.000 | 0.002 | |
| ROCplot | 0.846 | 0.007 | 0.855 | |
| ResubstituteParams-class | 0.002 | 0.001 | 0.002 | |
| SVMinterface | 0.047 | 0.003 | 0.051 | |
| SelectParams-class | 0.009 | 0.000 | 0.008 | |
| SelectResult-class | 0.000 | 0.000 | 0.001 | |
| TrainParams-class | 0.000 | 0.000 | 0.001 | |
| TransformParams-class | 0.001 | 0.000 | 0.001 | |
| bartlettSelection | 2.128 | 0.019 | 2.149 | |
| calcPerformance | 0.003 | 0.001 | 0.004 | |
| characterOrDataFrame-class | 0.009 | 0.000 | 0.010 | |
| classifyInterface | 0.888 | 0.020 | 0.948 | |
| differentMeansSelection | 1.248 | 0.000 | 1.248 | |
| distribution | 14.577 | 1.514 | 6.821 | |
| easyHardClassifier | 0.817 | 0.048 | 0.891 | |
| easyHardFeatures | 0.662 | 0.004 | 0.666 | |
| edgeRselection | 4.769 | 0.131 | 4.966 | |
| edgesToHubNetworks | 0.003 | 0.000 | 0.002 | |
| elasticNetFeatures | 20.801 | 1.624 | 15.879 | |
| elasticNetGLMinterface | 37.298 | 2.217 | 15.392 | |
| featureSetSummary | 0.002 | 0.004 | 0.007 | |
| fisherDiscriminant | 14.901 | 0.496 | 0.122 | |
| forestFeatures | 0.103 | 0.000 | 0.103 | |
| functionOrList-class | 0.006 | 0.000 | 0.006 | |
| functionOrNULL-class | 0.003 | 0.000 | 0.004 | |
| getLocationsAndScales | 0.025 | 0.000 | 0.025 | |
| integerOrNumeric-class | 0.012 | 0.000 | 0.011 | |
| interactorDifferences | 0.026 | 0.008 | 0.035 | |
| kTSPclassifier | 0.080 | 0.008 | 0.088 | |
| knnInterface | 0.03 | 0.00 | 0.04 | |
| leveneSelection | 1.211 | 0.108 | 1.319 | |
| likelihoodRatioSelection | 5.020 | 0.048 | 5.068 | |
| limmaSelection | 0.467 | 0.000 | 0.467 | |
| listOrCharacterOrNULL-class | 0.003 | 0.000 | 0.003 | |
| listOrNULL-class | 0.003 | 0.000 | 0.003 | |
| mixmodels | 0.178 | 0.008 | 0.186 | |
| naiveBayesKernel | 0.532 | 0.004 | 0.537 | |
| networkCorrelationsSelection | 0.214 | 0.000 | 0.213 | |
| pairsDifferencesSelection | 0.346 | 0.004 | 0.351 | |
| performancePlot | 0.385 | 0.000 | 0.386 | |
| plotFeatureClasses | 2.167 | 0.008 | 2.175 | |
| previousSelection | 2.167 | 0.953 | 1.852 | |
| previousTrained | 3.081 | 1.228 | 2.025 | |
| randomForestInterface | 0.281 | 0.032 | 0.312 | |
| rankingPlot | 1.434 | 0.295 | 1.617 | |
| runTest | 6.306 | 0.136 | 6.463 | |
| runTests | 16.616 | 3.202 | 8.614 | |
| samplesMetricMap | 3.034 | 0.144 | 3.178 | |
| selectionPlot | 1.575 | 0.271 | 1.744 | |
| subtractFromLocation | 0.000 | 0.002 | 0.002 | |