| Back to Multiple platform build/check report for BioC 3.11 |
|
This page was generated on 2020-10-17 11:56:15 -0400 (Sat, 17 Oct 2020).
| TO THE DEVELOPERS/MAINTAINERS OF THE ChIPseqR PACKAGE: Please make sure to use the following settings in order to reproduce any error or warning you see on this page. |
| Package 286/1905 | Hostname | OS / Arch | INSTALL | BUILD | CHECK | BUILD BIN | ||||||
| ChIPseqR 1.42.0 Peter Humburg
| malbec2 | Linux (Ubuntu 18.04.4 LTS) / x86_64 | OK | OK | OK | |||||||
| tokay2 | Windows Server 2012 R2 Standard / x64 | OK | OK | OK | [ OK ] | |||||||
| machv2 | macOS 10.14.6 Mojave / x86_64 | OK | OK | OK | OK |
| Package: ChIPseqR |
| Version: 1.42.0 |
| Command: rm -rf ChIPseqR.buildbin-libdir && mkdir ChIPseqR.buildbin-libdir && C:\Users\biocbuild\bbs-3.11-bioc\R\bin\R.exe CMD INSTALL --merge-multiarch --build --library=ChIPseqR.buildbin-libdir ChIPseqR_1.42.0.tar.gz |
| StartedAt: 2020-10-17 10:05:39 -0400 (Sat, 17 Oct 2020) |
| EndedAt: 2020-10-17 10:06:49 -0400 (Sat, 17 Oct 2020) |
| EllapsedTime: 70.3 seconds |
| RetCode: 0 |
| Status: OK |
| PackageFile: ChIPseqR_1.42.0.zip |
| PackageFileSize: 1.435 MiB |
##############################################################################
##############################################################################
###
### Running command:
###
### rm -rf ChIPseqR.buildbin-libdir && mkdir ChIPseqR.buildbin-libdir && C:\Users\biocbuild\bbs-3.11-bioc\R\bin\R.exe CMD INSTALL --merge-multiarch --build --library=ChIPseqR.buildbin-libdir ChIPseqR_1.42.0.tar.gz
###
##############################################################################
##############################################################################
install for i386
* installing *source* package 'ChIPseqR' ...
** using staged installation
** libs
"C:/rtools40/mingw32/bin/"gcc -I"C:/Users/BIOCBU~1/BBS-3~1.11-/R/include" -DNDEBUG -I"C:/extsoft/include" -O2 -Wall -std=gnu99 -mfpmath=sse -msse2 -mstackrealign -c startScore.c -o startScore.o
startScore.c: In function '_ratioStat_pois':
startScore.c:66:15: warning: unused variable 'tmp_stat' [-Wunused-variable]
double stat, tmp_stat;
^~~~~~~~
C:/rtools40/mingw32/bin/gcc -shared -s -static-libgcc -o ChIPseqR.dll tmp.def startScore.o -LC:/extsoft/lib/i386 -LC:/extsoft/lib -LC:/Users/BIOCBU~1/BBS-3~1.11-/R/bin/i386 -lR
installing to C:/Users/biocbuild/bbs-3.11-bioc/meat/ChIPseqR.buildbin-libdir/00LOCK-ChIPseqR/00new/ChIPseqR/libs/i386
** R
** inst
** byte-compile and prepare package for lazy loading
** help
*** installing help indices
converting help for package 'ChIPseqR'
finding HTML links ... done
BindScore html
ChIPseqR-package html
RLEBindScore-class html
finding level-2 HTML links ... done
RLEReadCounts-class html
ReadCounts html
accessors html
alignFeature html
callBindingSites html
compress-BindScore html
compress-ReadCounts html
compress-methods html
decompress-methods html
decompress html
exportBindSequence html
getBindCor html
getBindLen html
getCutoff html
internal html
pickPeak html
plot-BindScore html
plot-ReadCounts html
plotReads html
plotWindow html
pos2gff html
simpleNucCall html
startScore html
strandPileup html
windowCounts html
** building package indices
** installing vignettes
** testing if installed package can be loaded from temporary location
** testing if installed package can be loaded from final location
** testing if installed package keeps a record of temporary installation path
install for x64
* installing *source* package 'ChIPseqR' ...
** libs
"C:/rtools40/mingw64/bin/"gcc -I"C:/Users/BIOCBU~1/BBS-3~1.11-/R/include" -DNDEBUG -I"C:/extsoft/include" -O2 -Wall -std=gnu99 -mfpmath=sse -msse2 -mstackrealign -c startScore.c -o startScore.o
startScore.c: In function '_ratioStat_pois':
startScore.c:66:15: warning: unused variable 'tmp_stat' [-Wunused-variable]
double stat, tmp_stat;
^~~~~~~~
C:/rtools40/mingw64/bin/gcc -shared -s -static-libgcc -o ChIPseqR.dll tmp.def startScore.o -LC:/extsoft/lib/x64 -LC:/extsoft/lib -LC:/Users/BIOCBU~1/BBS-3~1.11-/R/bin/x64 -lR
installing to C:/Users/biocbuild/bbs-3.11-bioc/meat/ChIPseqR.buildbin-libdir/ChIPseqR/libs/x64
** testing if installed package can be loaded
* MD5 sums
packaged installation of 'ChIPseqR' as ChIPseqR_1.42.0.zip
* DONE (ChIPseqR)