| Back to Multiple platform build/check report for BioC 3.11 |
|
This page was generated on 2020-10-17 11:58:12 -0400 (Sat, 17 Oct 2020).
| TO THE DEVELOPERS/MAINTAINERS OF THE ChIPseqR PACKAGE: Please make sure to use the following settings in order to reproduce any error or warning you see on this page. |
| Package 286/1905 | Hostname | OS / Arch | INSTALL | BUILD | CHECK | BUILD BIN | ||||||
| ChIPseqR 1.42.0 Peter Humburg
| malbec2 | Linux (Ubuntu 18.04.4 LTS) / x86_64 | OK | OK | OK | |||||||
| tokay2 | Windows Server 2012 R2 Standard / x64 | OK | OK | OK | OK | |||||||
| machv2 | macOS 10.14.6 Mojave / x86_64 | OK | OK | [ OK ] | OK |
| Package: ChIPseqR |
| Version: 1.42.0 |
| Command: /Library/Frameworks/R.framework/Versions/Current/Resources/bin/R CMD check --install=check:ChIPseqR.install-out.txt --library=/Library/Frameworks/R.framework/Versions/Current/Resources/library --no-vignettes --timings ChIPseqR_1.42.0.tar.gz |
| StartedAt: 2020-10-16 23:37:04 -0400 (Fri, 16 Oct 2020) |
| EndedAt: 2020-10-16 23:42:27 -0400 (Fri, 16 Oct 2020) |
| EllapsedTime: 322.5 seconds |
| RetCode: 0 |
| Status: OK |
| CheckDir: ChIPseqR.Rcheck |
| Warnings: 0 |
##############################################################################
##############################################################################
###
### Running command:
###
### /Library/Frameworks/R.framework/Versions/Current/Resources/bin/R CMD check --install=check:ChIPseqR.install-out.txt --library=/Library/Frameworks/R.framework/Versions/Current/Resources/library --no-vignettes --timings ChIPseqR_1.42.0.tar.gz
###
##############################################################################
##############################################################################
* using log directory ‘/Users/biocbuild/bbs-3.11-bioc/meat/ChIPseqR.Rcheck’
* using R version 4.0.3 (2020-10-10)
* using platform: x86_64-apple-darwin17.0 (64-bit)
* using session charset: UTF-8
* using option ‘--no-vignettes’
* checking for file ‘ChIPseqR/DESCRIPTION’ ... OK
* checking extension type ... Package
* this is package ‘ChIPseqR’ version ‘1.42.0’
* checking package namespace information ... OK
* checking package dependencies ... OK
* checking if this is a source package ... OK
* checking if there is a namespace ... OK
* checking for hidden files and directories ... OK
* checking for portable file names ... OK
* checking for sufficient/correct file permissions ... OK
* checking whether package ‘ChIPseqR’ can be installed ... OK
* checking installed package size ... OK
* checking package directory ... OK
* checking ‘build’ directory ... OK
* checking DESCRIPTION meta-information ... OK
* checking top-level files ... OK
* checking for left-over files ... OK
* checking index information ... OK
* checking package subdirectories ... OK
* checking R files for non-ASCII characters ... OK
* checking R files for syntax errors ... OK
* checking whether the package can be loaded ... OK
* checking whether the package can be loaded with stated dependencies ... OK
* checking whether the package can be unloaded cleanly ... OK
* checking whether the namespace can be loaded with stated dependencies ... OK
* checking whether the namespace can be unloaded cleanly ... OK
* checking dependencies in R code ... OK
* checking S3 generic/method consistency ... OK
* checking replacement functions ... OK
* checking foreign function calls ... OK
* checking R code for possible problems ... NOTE
.fixCounts: no visible global function definition for ‘runLength’
.fixCounts: no visible global function definition for ‘runValue’
getBindLen: no visible global function definition for ‘window’
pickPeak: no visible global function definition for ‘start’
pickPeak: no visible global function definition for ‘runLength’
pickPeak : <anonymous>: no visible global function definition for
‘window’
[[,BindScore-ANY-numeric: no visible global function definition for
‘window’
decompress,Rle: no visible global function definition for ‘runValue’
decompress,RleList : <anonymous>: no visible global function definition
for ‘runValue’
initialize,RLEBindScore : <anonymous>: no visible global function
definition for ‘Rle’
initialize,RLEBindScore : <anonymous>: no visible global function
definition for ‘runValue’
initialize,RLEBindScore : <anonymous>: no visible global function
definition for ‘runValue<-’
plot,RLEReadCounts-missing : <anonymous>: no visible global function
definition for ‘window’
Undefined global functions or variables:
Rle runLength runValue runValue<- start window
Consider adding
importFrom("stats", "start", "window")
to your NAMESPACE file.
* checking Rd files ... OK
* checking Rd metadata ... OK
* checking Rd cross-references ... OK
* checking for missing documentation entries ... OK
* checking for code/documentation mismatches ... OK
* checking Rd \usage sections ... OK
* checking Rd contents ... OK
* checking for unstated dependencies in examples ... OK
* checking line endings in C/C++/Fortran sources/headers ... OK
* checking compiled code ... NOTE
Note: information on .o files is not available
* checking sizes of PDF files under ‘inst/doc’ ... OK
* checking files in ‘vignettes’ ... OK
* checking examples ... OK
Examples with CPU (user + system) or elapsed time > 5s
user system elapsed
alignFeature 11.523 2.440 13.974
BindScore 7.327 0.263 7.604
RLEBindScore-class 6.083 0.267 6.357
simpleNucCall 5.484 0.171 5.656
callBindingSites 5.045 0.194 5.241
* checking for unstated dependencies in vignettes ... OK
* checking package vignettes in ‘inst/doc’ ... OK
* checking running R code from vignettes ... SKIPPED
* checking re-building of vignette outputs ... SKIPPED
* checking PDF version of manual ... OK
* DONE
Status: 2 NOTEs
See
‘/Users/biocbuild/bbs-3.11-bioc/meat/ChIPseqR.Rcheck/00check.log’
for details.
ChIPseqR.Rcheck/00install.out
##############################################################################
##############################################################################
###
### Running command:
###
### /Library/Frameworks/R.framework/Versions/Current/Resources/bin/R CMD INSTALL ChIPseqR
###
##############################################################################
##############################################################################
* installing to library ‘/Library/Frameworks/R.framework/Versions/4.0/Resources/library’
* installing *source* package ‘ChIPseqR’ ...
** using staged installation
** libs
clang -mmacosx-version-min=10.13 -I"/Library/Frameworks/R.framework/Resources/include" -DNDEBUG -I/usr/local/include -fPIC -Wall -g -O2 -c startScore.c -o startScore.o
startScore.c:66:15: warning: unused variable 'tmp_stat' [-Wunused-variable]
double stat, tmp_stat;
^
1 warning generated.
clang -mmacosx-version-min=10.13 -dynamiclib -Wl,-headerpad_max_install_names -undefined dynamic_lookup -single_module -multiply_defined suppress -L/Library/Frameworks/R.framework/Resources/lib -L/usr/local/lib -o ChIPseqR.so startScore.o -F/Library/Frameworks/R.framework/.. -framework R -Wl,-framework -Wl,CoreFoundation
installing to /Library/Frameworks/R.framework/Versions/4.0/Resources/library/00LOCK-ChIPseqR/00new/ChIPseqR/libs
** R
** inst
** byte-compile and prepare package for lazy loading
** help
*** installing help indices
** building package indices
** installing vignettes
** testing if installed package can be loaded from temporary location
** checking absolute paths in shared objects and dynamic libraries
** testing if installed package can be loaded from final location
** testing if installed package keeps a record of temporary installation path
* DONE (ChIPseqR)
ChIPseqR.Rcheck/ChIPseqR-Ex.timings
| name | user | system | elapsed | |
| BindScore | 7.327 | 0.263 | 7.604 | |
| ChIPseqR-package | 0.000 | 0.000 | 0.001 | |
| RLEBindScore-class | 6.083 | 0.267 | 6.357 | |
| RLEReadCounts-class | 0.043 | 0.002 | 0.044 | |
| ReadCounts | 0.035 | 0.001 | 0.036 | |
| alignFeature | 11.523 | 2.440 | 13.974 | |
| callBindingSites | 5.045 | 0.194 | 5.241 | |
| pos2gff | 0.009 | 0.001 | 0.009 | |
| simpleNucCall | 5.484 | 0.171 | 5.656 | |
| strandPileup | 0.010 | 0.000 | 0.011 | |
| windowCounts | 0.271 | 0.001 | 0.272 | |