| Back to Multiple platform build/check report for BioC 3.11 |
|
This page was generated on 2020-10-17 11:54:37 -0400 (Sat, 17 Oct 2020).
| TO THE DEVELOPERS/MAINTAINERS OF THE COSNet PACKAGE: Please make sure to use the following settings in order to reproduce any error or warning you see on this page. |
| Package 382/1905 | Hostname | OS / Arch | INSTALL | BUILD | CHECK | BUILD BIN | ||||||
| COSNet 1.22.0 Marco Frasca
| malbec2 | Linux (Ubuntu 18.04.4 LTS) / x86_64 | OK | OK | [ OK ] | |||||||
| tokay2 | Windows Server 2012 R2 Standard / x64 | OK | OK | OK | OK | |||||||
| machv2 | macOS 10.14.6 Mojave / x86_64 | OK | ERROR | skipped | skipped |
| Package: COSNet |
| Version: 1.22.0 |
| Command: /home/biocbuild/bbs-3.11-bioc/R/bin/R CMD check --install=check:COSNet.install-out.txt --library=/home/biocbuild/bbs-3.11-bioc/R/library --no-vignettes --timings COSNet_1.22.0.tar.gz |
| StartedAt: 2020-10-17 00:17:13 -0400 (Sat, 17 Oct 2020) |
| EndedAt: 2020-10-17 00:17:51 -0400 (Sat, 17 Oct 2020) |
| EllapsedTime: 38.0 seconds |
| RetCode: 0 |
| Status: OK |
| CheckDir: COSNet.Rcheck |
| Warnings: 0 |
##############################################################################
##############################################################################
###
### Running command:
###
### /home/biocbuild/bbs-3.11-bioc/R/bin/R CMD check --install=check:COSNet.install-out.txt --library=/home/biocbuild/bbs-3.11-bioc/R/library --no-vignettes --timings COSNet_1.22.0.tar.gz
###
##############################################################################
##############################################################################
* using log directory ‘/home/biocbuild/bbs-3.11-bioc/meat/COSNet.Rcheck’
* using R version 4.0.3 (2020-10-10)
* using platform: x86_64-pc-linux-gnu (64-bit)
* using session charset: UTF-8
* using option ‘--no-vignettes’
* checking for file ‘COSNet/DESCRIPTION’ ... OK
* checking extension type ... Package
* this is package ‘COSNet’ version ‘1.22.0’
* checking package namespace information ... OK
* checking package dependencies ... OK
* checking if this is a source package ... OK
* checking if there is a namespace ... OK
* checking for hidden files and directories ... OK
* checking for portable file names ... OK
* checking for sufficient/correct file permissions ... OK
* checking whether package ‘COSNet’ can be installed ... OK
* checking installed package size ... OK
* checking package directory ... OK
* checking ‘build’ directory ... OK
* checking DESCRIPTION meta-information ... OK
* checking top-level files ... OK
* checking for left-over files ... OK
* checking index information ... OK
* checking package subdirectories ... OK
* checking R files for non-ASCII characters ... OK
* checking R files for syntax errors ... OK
* checking whether the package can be loaded ... OK
* checking whether the package can be loaded with stated dependencies ... OK
* checking whether the package can be unloaded cleanly ... OK
* checking whether the namespace can be loaded with stated dependencies ... OK
* checking whether the namespace can be unloaded cleanly ... OK
* checking dependencies in R code ... OK
* checking S3 generic/method consistency ... OK
* checking replacement functions ... OK
* checking foreign function calls ... OK
* checking R code for possible problems ... NOTE
File ‘COSNet/R/COSNet.R’:
.onAttach calls:
cat("COSNet: Cost-Sensitive algorithm for binary classification in graphs.\n")
Package startup functions should use ‘packageStartupMessage’ to
generate messages.
See section ‘Good practice’ in '?.onAttach'.
generate_labels: no visible global function definition for ‘runif’
Undefined global functions or variables:
runif
Consider adding
importFrom("stats", "runif")
to your NAMESPACE file.
* checking Rd files ... OK
* checking Rd metadata ... OK
* checking Rd cross-references ... OK
* checking for missing documentation entries ... OK
* checking for code/documentation mismatches ... OK
* checking Rd \usage sections ... OK
* checking Rd contents ... OK
* checking for unstated dependencies in examples ... OK
* checking line endings in C/C++/Fortran sources/headers ... OK
* checking compiled code ... NOTE
Note: information on .o files is not available
File ‘/home/biocbuild/bbs-3.11-bioc/R/library/COSNet/libs/COSNet.so’:
Found ‘rand’, possibly from ‘rand’ (C)
Found ‘srand’, possibly from ‘srand’ (C)
Compiled code should not call entry points which might terminate R nor
write to stdout/stderr instead of to the console, nor use Fortran I/O
nor system RNGs. The detected symbols are linked into the code but
might come from libraries and not actually be called.
See ‘Writing portable packages’ in the ‘Writing R Extensions’ manual.
* checking files in ‘vignettes’ ... OK
* checking examples ... OK
Examples with CPU (user + system) or elapsed time > 5s
user system elapsed
cosnet.cross.validation 14.757 0.499 15.348
* checking for unstated dependencies in ‘tests’ ... OK
* checking tests ...
Running ‘runTests.R’
OK
* checking for unstated dependencies in vignettes ... OK
* checking package vignettes in ‘inst/doc’ ... OK
* checking running R code from vignettes ... SKIPPED
* checking re-building of vignette outputs ... SKIPPED
* checking PDF version of manual ... OK
* DONE
Status: 2 NOTEs
See
‘/home/biocbuild/bbs-3.11-bioc/meat/COSNet.Rcheck/00check.log’
for details.
COSNet.Rcheck/00install.out
############################################################################## ############################################################################## ### ### Running command: ### ### /home/biocbuild/bbs-3.11-bioc/R/bin/R CMD INSTALL COSNet ### ############################################################################## ############################################################################## * installing to library ‘/home/biocbuild/bbs-3.11-bioc/R/library’ * installing *source* package ‘COSNet’ ... ** using staged installation ** libs gcc -I"/home/biocbuild/bbs-3.11-bioc/R/include" -DNDEBUG -I/usr/local/include -fpic -g -O2 -Wall -c COSNet.c -o COSNet.o gcc -shared -L/home/biocbuild/bbs-3.11-bioc/R/lib -L/usr/local/lib -o COSNet.so COSNet.o -L/home/biocbuild/bbs-3.11-bioc/R/lib -lR installing to /home/biocbuild/bbs-3.11-bioc/R/library/00LOCK-COSNet/00new/COSNet/libs ** R ** inst ** byte-compile and prepare package for lazy loading ** help *** installing help indices ** building package indices ** installing vignettes ** testing if installed package can be loaded from temporary location COSNet: Cost-Sensitive algorithm for binary classification in graphs. ** checking absolute paths in shared objects and dynamic libraries ** testing if installed package can be loaded from final location COSNet: Cost-Sensitive algorithm for binary classification in graphs. ** testing if installed package keeps a record of temporary installation path * DONE (COSNet)
COSNet.Rcheck/tests/runTests.Rout
R version 4.0.3 (2020-10-10) -- "Bunny-Wunnies Freak Out"
Copyright (C) 2020 The R Foundation for Statistical Computing
Platform: x86_64-pc-linux-gnu (64-bit)
R is free software and comes with ABSOLUTELY NO WARRANTY.
You are welcome to redistribute it under certain conditions.
Type 'license()' or 'licence()' for distribution details.
R is a collaborative project with many contributors.
Type 'contributors()' for more information and
'citation()' on how to cite R or R packages in publications.
Type 'demo()' for some demos, 'help()' for on-line help, or
'help.start()' for an HTML browser interface to help.
Type 'q()' to quit R.
> BiocGenerics:::testPackage("COSNet")
COSNet: Cost-Sensitive algorithm for binary classification in graphs.
0.501
RUNIT TEST PROTOCOL -- Sat Oct 17 00:17:48 2020
***********************************************
Number of test functions: 9
Number of errors: 0
Number of failures: 0
1 Test Suite :
COSNet RUnit Tests - 9 test functions, 0 errors, 0 failures
Number of test functions: 9
Number of errors: 0
Number of failures: 0
>
> proc.time()
user system elapsed
0.607 0.047 0.680
COSNet.Rcheck/COSNet-Ex.timings
| name | user | system | elapsed | |
| COSNet | 0.693 | 0.068 | 0.854 | |
| cosnet.cross.validation | 14.757 | 0.499 | 15.348 | |
| find.division.not.strat | 0.001 | 0.000 | 0.001 | |
| find.division.strat | 0.002 | 0.000 | 0.001 | |
| generate_labels | 0.000 | 0.000 | 0.001 | |
| generate_points | 0.003 | 0.000 | 0.003 | |
| optimize_pos_above | 0.419 | 0.024 | 0.443 | |
| optimizep | 0.369 | 0.012 | 0.381 | |
| reg_data | 0.479 | 0.096 | 0.575 | |
| runSubnet | 0.355 | 0.032 | 0.386 | |