| Back to Multiple platform build/check report for BioC 3.11 |
|
This page was generated on 2020-10-17 11:56:12 -0400 (Sat, 17 Oct 2020).
| TO THE DEVELOPERS/MAINTAINERS OF THE CAMTHC PACKAGE: Please make sure to use the following settings in order to reproduce any error or warning you see on this page. |
| Package 223/1905 | Hostname | OS / Arch | INSTALL | BUILD | CHECK | BUILD BIN | ||||||
Lulu Chen
| malbec2 | Linux (Ubuntu 18.04.4 LTS) / x86_64 | OK | OK | WARNINGS | |||||||
| tokay2 | Windows Server 2012 R2 Standard / x64 | [ OK ] | OK | WARNINGS | OK | |||||||
| machv2 | macOS 10.14.6 Mojave / x86_64 | OK | OK | WARNINGS | OK |
| Package: CAMTHC |
| Version: 1.6.0 |
| Command: C:\cygwin\bin\curl.exe -O https://malbec2.bioconductor.org/BBS/3.11/bioc/src/contrib/CAMTHC_1.6.0.tar.gz && rm -rf CAMTHC.buildbin-libdir && mkdir CAMTHC.buildbin-libdir && C:\Users\biocbuild\bbs-3.11-bioc\R\bin\R.exe CMD INSTALL --merge-multiarch --build --library=CAMTHC.buildbin-libdir CAMTHC_1.6.0.tar.gz && C:\Users\biocbuild\bbs-3.11-bioc\R\bin\R.exe CMD INSTALL CAMTHC_1.6.0.zip && rm CAMTHC_1.6.0.tar.gz CAMTHC_1.6.0.zip |
| StartedAt: 2020-10-16 19:02:50 -0400 (Fri, 16 Oct 2020) |
| EndedAt: 2020-10-16 19:03:30 -0400 (Fri, 16 Oct 2020) |
| EllapsedTime: 40.3 seconds |
| RetCode: 0 |
| Status: OK |
##############################################################################
##############################################################################
###
### Running command:
###
### C:\cygwin\bin\curl.exe -O https://malbec2.bioconductor.org/BBS/3.11/bioc/src/contrib/CAMTHC_1.6.0.tar.gz && rm -rf CAMTHC.buildbin-libdir && mkdir CAMTHC.buildbin-libdir && C:\Users\biocbuild\bbs-3.11-bioc\R\bin\R.exe CMD INSTALL --merge-multiarch --build --library=CAMTHC.buildbin-libdir CAMTHC_1.6.0.tar.gz && C:\Users\biocbuild\bbs-3.11-bioc\R\bin\R.exe CMD INSTALL CAMTHC_1.6.0.zip && rm CAMTHC_1.6.0.tar.gz CAMTHC_1.6.0.zip
###
##############################################################################
##############################################################################
% Total % Received % Xferd Average Speed Time Time Time Current
Dload Upload Total Spent Left Speed
0 0 0 0 0 0 0 0 --:--:-- --:--:-- --:--:-- 0
100 2503k 100 2503k 0 0 16.8M 0 --:--:-- --:--:-- --:--:-- 17.5M
install for i386
* installing *source* package 'CAMTHC' ...
** using staged installation
** R
** data
** inst
** byte-compile and prepare package for lazy loading
** help
*** installing help indices
converting help for package 'CAMTHC'
finding HTML links ... done
AS-accessor html
AfromMarkers html
CAM html
CAMASObj-class html
CAMASest html
CAMMGCluster html
CAMMGObj-class html
CAMObj-class html
CAMPrep html
CAMPrepObj-class html
CAMTHC-package html
MDL html
MDLObj-class html
MGsforA html
MGstatistic html
PCAmat html
XWProj html
cornerSort html
ratMix3 html
redoASest html
reselectMG html
sffsHull html
simplexplot html
** building package indices
** installing vignettes
** testing if installed package can be loaded from temporary location
Warning: Package 'CAMTHC' is deprecated and will be removed from Bioconductor
version 3.12 . Package renamed to debCAM
** testing if installed package can be loaded from final location
Warning: Package 'CAMTHC' is deprecated and will be removed from Bioconductor
version 3.12 . Package renamed to debCAM
** testing if installed package keeps a record of temporary installation path
install for x64
* installing *source* package 'CAMTHC' ...
** testing if installed package can be loaded
Warning: Package 'CAMTHC' is deprecated and will be removed from Bioconductor
version 3.12 . Package renamed to debCAM
* MD5 sums
packaged installation of 'CAMTHC' as CAMTHC_1.6.0.zip
* DONE (CAMTHC)
* installing to library 'C:/Users/biocbuild/bbs-3.11-bioc/R/library'
package 'CAMTHC' successfully unpacked and MD5 sums checked