| Back to Multiple platform build/check report for BioC 3.11 |
|
This page was generated on 2020-03-12 13:43:59 -0400 (Thu, 12 Mar 2020).
| Package 178/1838 | Hostname | OS / Arch | INSTALL | BUILD | CHECK | BUILD BIN | ||||||
| BioSeqClass 1.45.0 Li Hong
| malbec2 | Linux (Ubuntu 18.04.4 LTS) / x86_64 | OK | OK | [ OK ] | |||||||
| tokay2 | Windows Server 2012 R2 Standard / x64 | OK | ERROR | skipped | skipped |
| Package: BioSeqClass |
| Version: 1.45.0 |
| Command: /home/biocbuild/bbs-3.11-bioc/R/bin/R CMD check --install=check:BioSeqClass.install-out.txt --library=/home/biocbuild/bbs-3.11-bioc/R/library --no-vignettes --timings BioSeqClass_1.45.0.tar.gz |
| StartedAt: 2020-03-12 01:23:42 -0400 (Thu, 12 Mar 2020) |
| EndedAt: 2020-03-12 01:26:34 -0400 (Thu, 12 Mar 2020) |
| EllapsedTime: 171.9 seconds |
| RetCode: 0 |
| Status: OK |
| CheckDir: BioSeqClass.Rcheck |
| Warnings: 0 |
##############################################################################
##############################################################################
###
### Running command:
###
### /home/biocbuild/bbs-3.11-bioc/R/bin/R CMD check --install=check:BioSeqClass.install-out.txt --library=/home/biocbuild/bbs-3.11-bioc/R/library --no-vignettes --timings BioSeqClass_1.45.0.tar.gz
###
##############################################################################
##############################################################################
* using log directory ‘/home/biocbuild/bbs-3.11-bioc/meat/BioSeqClass.Rcheck’
* using R Under development (unstable) (2020-01-28 r77731)
* using platform: x86_64-pc-linux-gnu (64-bit)
* using session charset: UTF-8
* using option ‘--no-vignettes’
* checking for file ‘BioSeqClass/DESCRIPTION’ ... OK
* this is package ‘BioSeqClass’ version ‘1.45.0’
* checking package namespace information ... OK
* checking package dependencies ... OK
* checking if this is a source package ... OK
* checking if there is a namespace ... OK
* checking for hidden files and directories ... OK
* checking for portable file names ... OK
* checking for sufficient/correct file permissions ... OK
* checking whether package ‘BioSeqClass’ can be installed ... OK
* checking installed package size ... NOTE
installed size is 6.5Mb
sub-directories of 1Mb or more:
data 2.9Mb
scripts 3.0Mb
* checking package directory ... OK
* checking ‘build’ directory ... OK
* checking DESCRIPTION meta-information ... NOTE
Malformed Description field: should contain one or more complete sentences.
Package listed in more than one of Depends, Imports, Suggests, Enhances:
‘scatterplot3d’
A package should be listed in only one of these fields.
* checking top-level files ... OK
* checking for left-over files ... OK
* checking index information ... OK
* checking package subdirectories ... OK
* checking R files for non-ASCII characters ... OK
* checking R files for syntax errors ... OK
* checking whether the package can be loaded ... OK
* checking whether the package can be loaded with stated dependencies ... OK
* checking whether the package can be unloaded cleanly ... OK
* checking whether the namespace can be loaded with stated dependencies ... OK
* checking whether the namespace can be unloaded cleanly ... OK
* checking dependencies in R code ... NOTE
Package in Depends field not imported from: ‘scatterplot3d’
These packages need to be imported from (in the NAMESPACE file)
for when this namespace is loaded but not attached.
* checking S3 generic/method consistency ... OK
* checking replacement functions ... OK
* checking foreign function calls ... OK
* checking R code for possible problems ... NOTE
classifyModelCTREELIBSVM: no visible global function definition for
‘plot’
Undefined global functions or variables:
plot
Consider adding
importFrom("graphics", "plot")
to your NAMESPACE file.
* checking Rd files ... OK
* checking Rd metadata ... OK
* checking Rd cross-references ... OK
* checking for missing documentation entries ... OK
* checking for code/documentation mismatches ... OK
* checking Rd \usage sections ... OK
* checking Rd contents ... OK
* checking for unstated dependencies in examples ... OK
* checking contents of ‘data’ directory ... OK
* checking data for non-ASCII characters ... OK
* checking data for ASCII and uncompressed saves ... OK
* checking files in ‘vignettes’ ... OK
* checking examples ... OK
Examples with CPU (user + system) or elapsed time > 5s
user system elapsed
classify 6.704 0.219 5.854
* checking for unstated dependencies in vignettes ... OK
* checking package vignettes in ‘inst/doc’ ... OK
* checking running R code from vignettes ... SKIPPED
* checking re-building of vignette outputs ... SKIPPED
* checking PDF version of manual ... OK
* DONE
Status: 4 NOTEs
See
‘/home/biocbuild/bbs-3.11-bioc/meat/BioSeqClass.Rcheck/00check.log’
for details.
BioSeqClass.Rcheck/00install.out
############################################################################## ############################################################################## ### ### Running command: ### ### /home/biocbuild/bbs-3.11-bioc/R/bin/R CMD INSTALL BioSeqClass ### ############################################################################## ############################################################################## * installing to library ‘/home/biocbuild/bbs-3.11-bioc/R/library’ * installing *source* package ‘BioSeqClass’ ... ** using staged installation ** R ** data ** inst ** byte-compile and prepare package for lazy loading ** help *** installing help indices ** building package indices ** installing vignettes ** testing if installed package can be loaded from temporary location ** testing if installed package can be loaded from final location ** testing if installed package keeps a record of temporary installation path * DONE (BioSeqClass)
BioSeqClass.Rcheck/BioSeqClass-Ex.timings
| name | user | system | elapsed | |
| basic | 0.794 | 0.020 | 0.814 | |
| classify | 6.704 | 0.219 | 5.854 | |
| featureAAindex | 0.001 | 0.000 | 0.001 | |
| featureBDNAVIDEO | 0 | 0 | 0 | |
| featureBinary | 0.000 | 0.000 | 0.001 | |
| featureCKSAAP | 0 | 0 | 0 | |
| featureCTD | 0.001 | 0.000 | 0.000 | |
| featureDIPRODB | 0.001 | 0.000 | 0.000 | |
| featureDOMAIN | 0 | 0 | 0 | |
| featureEvaluate | 0.012 | 0.000 | 0.013 | |
| featureFragmentComposition | 0.000 | 0.000 | 0.001 | |
| featureGapPairComposition | 0.000 | 0.000 | 0.001 | |
| featureHydro | 0.001 | 0.000 | 0.000 | |
| featurePSSM | 0.001 | 0.000 | 0.000 | |
| featurePseudoAAComp | 0.001 | 0.000 | 0.000 | |
| featureSSC | 0.001 | 0.000 | 0.002 | |
| hr | 0.002 | 0.000 | 0.003 | |
| model | 0.770 | 0.027 | 0.799 | |
| performance | 0.805 | 0.004 | 0.808 | |
| selectFFS | 0.305 | 0.000 | 0.304 | |