| Back to Multiple platform build/check report for BioC 3.11 |
|
This page was generated on 2020-10-17 11:56:10 -0400 (Sat, 17 Oct 2020).
| TO THE DEVELOPERS/MAINTAINERS OF THE BioSeqClass PACKAGE: Please make sure to use the following settings in order to reproduce any error or warning you see on this page. |
| Package 180/1905 | Hostname | OS / Arch | INSTALL | BUILD | CHECK | BUILD BIN | ||||||
| BioSeqClass 1.46.0 Li Hong
| malbec2 | Linux (Ubuntu 18.04.4 LTS) / x86_64 | OK | ERROR | skipped | |||||||
| tokay2 | Windows Server 2012 R2 Standard / x64 | [ OK ] | ERROR | skipped | skipped | |||||||
| machv2 | macOS 10.14.6 Mojave / x86_64 | OK | ERROR | skipped | skipped |
| Package: BioSeqClass |
| Version: 1.46.0 |
| Command: C:\cygwin\bin\curl.exe -O https://malbec2.bioconductor.org/BBS/3.11/bioc/src/contrib/BioSeqClass_1.46.0.tar.gz && rm -rf BioSeqClass.buildbin-libdir && mkdir BioSeqClass.buildbin-libdir && C:\Users\biocbuild\bbs-3.11-bioc\R\bin\R.exe CMD INSTALL --merge-multiarch --build --library=BioSeqClass.buildbin-libdir BioSeqClass_1.46.0.tar.gz && C:\Users\biocbuild\bbs-3.11-bioc\R\bin\R.exe CMD INSTALL BioSeqClass_1.46.0.zip && rm BioSeqClass_1.46.0.tar.gz BioSeqClass_1.46.0.zip |
| StartedAt: 2020-10-16 17:26:21 -0400 (Fri, 16 Oct 2020) |
| EndedAt: 2020-10-16 17:29:06 -0400 (Fri, 16 Oct 2020) |
| EllapsedTime: 165.1 seconds |
| RetCode: 0 |
| Status: OK |
##############################################################################
##############################################################################
###
### Running command:
###
### C:\cygwin\bin\curl.exe -O https://malbec2.bioconductor.org/BBS/3.11/bioc/src/contrib/BioSeqClass_1.46.0.tar.gz && rm -rf BioSeqClass.buildbin-libdir && mkdir BioSeqClass.buildbin-libdir && C:\Users\biocbuild\bbs-3.11-bioc\R\bin\R.exe CMD INSTALL --merge-multiarch --build --library=BioSeqClass.buildbin-libdir BioSeqClass_1.46.0.tar.gz && C:\Users\biocbuild\bbs-3.11-bioc\R\bin\R.exe CMD INSTALL BioSeqClass_1.46.0.zip && rm BioSeqClass_1.46.0.tar.gz BioSeqClass_1.46.0.zip
###
##############################################################################
##############################################################################
% Total % Received % Xferd Average Speed Time Time Time Current
Dload Upload Total Spent Left Speed
0 0 0 0 0 0 0 0 --:--:-- --:--:-- --:--:-- 0
100 5617k 100 5617k 0 0 44.6M 0 --:--:-- --:--:-- --:--:-- 47.7M
install for i386
* installing *source* package 'BioSeqClass' ...
** using staged installation
** R
** data
** inst
** byte-compile and prepare package for lazy loading
** help
*** installing help indices
converting help for package 'BioSeqClass'
finding HTML links ... done
basic html
classify html
featureAAindex html
featureBDNAVIDEO html
featureBinary html
featureCKSAAP html
featureCTD html
featureDIPRODB html
featureDOMAIN html
featureEvaluate html
featureFragmentComposition html
featureGapPairComposition html
featureHydro html
featurePSSM html
featurePseudoAAComp html
featureSSC html
hr html
model html
performance html
selectFFS html
selectWeka html
zzz html
** building package indices
** installing vignettes
** testing if installed package can be loaded from temporary location
** testing if installed package can be loaded from final location
** testing if installed package keeps a record of temporary installation path
install for x64
* installing *source* package 'BioSeqClass' ...
** testing if installed package can be loaded
* MD5 sums
packaged installation of 'BioSeqClass' as BioSeqClass_1.46.0.zip
* DONE (BioSeqClass)
* installing to library 'C:/Users/biocbuild/bbs-3.11-bioc/R/library'
package 'BioSeqClass' successfully unpacked and MD5 sums checked