| Back to Multiple platform build/check report for BioC 3.11 |
|
This page was generated on 2020-10-17 11:56:10 -0400 (Sat, 17 Oct 2020).
| TO THE DEVELOPERS/MAINTAINERS OF THE BioNetStat PACKAGE: Please make sure to use the following settings in order to reproduce any error or warning you see on this page. |
| Package 178/1905 | Hostname | OS / Arch | INSTALL | BUILD | CHECK | BUILD BIN | ||||||
| BioNetStat 1.8.4 Vinicius Jardim
| malbec2 | Linux (Ubuntu 18.04.4 LTS) / x86_64 | OK | OK | OK | |||||||
| tokay2 | Windows Server 2012 R2 Standard / x64 | OK | OK | [ OK ] | OK | |||||||
| machv2 | macOS 10.14.6 Mojave / x86_64 | OK | OK | OK | OK |
| Package: BioNetStat |
| Version: 1.8.4 |
| Command: C:\Users\biocbuild\bbs-3.11-bioc\R\bin\R.exe CMD check --force-multiarch --install=check:BioNetStat.install-out.txt --library=C:\Users\biocbuild\bbs-3.11-bioc\R\library --no-vignettes --timings BioNetStat_1.8.4.tar.gz |
| StartedAt: 2020-10-17 02:00:27 -0400 (Sat, 17 Oct 2020) |
| EndedAt: 2020-10-17 02:06:14 -0400 (Sat, 17 Oct 2020) |
| EllapsedTime: 346.7 seconds |
| RetCode: 0 |
| Status: OK |
| CheckDir: BioNetStat.Rcheck |
| Warnings: 0 |
##############################################################################
##############################################################################
###
### Running command:
###
### C:\Users\biocbuild\bbs-3.11-bioc\R\bin\R.exe CMD check --force-multiarch --install=check:BioNetStat.install-out.txt --library=C:\Users\biocbuild\bbs-3.11-bioc\R\library --no-vignettes --timings BioNetStat_1.8.4.tar.gz
###
##############################################################################
##############################################################################
* using log directory 'C:/Users/biocbuild/bbs-3.11-bioc/meat/BioNetStat.Rcheck'
* using R version 4.0.3 (2020-10-10)
* using platform: x86_64-w64-mingw32 (64-bit)
* using session charset: ISO8859-1
* using option '--no-vignettes'
* checking for file 'BioNetStat/DESCRIPTION' ... OK
* checking extension type ... Package
* this is package 'BioNetStat' version '1.8.4'
* package encoding: UTF-8
* checking package namespace information ... OK
* checking package dependencies ... OK
* checking if this is a source package ... OK
* checking if there is a namespace ... OK
* checking for hidden files and directories ... OK
* checking for portable file names ... OK
* checking whether package 'BioNetStat' can be installed ... OK
* checking installed package size ... NOTE
installed size is 5.5Mb
sub-directories of 1Mb or more:
extdata 1.9Mb
shiny 1.9Mb
* checking package directory ... OK
* checking 'build' directory ... OK
* checking DESCRIPTION meta-information ... OK
* checking top-level files ... OK
* checking for left-over files ... OK
* checking index information ... OK
* checking package subdirectories ... NOTE
Found the following CITATION file in a non-standard place:
CITATION
Most likely 'inst/CITATION' should be used instead.
* checking R files for non-ASCII characters ... OK
* checking R files for syntax errors ... OK
* loading checks for arch 'i386'
** checking whether the package can be loaded ... OK
** checking whether the package can be loaded with stated dependencies ... OK
** checking whether the package can be unloaded cleanly ... OK
** checking whether the namespace can be loaded with stated dependencies ... OK
** checking whether the namespace can be unloaded cleanly ... OK
* loading checks for arch 'x64'
** checking whether the package can be loaded ... OK
** checking whether the package can be loaded with stated dependencies ... OK
** checking whether the package can be unloaded cleanly ... OK
** checking whether the namespace can be loaded with stated dependencies ... OK
** checking whether the namespace can be unloaded cleanly ... OK
* checking dependencies in R code ... NOTE
Namespaces in Imports field not imported from:
'BiocParallel' 'RColorBrewer' 'RJSONIO' 'ggplot2' 'knitr' 'pheatmap'
'plyr' 'stats' 'utils' 'whisker' 'yaml'
All declared Imports should be used.
Packages in Depends field not imported from:
'DT' 'shiny' 'shinyBS'
These packages need to be imported from (in the NAMESPACE file)
for when this namespace is loaded but not attached.
* checking S3 generic/method consistency ... OK
* checking replacement functions ... OK
* checking foreign function calls ... OK
* checking R code for possible problems ... NOTE
adjacencyMatrix : <anonymous>: no visible global function definition
for 'cor'
adjacencyMatrix : <anonymous>: no visible global function definition
for 'p.adjust'
betweennessCentralityTest: no visible global function definition for
'bplapply'
betweennessCentralityVertexTest: no visible global function definition
for 'bplapply'
betweennessEdgesCentrality: no visible global function definition for
'adjacencyMatrix1'
closenessCentralityTest: no visible global function definition for
'bplapply'
closenessCentralityVertexTest: no visible global function definition
for 'bplapply'
clusteringCoefficientTest : <anonymous>: no visible global function
definition for 'dist'
clusteringCoefficientTest : <anonymous> : <anonymous>: no visible
global function definition for 'dist'
clusteringCoefficientTest: no visible global function definition for
'bplapply'
clusteringCoefficientVertexTest: no visible global function definition
for 'bplapply'
degreeCentralityTest: no visible global function definition for
'bplapply'
degreeCentralityVertexTest: no visible global function definition for
'bplapply'
degreeDistributionTest: no visible global function definition for
'bplapply'
diffNetAnalysis: no visible binding for global variable 'expr'
diffNetAnalysis: no visible global function definition for 'p.adjust'
doLabels: no visible global function definition for 'read.csv'
edgeBetweennessEdgeTest: no visible global function definition for
'bplapply'
edgeBetweennessTest: no visible global function definition for
'bplapply'
edgesResInt : <anonymous>: no visible global function definition for
'dist'
eigenvectorCentralityTest: no visible global function definition for
'bplapply'
eigenvectorCentralityVertexTest: no visible global function definition
for 'bplapply'
gaussianDensity: no visible global function definition for 'bw.nrd0'
gaussianDensity: no visible global function definition for 'density'
pathPlot: no visible binding for global variable 'median'
readVarFile: no visible global function definition for 'read.table'
resInt : <anonymous>: no visible global function definition for 'dist'
retEdgesTable: no visible global function definition for 'p.adjust'
retTable: no visible global function definition for 'p.adjust'
spectralDistributionTest: no visible global function definition for
'bplapply'
spectralEntropyTest: no visible global function definition for
'bplapply'
var.list: no visible global function definition for 'aggregate'
Undefined global functions or variables:
adjacencyMatrix1 aggregate bplapply bw.nrd0 cor density dist expr
median p.adjust read.csv read.table
Consider adding
importFrom("stats", "aggregate", "bw.nrd0", "cor", "density", "dist",
"median", "p.adjust")
importFrom("utils", "read.csv", "read.table")
to your NAMESPACE file.
* checking Rd files ... OK
* checking Rd metadata ... OK
* checking Rd cross-references ... OK
* checking for missing documentation entries ... OK
* checking for code/documentation mismatches ... OK
* checking Rd \usage sections ... OK
* checking Rd contents ... OK
* checking for unstated dependencies in examples ... OK
* checking contents of 'data' directory ... OK
* checking data for non-ASCII characters ... OK
* checking data for ASCII and uncompressed saves ... OK
* checking installed files from 'inst/doc' ... OK
* checking files in 'vignettes' ... OK
* checking examples ...
** running examples for arch 'i386' ... OK
Examples with CPU (user + system) or elapsed time > 5s
user system elapsed
networkTest 16.54 0.19 16.74
centralityPathPlot 7.94 2.22 11.64
pathPlot 8.20 1.05 9.25
** running examples for arch 'x64' ... OK
Examples with CPU (user + system) or elapsed time > 5s
user system elapsed
networkTest 11.25 0.03 11.28
pathPlot 6.57 1.12 7.71
centralityPathPlot 6.81 0.70 8.83
* checking for unstated dependencies in vignettes ... OK
* checking package vignettes in 'inst/doc' ... OK
* checking running R code from vignettes ... SKIPPED
* checking re-building of vignette outputs ... SKIPPED
* checking PDF version of manual ... OK
* DONE
Status: 4 NOTEs
See
'C:/Users/biocbuild/bbs-3.11-bioc/meat/BioNetStat.Rcheck/00check.log'
for details.
BioNetStat.Rcheck/00install.out
##############################################################################
##############################################################################
###
### Running command:
###
### C:\cygwin\bin\curl.exe -O https://malbec2.bioconductor.org/BBS/3.11/bioc/src/contrib/BioNetStat_1.8.4.tar.gz && rm -rf BioNetStat.buildbin-libdir && mkdir BioNetStat.buildbin-libdir && C:\Users\biocbuild\bbs-3.11-bioc\R\bin\R.exe CMD INSTALL --merge-multiarch --build --library=BioNetStat.buildbin-libdir BioNetStat_1.8.4.tar.gz && C:\Users\biocbuild\bbs-3.11-bioc\R\bin\R.exe CMD INSTALL BioNetStat_1.8.4.zip && rm BioNetStat_1.8.4.tar.gz BioNetStat_1.8.4.zip
###
##############################################################################
##############################################################################
% Total % Received % Xferd Average Speed Time Time Time Current
Dload Upload Total Spent Left Speed
0 0 0 0 0 0 0 0 --:--:-- --:--:-- --:--:-- 0
100 2935k 100 2935k 0 0 25.1M 0 --:--:-- --:--:-- --:--:-- 26.7M
install for i386
* installing *source* package 'BioNetStat' ...
** using staged installation
** R
** data
** inst
** byte-compile and prepare package for lazy loading
** help
*** installing help indices
converting help for package 'BioNetStat'
finding HTML links ... done
KLdegree html
KLspectrum html
adjacencyMatrix html
bnsDataTest html
centralityPathPlot html
diffNetAnalysis html
doLabels html
edgeTest html
labels html
nDegreeDensities html
nSpectralDensities html
networkFeature html
networkTest html
nodeScores html
nodeTest html
pathPlot html
readSetFile html
readVarFile html
runBioNetStat html
varFile html
** building package indices
** installing vignettes
'BNS_tutorial_by_command_line.Rmd' using 'UTF-8'
'vignette.Rmd' using 'UTF-8'
** testing if installed package can be loaded from temporary location
** testing if installed package can be loaded from final location
** testing if installed package keeps a record of temporary installation path
install for x64
* installing *source* package 'BioNetStat' ...
** testing if installed package can be loaded
* MD5 sums
packaged installation of 'BioNetStat' as BioNetStat_1.8.4.zip
* DONE (BioNetStat)
* installing to library 'C:/Users/biocbuild/bbs-3.11-bioc/R/library'
package 'BioNetStat' successfully unpacked and MD5 sums checked
|
BioNetStat.Rcheck/examples_i386/BioNetStat-Ex.timings
|
BioNetStat.Rcheck/examples_x64/BioNetStat-Ex.timings
|