Back to Multiple platform build/check report for BioC 3.11 |
|
This page was generated on 2020-05-13 15:32:00 -0400 (Wed, 13 May 2020).
TO THE DEVELOPERS/MAINTAINERS OF THE BiGGR PACKAGE: Please make sure to use the following settings in order to reproduce any error or warning you see on this page. |
Package 144/1905 | Hostname | OS / Arch | INSTALL | BUILD | CHECK | BUILD BIN | ||||||
BiGGR 1.24.0 Anand K. Gavai
| malbec2 | Linux (Ubuntu 18.04.4 LTS) / x86_64 | OK | OK | WARNINGS | ![]() | ||||||
tokay2 | Windows Server 2012 R2 Standard / x64 | OK | OK | WARNINGS | OK | ![]() | ||||||
machv2 | macOS 10.14.6 Mojave / x86_64 | [ ERROR ] | ERROR | skipped | skipped |
Package: BiGGR |
Version: 1.24.0 |
Command: /Library/Frameworks/R.framework/Versions/Current/Resources/bin/R CMD INSTALL BiGGR |
StartedAt: 2020-05-12 18:54:44 -0400 (Tue, 12 May 2020) |
EndedAt: 2020-05-12 18:55:09 -0400 (Tue, 12 May 2020) |
EllapsedTime: 24.8 seconds |
RetCode: 1 |
Status: ERROR |
############################################################################## ############################################################################## ### ### Running command: ### ### /Library/Frameworks/R.framework/Versions/Current/Resources/bin/R CMD INSTALL BiGGR ### ############################################################################## ############################################################################## * installing to library ‘/Library/Frameworks/R.framework/Versions/4.0/Resources/library’ * installing *source* package ‘BiGGR’ ... ** using staged installation ** R ** data ** inst ** byte-compile and prepare package for lazy loading Error: package or namespace load failed for ‘rsbml’: package ‘rsbml’ was installed before R 4.0.0: please re-install it Error: package ‘rsbml’ could not be loaded Execution halted ERROR: lazy loading failed for package ‘BiGGR’ * removing ‘/Library/Frameworks/R.framework/Versions/4.0/Resources/library/BiGGR’