| Back to Multiple platform build/check report for BioC 3.11 |
|
This page was generated on 2020-05-13 15:32:00 -0400 (Wed, 13 May 2020).
| TO THE DEVELOPERS/MAINTAINERS OF THE BiGGR PACKAGE: Please make sure to use the following settings in order to reproduce any error or warning you see on this page. |
| Package 144/1905 | Hostname | OS / Arch | INSTALL | BUILD | CHECK | BUILD BIN | ||||||
| BiGGR 1.24.0 Anand K. Gavai
| malbec2 | Linux (Ubuntu 18.04.4 LTS) / x86_64 | OK | OK | WARNINGS | |||||||
| tokay2 | Windows Server 2012 R2 Standard / x64 | OK | OK | WARNINGS | OK | |||||||
| machv2 | macOS 10.14.6 Mojave / x86_64 | ERROR | [ ERROR ] | skipped | skipped |
| Package: BiGGR |
| Version: 1.24.0 |
| Command: /Library/Frameworks/R.framework/Versions/Current/Resources/bin/R CMD build --keep-empty-dirs --no-resave-data BiGGR |
| StartedAt: 2020-05-12 20:51:22 -0400 (Tue, 12 May 2020) |
| EndedAt: 2020-05-12 20:51:36 -0400 (Tue, 12 May 2020) |
| EllapsedTime: 14.3 seconds |
| RetCode: 1 |
| Status: ERROR |
| PackageFile: None |
| PackageFileSize: NA |
##############################################################################
##############################################################################
###
### Running command:
###
### /Library/Frameworks/R.framework/Versions/Current/Resources/bin/R CMD build --keep-empty-dirs --no-resave-data BiGGR
###
##############################################################################
##############################################################################
* checking for file ‘BiGGR/DESCRIPTION’ ... OK
* preparing ‘BiGGR’:
* checking DESCRIPTION meta-information ... OK
* installing the package to build vignettes
-----------------------------------
* installing *source* package ‘BiGGR’ ...
** using staged installation
** R
** data
** inst
** byte-compile and prepare package for lazy loading
Error: package or namespace load failed for ‘rsbml’:
package ‘rsbml’ was installed before R 4.0.0: please re-install it
Error: package ‘rsbml’ could not be loaded
Execution halted
ERROR: lazy loading failed for package ‘BiGGR’
* removing ‘/private/tmp/RtmpxqnIu1/Rinst1694e37079253/BiGGR’
-----------------------------------
ERROR: package installation failed