| Back to Multiple platform build/check report for BioC 3.11 |
|
This page was generated on 2020-03-12 14:01:20 -0400 (Thu, 12 Mar 2020).
| Package 83/1838 | Hostname | OS / Arch | INSTALL | BUILD | CHECK | BUILD BIN | ||||||
| ArrayTV 1.25.0 Eitan Halper-Stromberg
| malbec2 | Linux (Ubuntu 18.04.4 LTS) / x86_64 | OK | OK | OK | |||||||
| tokay2 | Windows Server 2012 R2 Standard / x64 | OK | OK | OK | [ OK ] |
| Package: ArrayTV |
| Version: 1.25.0 |
| Command: rm -rf ArrayTV.buildbin-libdir && mkdir ArrayTV.buildbin-libdir && C:\Users\biocbuild\bbs-3.11-bioc\R\bin\R.exe CMD INSTALL --merge-multiarch --build --library=ArrayTV.buildbin-libdir ArrayTV_1.25.0.tar.gz |
| StartedAt: 2020-03-12 12:07:08 -0400 (Thu, 12 Mar 2020) |
| EndedAt: 2020-03-12 12:07:50 -0400 (Thu, 12 Mar 2020) |
| EllapsedTime: 42.5 seconds |
| RetCode: 0 |
| Status: OK |
| PackageFile: ArrayTV_1.25.0.zip |
| PackageFileSize: 2.829 MiB |
##############################################################################
##############################################################################
###
### Running command:
###
### rm -rf ArrayTV.buildbin-libdir && mkdir ArrayTV.buildbin-libdir && C:\Users\biocbuild\bbs-3.11-bioc\R\bin\R.exe CMD INSTALL --merge-multiarch --build --library=ArrayTV.buildbin-libdir ArrayTV_1.25.0.tar.gz
###
##############################################################################
##############################################################################
install for i386
* installing *source* package 'ArrayTV' ...
** using staged installation
** R
** inst
** byte-compile and prepare package for lazy loading
** help
*** installing help indices
converting help for package 'ArrayTV'
finding HTML links ... done
ArrayTV-package html
gcCorrect-methods html
finding level-2 HTML links ... done
gcCorrectMain html
methods-computeGC html
** building package indices
** installing vignettes
** testing if installed package can be loaded from temporary location
** testing if installed package can be loaded from final location
** testing if installed package keeps a record of temporary installation path
install for x64
* installing *source* package 'ArrayTV' ...
** testing if installed package can be loaded
* MD5 sums
packaged installation of 'ArrayTV' as ArrayTV_1.25.0.zip
* DONE (ArrayTV)