| Back to Multiple platform build/check report for BioC 3.11 |
|
This page was generated on 2020-10-17 11:56:06 -0400 (Sat, 17 Oct 2020).
| TO THE DEVELOPERS/MAINTAINERS OF THE ArrayTV PACKAGE: Please make sure to use the following settings in order to reproduce any error or warning you see on this page. |
| Package 84/1905 | Hostname | OS / Arch | INSTALL | BUILD | CHECK | BUILD BIN | ||||||
| ArrayTV 1.26.0 Eitan Halper-Stromberg
| malbec2 | Linux (Ubuntu 18.04.4 LTS) / x86_64 | OK | ERROR | skipped | |||||||
| tokay2 | Windows Server 2012 R2 Standard / x64 | [ OK ] | ERROR | skipped | skipped | |||||||
| machv2 | macOS 10.14.6 Mojave / x86_64 | OK | ERROR | skipped | skipped |
| Package: ArrayTV |
| Version: 1.26.0 |
| Command: C:\cygwin\bin\curl.exe -O https://malbec2.bioconductor.org/BBS/3.11/bioc/src/contrib/ArrayTV_1.26.0.tar.gz && rm -rf ArrayTV.buildbin-libdir && mkdir ArrayTV.buildbin-libdir && C:\Users\biocbuild\bbs-3.11-bioc\R\bin\R.exe CMD INSTALL --merge-multiarch --build --library=ArrayTV.buildbin-libdir ArrayTV_1.26.0.tar.gz && C:\Users\biocbuild\bbs-3.11-bioc\R\bin\R.exe CMD INSTALL ArrayTV_1.26.0.zip && rm ArrayTV_1.26.0.tar.gz ArrayTV_1.26.0.zip |
| StartedAt: 2020-10-16 18:20:07 -0400 (Fri, 16 Oct 2020) |
| EndedAt: 2020-10-16 18:21:05 -0400 (Fri, 16 Oct 2020) |
| EllapsedTime: 58.0 seconds |
| RetCode: 0 |
| Status: OK |
##############################################################################
##############################################################################
###
### Running command:
###
### C:\cygwin\bin\curl.exe -O https://malbec2.bioconductor.org/BBS/3.11/bioc/src/contrib/ArrayTV_1.26.0.tar.gz && rm -rf ArrayTV.buildbin-libdir && mkdir ArrayTV.buildbin-libdir && C:\Users\biocbuild\bbs-3.11-bioc\R\bin\R.exe CMD INSTALL --merge-multiarch --build --library=ArrayTV.buildbin-libdir ArrayTV_1.26.0.tar.gz && C:\Users\biocbuild\bbs-3.11-bioc\R\bin\R.exe CMD INSTALL ArrayTV_1.26.0.zip && rm ArrayTV_1.26.0.tar.gz ArrayTV_1.26.0.zip
###
##############################################################################
##############################################################################
% Total % Received % Xferd Average Speed Time Time Time Current
Dload Upload Total Spent Left Speed
0 0 0 0 0 0 0 0 --:--:-- --:--:-- --:--:-- 0
100 2102k 100 2102k 0 0 4922k 0 --:--:-- --:--:-- --:--:-- 5005k
install for i386
* installing *source* package 'ArrayTV' ...
** using staged installation
** R
** inst
** byte-compile and prepare package for lazy loading
** help
*** installing help indices
converting help for package 'ArrayTV'
finding HTML links ... done
ArrayTV-package html
gcCorrect-methods html
finding level-2 HTML links ... done
gcCorrectMain html
methods-computeGC html
** building package indices
** installing vignettes
** testing if installed package can be loaded from temporary location
** testing if installed package can be loaded from final location
** testing if installed package keeps a record of temporary installation path
install for x64
* installing *source* package 'ArrayTV' ...
** testing if installed package can be loaded
* MD5 sums
packaged installation of 'ArrayTV' as ArrayTV_1.26.0.zip
* DONE (ArrayTV)
* installing to library 'C:/Users/biocbuild/bbs-3.11-bioc/R/library'
package 'ArrayTV' successfully unpacked and MD5 sums checked