| Back to Multiple platform build/check report for BioC 3.11 |
|
This page was generated on 2020-01-15 12:31:06 -0500 (Wed, 15 Jan 2020).
| Package 77/1813 | Hostname | OS / Arch | INSTALL | BUILD | CHECK | BUILD BIN | ||||||
| ArrayExpress 1.47.0 Suhaib Mohammed
| malbec2 | Linux (Ubuntu 18.04.3 LTS) / x86_64 | OK | OK | OK | |||||||
| tokay2 | Windows Server 2012 R2 Standard / x64 | OK | OK | ERROR | OK | |||||||
| celaya2 | OS X 10.11.6 El Capitan / x86_64 | OK | OK | [ OK ] | OK |
| Package: ArrayExpress |
| Version: 1.47.0 |
| Command: /Library/Frameworks/R.framework/Versions/Current/Resources/bin/R CMD check --install=check:ArrayExpress.install-out.txt --library=/Library/Frameworks/R.framework/Versions/Current/Resources/library --no-vignettes --timings ArrayExpress_1.47.0.tar.gz |
| StartedAt: 2020-01-15 01:39:03 -0500 (Wed, 15 Jan 2020) |
| EndedAt: 2020-01-15 01:44:41 -0500 (Wed, 15 Jan 2020) |
| EllapsedTime: 338.2 seconds |
| RetCode: 0 |
| Status: OK |
| CheckDir: ArrayExpress.Rcheck |
| Warnings: 0 |
##############################################################################
##############################################################################
###
### Running command:
###
### /Library/Frameworks/R.framework/Versions/Current/Resources/bin/R CMD check --install=check:ArrayExpress.install-out.txt --library=/Library/Frameworks/R.framework/Versions/Current/Resources/library --no-vignettes --timings ArrayExpress_1.47.0.tar.gz
###
##############################################################################
##############################################################################
* using log directory ‘/Users/biocbuild/bbs-3.11-bioc/meat/ArrayExpress.Rcheck’
* using R Under development (unstable) (2019-12-14 r77572)
* using platform: x86_64-apple-darwin15.6.0 (64-bit)
* using session charset: UTF-8
* using option ‘--no-vignettes’
* checking for file ‘ArrayExpress/DESCRIPTION’ ... OK
* this is package ‘ArrayExpress’ version ‘1.47.0’
* checking package namespace information ... OK
* checking package dependencies ... OK
* checking if this is a source package ... OK
* checking if there is a namespace ... OK
* checking for hidden files and directories ... OK
* checking for portable file names ... OK
* checking for sufficient/correct file permissions ... OK
* checking whether package ‘ArrayExpress’ can be installed ... OK
* checking installed package size ... OK
* checking package directory ... OK
* checking ‘build’ directory ... OK
* checking DESCRIPTION meta-information ... NOTE
Malformed Description field: should contain one or more complete sentences.
* checking top-level files ... OK
* checking for left-over files ... OK
* checking index information ... OK
* checking package subdirectories ... OK
* checking R files for non-ASCII characters ... OK
* checking R files for syntax errors ... OK
* checking whether the package can be loaded ... OK
* checking whether the package can be loaded with stated dependencies ... OK
* checking whether the package can be unloaded cleanly ... OK
* checking whether the namespace can be loaded with stated dependencies ... OK
* checking whether the namespace can be unloaded cleanly ... OK
* checking dependencies in R code ... OK
* checking S3 generic/method consistency ... OK
* checking replacement functions ... OK
* checking foreign function calls ... OK
* checking R code for possible problems ... NOTE
ae2bioc: no visible global function definition for ‘new’
extract.zip : <anonymous>: no visible global function definition for
‘unzip’
getAE : <anonymous>: no visible global function definition for
‘download.file’
getAE: no visible global function definition for ‘download.file’
getDataColsForAE1: no visible global function definition for
‘read.table’
preparePhenoDataFor2channel: no visible global function definition for
‘new’
queryAE: no visible global function definition for ‘download.file’
readDerivedDataFiles: no visible global function definition for
‘read.table’
readDerivedDataFiles: no visible global function definition for ‘new’
readDerivedDataMatrixFile: no visible global function definition for
‘read.table’
readDerivedDataMatrixFile: no visible global function definition for
‘new’
readExperimentData: no visible global function definition for ‘new’
readFeatures: no visible global function definition for ‘read.table’
readFeatures: no visible global function definition for ‘new’
readPhenoData: no visible global function definition for ‘new’
Undefined global functions or variables:
download.file new read.table unzip
Consider adding
importFrom("methods", "new")
importFrom("utils", "download.file", "read.table", "unzip")
to your NAMESPACE file (and ensure that your DESCRIPTION Imports field
contains 'methods').
* checking Rd files ... OK
* checking Rd metadata ... OK
* checking Rd cross-references ... OK
* checking for missing documentation entries ... OK
* checking for code/documentation mismatches ... OK
* checking Rd \usage sections ... OK
* checking Rd contents ... OK
* checking for unstated dependencies in examples ... OK
* checking sizes of PDF files under ‘inst/doc’ ... OK
* checking files in ‘vignettes’ ... OK
* checking examples ... OK
Examples with CPU (user + system) or elapsed time > 5s
user system elapsed
queryAE 18.726 1.479 25.000
ArrayExpress 7.498 2.301 19.695
getAE 4.592 0.745 13.793
* checking for unstated dependencies in vignettes ... OK
* checking package vignettes in ‘inst/doc’ ... OK
* checking running R code from vignettes ... SKIPPED
* checking re-building of vignette outputs ... SKIPPED
* checking PDF version of manual ... OK
* DONE
Status: 2 NOTEs
See
‘/Users/biocbuild/bbs-3.11-bioc/meat/ArrayExpress.Rcheck/00check.log’
for details.
ArrayExpress.Rcheck/00install.out
############################################################################## ############################################################################## ### ### Running command: ### ### /Library/Frameworks/R.framework/Versions/Current/Resources/bin/R CMD INSTALL ArrayExpress ### ############################################################################## ############################################################################## * installing to library ‘/Library/Frameworks/R.framework/Versions/4.0/Resources/library’ * installing *source* package ‘ArrayExpress’ ... ** using staged installation ** R ** inst ** byte-compile and prepare package for lazy loading No methods found in package ‘RSQLite’ for request: ‘dbListFields’ when loading ‘oligo’ ** help *** installing help indices ** building package indices ** installing vignettes ** testing if installed package can be loaded from temporary location No methods found in package ‘RSQLite’ for request: ‘dbListFields’ when loading ‘oligo’ ** testing if installed package can be loaded from final location No methods found in package ‘RSQLite’ for request: ‘dbListFields’ when loading ‘oligo’ ** testing if installed package keeps a record of temporary installation path * DONE (ArrayExpress)
ArrayExpress.Rcheck/ArrayExpress-Ex.timings
| name | user | system | elapsed | |
| ArrayExpress | 7.498 | 2.301 | 19.695 | |
| ae2bioc | 0 | 0 | 0 | |
| getAE | 4.592 | 0.745 | 13.793 | |
| procset | 0.000 | 0.000 | 0.001 | |
| queryAE | 18.726 | 1.479 | 25.000 | |