| Back to Multiple platform build/check report for BioC 3.11 |
|
This page was generated on 2020-10-17 11:57:46 -0400 (Sat, 17 Oct 2020).
| TO THE DEVELOPERS/MAINTAINERS OF THE scran PACKAGE: Please make sure to use the following settings in order to reproduce any error or warning you see on this page. |
| Package 1609/1905 | Hostname | OS / Arch | INSTALL | BUILD | CHECK | BUILD BIN | ||||||
| scran 1.16.0 Aaron Lun
| malbec2 | Linux (Ubuntu 18.04.4 LTS) / x86_64 | OK | OK | OK | |||||||
| tokay2 | Windows Server 2012 R2 Standard / x64 | OK | OK | [ OK ] | NA | |||||||
| machv2 | macOS 10.14.6 Mojave / x86_64 | OK | OK | OK | OK |
| Package: scran |
| Version: 1.16.0 |
| Command: C:\Users\biocbuild\bbs-3.11-bioc\R\bin\R.exe CMD check --force-multiarch --install=check:scran.install-out.txt --library=C:\Users\biocbuild\bbs-3.11-bioc\R\library --no-vignettes --timings scran_1.16.0.tar.gz |
| StartedAt: 2020-10-17 08:03:40 -0400 (Sat, 17 Oct 2020) |
| EndedAt: 2020-10-17 08:29:05 -0400 (Sat, 17 Oct 2020) |
| EllapsedTime: 1525.1 seconds |
| RetCode: 0 |
| Status: OK |
| CheckDir: scran.Rcheck |
| Warnings: 0 |
##############################################################################
##############################################################################
###
### Running command:
###
### C:\Users\biocbuild\bbs-3.11-bioc\R\bin\R.exe CMD check --force-multiarch --install=check:scran.install-out.txt --library=C:\Users\biocbuild\bbs-3.11-bioc\R\library --no-vignettes --timings scran_1.16.0.tar.gz
###
##############################################################################
##############################################################################
* using log directory 'C:/Users/biocbuild/bbs-3.11-bioc/meat/scran.Rcheck'
* using R version 4.0.3 (2020-10-10)
* using platform: x86_64-w64-mingw32 (64-bit)
* using session charset: ISO8859-1
* using option '--no-vignettes'
* checking for file 'scran/DESCRIPTION' ... OK
* this is package 'scran' version '1.16.0'
* checking package namespace information ... OK
* checking package dependencies ... OK
* checking if this is a source package ... OK
* checking if there is a namespace ... OK
* checking for hidden files and directories ... OK
* checking for portable file names ... OK
* checking whether package 'scran' can be installed ... OK
* checking installed package size ... OK
* checking package directory ... OK
* checking 'build' directory ... OK
* checking DESCRIPTION meta-information ... OK
* checking top-level files ... OK
* checking for left-over files ... OK
* checking index information ... OK
* checking package subdirectories ... OK
* checking R files for non-ASCII characters ... OK
* checking R files for syntax errors ... OK
* loading checks for arch 'i386'
** checking whether the package can be loaded ... OK
** checking whether the package can be loaded with stated dependencies ... OK
** checking whether the package can be unloaded cleanly ... OK
** checking whether the namespace can be loaded with stated dependencies ... OK
** checking whether the namespace can be unloaded cleanly ... OK
* loading checks for arch 'x64'
** checking whether the package can be loaded ... OK
** checking whether the package can be loaded with stated dependencies ... OK
** checking whether the package can be unloaded cleanly ... OK
** checking whether the namespace can be loaded with stated dependencies ... OK
** checking whether the namespace can be unloaded cleanly ... OK
* checking dependencies in R code ... OK
* checking S3 generic/method consistency ... OK
* checking replacement functions ... OK
* checking foreign function calls ... OK
* checking R code for possible problems ... OK
* checking Rd files ... OK
* checking Rd metadata ... OK
* checking Rd cross-references ... OK
* checking for missing documentation entries ... OK
* checking for code/documentation mismatches ... OK
* checking Rd \usage sections ... OK
* checking Rd contents ... OK
* checking for unstated dependencies in examples ... OK
* checking line endings in C/C++/Fortran sources/headers ... OK
* checking line endings in Makefiles ... OK
* checking compilation flags in Makevars ... OK
* checking for GNU extensions in Makefiles ... OK
* checking for portable use of $(BLAS_LIBS) and $(LAPACK_LIBS) ... OK
* checking use of PKG_*FLAGS in Makefiles ... OK
* checking compiled code ... NOTE
Note: information on .o files for i386 is not available
Note: information on .o files for x64 is not available
File 'C:/Users/biocbuild/bbs-3.11-bioc/R/library/scran/libs/i386/scran.dll':
Found 'abort', possibly from 'abort' (C), 'runtime' (Fortran)
Found 'exit', possibly from 'exit' (C), 'stop' (Fortran)
Found 'printf', possibly from 'printf' (C)
File 'C:/Users/biocbuild/bbs-3.11-bioc/R/library/scran/libs/x64/scran.dll':
Found 'abort', possibly from 'abort' (C), 'runtime' (Fortran)
Found 'exit', possibly from 'exit' (C), 'stop' (Fortran)
Found 'printf', possibly from 'printf' (C)
Compiled code should not call entry points which might terminate R nor
write to stdout/stderr instead of to the console, nor use Fortran I/O
nor system RNGs. The detected symbols are linked into the code but
might come from libraries and not actually be called.
See 'Writing portable packages' in the 'Writing R Extensions' manual.
* checking files in 'vignettes' ... OK
* checking examples ...
** running examples for arch 'i386' ... OK
Examples with CPU (user + system) or elapsed time > 5s
user system elapsed
clusterSNNGraph 21.86 0.16 22.02
cyclone 15.44 0.80 16.23
bootstrapCluster 11.87 0.36 12.28
buildSNNGraph 6.11 0.13 6.24
computeSumFactors 5.35 0.21 5.56
decideTestsPerLabel 5.34 0.11 5.46
doubletCells 5.22 0.11 5.33
sandbag 0.80 0.00 6.52
** running examples for arch 'x64' ... OK
Examples with CPU (user + system) or elapsed time > 5s
user system elapsed
clusterSNNGraph 24.66 0.29 24.95
cyclone 17.12 0.25 17.95
bootstrapCluster 11.83 0.19 12.02
computeSumFactors 6.34 0.20 6.56
buildSNNGraph 6.03 0.09 6.13
decideTestsPerLabel 5.60 0.09 5.71
pseudoBulkDGE 5.42 0.12 5.55
* checking for unstated dependencies in 'tests' ... OK
* checking tests ...
** running tests for arch 'i386' ...
Running 'testthat.R'
OK
** running tests for arch 'x64' ...
Running 'testthat.R'
OK
* checking for unstated dependencies in vignettes ... OK
* checking package vignettes in 'inst/doc' ... OK
* checking running R code from vignettes ... SKIPPED
* checking re-building of vignette outputs ... SKIPPED
* checking PDF version of manual ... OK
* DONE
Status: 1 NOTE
See
'C:/Users/biocbuild/bbs-3.11-bioc/meat/scran.Rcheck/00check.log'
for details.
scran.Rcheck/00install.out
##############################################################################
##############################################################################
###
### Running command:
###
### C:\cygwin\bin\curl.exe -O https://malbec2.bioconductor.org/BBS/3.11/bioc/src/contrib/scran_1.16.0.tar.gz && rm -rf scran.buildbin-libdir && mkdir scran.buildbin-libdir && C:\Users\biocbuild\bbs-3.11-bioc\R\bin\R.exe CMD INSTALL --merge-multiarch --build --library=scran.buildbin-libdir scran_1.16.0.tar.gz && C:\Users\biocbuild\bbs-3.11-bioc\R\bin\R.exe CMD INSTALL scran_1.16.0.zip && rm scran_1.16.0.tar.gz scran_1.16.0.zip
###
##############################################################################
##############################################################################
% Total % Received % Xferd Average Speed Time Time Time Current
Dload Upload Total Spent Left Speed
0 0 0 0 0 0 0 0 --:--:-- --:--:-- --:--:-- 0
100 563k 100 563k 0 0 9071k 0 --:--:-- --:--:-- --:--:-- 10.0M
install for i386
* installing *source* package 'scran' ...
** using staged installation
** libs
"C:/rtools40/mingw32/bin/"g++ -std=gnu++11 -I"C:/Users/BIOCBU~1/BBS-3~1.11-/R/include" -DNDEBUG -I'C:/Users/biocbuild/bbs-3.11-bioc/R/library/Rcpp/include' -I'C:/Users/biocbuild/bbs-3.11-bioc/R/library/beachmat/include' -I'C:/Users/biocbuild/bbs-3.11-bioc/R/library/BH/include' -I'C:/Users/biocbuild/bbs-3.11-bioc/R/library/dqrng/include' -I"C:/extsoft/include" -O2 -Wall -mfpmath=sse -msse2 -mstackrealign -c RcppExports.cpp -o RcppExports.o
"C:/rtools40/mingw32/bin/"g++ -std=gnu++11 -I"C:/Users/BIOCBU~1/BBS-3~1.11-/R/include" -DNDEBUG -I'C:/Users/biocbuild/bbs-3.11-bioc/R/library/Rcpp/include' -I'C:/Users/biocbuild/bbs-3.11-bioc/R/library/beachmat/include' -I'C:/Users/biocbuild/bbs-3.11-bioc/R/library/BH/include' -I'C:/Users/biocbuild/bbs-3.11-bioc/R/library/dqrng/include' -I"C:/extsoft/include" -O2 -Wall -mfpmath=sse -msse2 -mstackrealign -c build_snn.cpp -o build_snn.o
"C:/rtools40/mingw32/bin/"g++ -std=gnu++11 -I"C:/Users/BIOCBU~1/BBS-3~1.11-/R/include" -DNDEBUG -I'C:/Users/biocbuild/bbs-3.11-bioc/R/library/Rcpp/include' -I'C:/Users/biocbuild/bbs-3.11-bioc/R/library/beachmat/include' -I'C:/Users/biocbuild/bbs-3.11-bioc/R/library/BH/include' -I'C:/Users/biocbuild/bbs-3.11-bioc/R/library/dqrng/include' -I"C:/extsoft/include" -O2 -Wall -mfpmath=sse -msse2 -mstackrealign -c combine_rho.cpp -o combine_rho.o
"C:/rtools40/mingw32/bin/"g++ -std=gnu++11 -I"C:/Users/BIOCBU~1/BBS-3~1.11-/R/include" -DNDEBUG -I'C:/Users/biocbuild/bbs-3.11-bioc/R/library/Rcpp/include' -I'C:/Users/biocbuild/bbs-3.11-bioc/R/library/beachmat/include' -I'C:/Users/biocbuild/bbs-3.11-bioc/R/library/BH/include' -I'C:/Users/biocbuild/bbs-3.11-bioc/R/library/dqrng/include' -I"C:/extsoft/include" -O2 -Wall -mfpmath=sse -msse2 -mstackrealign -c combine_simes.cpp -o combine_simes.o
combine_simes.cpp: In instantiation of 'size_t instantiate_list(Rcpp::List, std::vector<T>&, std::__cxx11::string) [with V = Rcpp::Vector<14, Rcpp::PreserveStorage>; size_t = unsigned int; Rcpp::List = Rcpp::Vector<19>; std::__cxx11::string = std::__cxx11::basic_string<char>]':
combine_simes.cpp:28:70: required from here
combine_simes.cpp:13:23: warning: comparison of integer expressions of different signedness: 'size_t' {aka 'unsigned int'} and 'R_xlen_t' {aka 'int'} [-Wsign-compare]
for (size_t c=0; c<input.size(); ++c) {
~^~~~~~~~~~~~~
combine_simes.cpp: In instantiation of 'size_t instantiate_list(Rcpp::List, std::vector<T>&, std::__cxx11::string) [with V = Rcpp::Vector<13>; size_t = unsigned int; Rcpp::List = Rcpp::Vector<19>; std::__cxx11::string = std::__cxx11::basic_string<char>]':
combine_simes.cpp:145:67: required from here
combine_simes.cpp:13:23: warning: comparison of integer expressions of different signedness: 'size_t' {aka 'unsigned int'} and 'R_xlen_t' {aka 'int'} [-Wsign-compare]
"C:/rtools40/mingw32/bin/"g++ -std=gnu++11 -I"C:/Users/BIOCBU~1/BBS-3~1.11-/R/include" -DNDEBUG -I'C:/Users/biocbuild/bbs-3.11-bioc/R/library/Rcpp/include' -I'C:/Users/biocbuild/bbs-3.11-bioc/R/library/beachmat/include' -I'C:/Users/biocbuild/bbs-3.11-bioc/R/library/BH/include' -I'C:/Users/biocbuild/bbs-3.11-bioc/R/library/dqrng/include' -I"C:/extsoft/include" -O2 -Wall -mfpmath=sse -msse2 -mstackrealign -c compute_blocked_stats.cpp -o compute_blocked_stats.o
"C:/rtools40/mingw32/bin/"g++ -std=gnu++11 -I"C:/Users/BIOCBU~1/BBS-3~1.11-/R/include" -DNDEBUG -I'C:/Users/biocbuild/bbs-3.11-bioc/R/library/Rcpp/include' -I'C:/Users/biocbuild/bbs-3.11-bioc/R/library/beachmat/include' -I'C:/Users/biocbuild/bbs-3.11-bioc/R/library/BH/include' -I'C:/Users/biocbuild/bbs-3.11-bioc/R/library/dqrng/include' -I"C:/extsoft/include" -O2 -Wall -mfpmath=sse -msse2 -mstackrealign -c compute_residual_stats.cpp -o compute_residual_stats.o
"C:/rtools40/mingw32/bin/"g++ -std=gnu++11 -I"C:/Users/BIOCBU~1/BBS-3~1.11-/R/include" -DNDEBUG -I'C:/Users/biocbuild/bbs-3.11-bioc/R/library/Rcpp/include' -I'C:/Users/biocbuild/bbs-3.11-bioc/R/library/beachmat/include' -I'C:/Users/biocbuild/bbs-3.11-bioc/R/library/BH/include' -I'C:/Users/biocbuild/bbs-3.11-bioc/R/library/dqrng/include' -I"C:/extsoft/include" -O2 -Wall -mfpmath=sse -msse2 -mstackrealign -c compute_rho_null.cpp -o compute_rho_null.o
In file included from C:/Users/biocbuild/bbs-3.11-bioc/R/library/BH/include/boost/mpl/aux_/na_assert.hpp:23,
from C:/Users/biocbuild/bbs-3.11-bioc/R/library/BH/include/boost/mpl/arg.hpp:25,
from C:/Users/biocbuild/bbs-3.11-bioc/R/library/BH/include/boost/mpl/placeholders.hpp:24,
from C:/Users/biocbuild/bbs-3.11-bioc/R/library/BH/include/boost/mpl/apply.hpp:24,
from C:/Users/biocbuild/bbs-3.11-bioc/R/library/BH/include/boost/mpl/aux_/iter_apply.hpp:17,
from C:/Users/biocbuild/bbs-3.11-bioc/R/library/BH/include/boost/mpl/aux_/find_if_pred.hpp:14,
from C:/Users/biocbuild/bbs-3.11-bioc/R/library/BH/include/boost/mpl/find_if.hpp:17,
from C:/Users/biocbuild/bbs-3.11-bioc/R/library/BH/include/boost/mpl/find.hpp:17,
from C:/Users/biocbuild/bbs-3.11-bioc/R/library/BH/include/boost/mpl/aux_/contains_impl.hpp:20,
from C:/Users/biocbuild/bbs-3.11-bioc/R/library/BH/include/boost/mpl/contains.hpp:20,
from C:/Users/biocbuild/bbs-3.11-bioc/R/library/BH/include/boost/math/policies/policy.hpp:10,
from C:/Users/biocbuild/bbs-3.11-bioc/R/library/BH/include/boost/math/special_functions/math_fwd.hpp:29,
from C:/Users/biocbuild/bbs-3.11-bioc/R/library/BH/include/boost/math/special_functions/fpclassify.hpp:19,
from C:/Users/biocbuild/bbs-3.11-bioc/R/library/BH/include/boost/random/hyperexponential_distribution.hpp:22,
from C:/Users/biocbuild/bbs-3.11-bioc/R/library/BH/include/boost/random.hpp:69,
from rand_custom.h:6,
from compute_rho_null.cpp:4:
C:/Users/biocbuild/bbs-3.11-bioc/R/library/BH/include/boost/mpl/assert.hpp:194:21: warning: unnecessary parentheses in declaration of 'assert_arg' [-Wparentheses]
failed ************ (Pred::************
^
C:/Users/biocbuild/bbs-3.11-bioc/R/library/BH/include/boost/mpl/assert.hpp:199:21: warning: unnecessary parentheses in declaration of 'assert_not_arg' [-Wparentheses]
failed ************ (boost::mpl::not_<Pred>::************
^
"C:/rtools40/mingw32/bin/"g++ -std=gnu++11 -I"C:/Users/BIOCBU~1/BBS-3~1.11-/R/include" -DNDEBUG -I'C:/Users/biocbuild/bbs-3.11-bioc/R/library/Rcpp/include' -I'C:/Users/biocbuild/bbs-3.11-bioc/R/library/beachmat/include' -I'C:/Users/biocbuild/bbs-3.11-bioc/R/library/BH/include' -I'C:/Users/biocbuild/bbs-3.11-bioc/R/library/dqrng/include' -I"C:/extsoft/include" -O2 -Wall -mfpmath=sse -msse2 -mstackrealign -c compute_rho_pairs.cpp -o compute_rho_pairs.o
"C:/rtools40/mingw32/bin/"g++ -std=gnu++11 -I"C:/Users/BIOCBU~1/BBS-3~1.11-/R/include" -DNDEBUG -I'C:/Users/biocbuild/bbs-3.11-bioc/R/library/Rcpp/include' -I'C:/Users/biocbuild/bbs-3.11-bioc/R/library/beachmat/include' -I'C:/Users/biocbuild/bbs-3.11-bioc/R/library/BH/include' -I'C:/Users/biocbuild/bbs-3.11-bioc/R/library/dqrng/include' -I"C:/extsoft/include" -O2 -Wall -mfpmath=sse -msse2 -mstackrealign -c cyclone_scores.cpp -o cyclone_scores.o
In file included from C:/Users/biocbuild/bbs-3.11-bioc/R/library/BH/include/boost/mpl/aux_/na_assert.hpp:23,
from C:/Users/biocbuild/bbs-3.11-bioc/R/library/BH/include/boost/mpl/arg.hpp:25,
from C:/Users/biocbuild/bbs-3.11-bioc/R/library/BH/include/boost/mpl/placeholders.hpp:24,
from C:/Users/biocbuild/bbs-3.11-bioc/R/library/BH/include/boost/iterator/iterator_categories.hpp:16,
from C:/Users/biocbuild/bbs-3.11-bioc/R/library/BH/include/boost/iterator/iterator_concepts.hpp:10,
from C:/Users/biocbuild/bbs-3.11-bioc/R/library/BH/include/boost/range/concepts.hpp:20,
from C:/Users/biocbuild/bbs-3.11-bioc/R/library/BH/include/boost/range/algorithm.hpp:29,
from cyclone_scores.cpp:6:
C:/Users/biocbuild/bbs-3.11-bioc/R/library/BH/include/boost/mpl/assert.hpp:194:21: warning: unnecessary parentheses in declaration of 'assert_arg' [-Wparentheses]
failed ************ (Pred::************
^
C:/Users/biocbuild/bbs-3.11-bioc/R/library/BH/include/boost/mpl/assert.hpp:199:21: warning: unnecessary parentheses in declaration of 'assert_not_arg' [-Wparentheses]
failed ************ (boost::mpl::not_<Pred>::************
^
"C:/rtools40/mingw32/bin/"g++ -std=gnu++11 -I"C:/Users/BIOCBU~1/BBS-3~1.11-/R/include" -DNDEBUG -I'C:/Users/biocbuild/bbs-3.11-bioc/R/library/Rcpp/include' -I'C:/Users/biocbuild/bbs-3.11-bioc/R/library/beachmat/include' -I'C:/Users/biocbuild/bbs-3.11-bioc/R/library/BH/include' -I'C:/Users/biocbuild/bbs-3.11-bioc/R/library/dqrng/include' -I"C:/extsoft/include" -O2 -Wall -mfpmath=sse -msse2 -mstackrealign -c fit_linear_model.cpp -o fit_linear_model.o
"C:/rtools40/mingw32/bin/"g++ -std=gnu++11 -I"C:/Users/BIOCBU~1/BBS-3~1.11-/R/include" -DNDEBUG -I'C:/Users/biocbuild/bbs-3.11-bioc/R/library/Rcpp/include' -I'C:/Users/biocbuild/bbs-3.11-bioc/R/library/beachmat/include' -I'C:/Users/biocbuild/bbs-3.11-bioc/R/library/BH/include' -I'C:/Users/biocbuild/bbs-3.11-bioc/R/library/dqrng/include' -I"C:/extsoft/include" -O2 -Wall -mfpmath=sse -msse2 -mstackrealign -c get_residuals.cpp -o get_residuals.o
"C:/rtools40/mingw32/bin/"g++ -std=gnu++11 -I"C:/Users/BIOCBU~1/BBS-3~1.11-/R/include" -DNDEBUG -I'C:/Users/biocbuild/bbs-3.11-bioc/R/library/Rcpp/include' -I'C:/Users/biocbuild/bbs-3.11-bioc/R/library/beachmat/include' -I'C:/Users/biocbuild/bbs-3.11-bioc/R/library/BH/include' -I'C:/Users/biocbuild/bbs-3.11-bioc/R/library/dqrng/include' -I"C:/extsoft/include" -O2 -Wall -mfpmath=sse -msse2 -mstackrealign -c get_scaled_ranks.cpp -o get_scaled_ranks.o
get_scaled_ranks.cpp: In instantiation of 'SEXPREC* average_ranks_internal(SEXP, SEXP, SEXP, SEXP) [with M = beachmat::lin_matrix<int, Rcpp::Vector<13> >; SEXP = SEXPREC*]':
get_scaled_ranks.cpp:137:100: required from here
get_scaled_ranks.cpp:67:16: warning: unused variable 'accumulated_rank' [-Wunused-variable]
double accumulated_rank=0;
^~~~~~~~~~~~~~~~
get_scaled_ranks.cpp: In instantiation of 'SEXPREC* average_ranks_internal(SEXP, SEXP, SEXP, SEXP) [with M = beachmat::lin_matrix<double, Rcpp::Vector<14, Rcpp::PreserveStorage> >; SEXP = SEXPREC*]':
get_scaled_ranks.cpp:139:100: required from here
get_scaled_ranks.cpp:67:16: warning: unused variable 'accumulated_rank' [-Wunused-variable]
"C:/rtools40/mingw32/bin/"g++ -std=gnu++11 -I"C:/Users/BIOCBU~1/BBS-3~1.11-/R/include" -DNDEBUG -I'C:/Users/biocbuild/bbs-3.11-bioc/R/library/Rcpp/include' -I'C:/Users/biocbuild/bbs-3.11-bioc/R/library/beachmat/include' -I'C:/Users/biocbuild/bbs-3.11-bioc/R/library/BH/include' -I'C:/Users/biocbuild/bbs-3.11-bioc/R/library/dqrng/include' -I"C:/extsoft/include" -O2 -Wall -mfpmath=sse -msse2 -mstackrealign -c overlap_exprs.cpp -o overlap_exprs.o
"C:/rtools40/mingw32/bin/"g++ -std=gnu++11 -I"C:/Users/BIOCBU~1/BBS-3~1.11-/R/include" -DNDEBUG -I'C:/Users/biocbuild/bbs-3.11-bioc/R/library/Rcpp/include' -I'C:/Users/biocbuild/bbs-3.11-bioc/R/library/beachmat/include' -I'C:/Users/biocbuild/bbs-3.11-bioc/R/library/BH/include' -I'C:/Users/biocbuild/bbs-3.11-bioc/R/library/dqrng/include' -I"C:/extsoft/include" -O2 -Wall -mfpmath=sse -msse2 -mstackrealign -c pool_size_factors.cpp -o pool_size_factors.o
pool_size_factors.cpp: In function 'Rcpp::List pool_size_factors(Rcpp::RObject, Rcpp::NumericVector, Rcpp::IntegerVector, Rcpp::IntegerVector)':
pool_size_factors.cpp:36:15: warning: comparison of integer expressions of different signedness: 'const size_t' {aka 'const unsigned int'} and 'R_xlen_t' {aka 'int'} [-Wsign-compare]
if (ngenes!=pseudo_cell.size()) { throw std::runtime_error("length of pseudo-cell vector is not the same as the number of cells"); }
~~~~~~^~~~~~~~~~~~~~~~~~~~
pool_size_factors.cpp:39:22: warning: comparison of integer expressions of different signedness: 'R_xlen_t' {aka 'int'} and 'unsigned int' [-Wsign-compare]
if (order.size() < ncells*2-1) { throw std::runtime_error("ordering vector is too short for number of cells"); }
~~~~~~~~~~~~~^~~~~~~~~~~~
pool_size_factors.cpp:101:37: warning: comparison of integer expressions of different signedness: 'int' and 'unsigned int' [-Wsign-compare]
for (auto i=0; i<n; ++i, ++val, ++idx) {
~^~
In file included from pool_size_factors.cpp:4:
C:/Users/biocbuild/bbs-3.11-bioc/R/library/beachmat/include/beachmat/utils/const_column.h: In instantiation of 'Rcpp::traits::storage_type<13>::type* beachmat::const_column<M>::get_indices() [with M = beachmat::lin_matrix<double, Rcpp::Vector<14, Rcpp::PreserveStorage> >; Rcpp::Vector<13>::iterator = int*; Rcpp::traits::storage_type<13>::type = int]':
pool_size_factors.cpp:52:34: required from here
C:/Users/biocbuild/bbs-3.11-bioc/R/library/beachmat/include/beachmat/utils/const_column.h:66:29: warning: comparison of integer expressions of different signedness: 'size_t' {aka 'unsigned int'} and 'R_xlen_t' {aka 'int'} [-Wsign-compare]
if (ref->get_nrow() > indices.size()) {
"C:/rtools40/mingw32/bin/"g++ -std=gnu++11 -I"C:/Users/BIOCBU~1/BBS-3~1.11-/R/include" -DNDEBUG -I'C:/Users/biocbuild/bbs-3.11-bioc/R/library/Rcpp/include' -I'C:/Users/biocbuild/bbs-3.11-bioc/R/library/beachmat/include' -I'C:/Users/biocbuild/bbs-3.11-bioc/R/library/BH/include' -I'C:/Users/biocbuild/bbs-3.11-bioc/R/library/dqrng/include' -I"C:/extsoft/include" -O2 -Wall -mfpmath=sse -msse2 -mstackrealign -c rand_custom.cpp -o rand_custom.o
In file included from C:/Users/biocbuild/bbs-3.11-bioc/R/library/BH/include/boost/mpl/aux_/na_assert.hpp:23,
from C:/Users/biocbuild/bbs-3.11-bioc/R/library/BH/include/boost/mpl/arg.hpp:25,
from C:/Users/biocbuild/bbs-3.11-bioc/R/library/BH/include/boost/mpl/placeholders.hpp:24,
from C:/Users/biocbuild/bbs-3.11-bioc/R/library/BH/include/boost/mpl/apply.hpp:24,
from C:/Users/biocbuild/bbs-3.11-bioc/R/library/BH/include/boost/mpl/aux_/iter_apply.hpp:17,
from C:/Users/biocbuild/bbs-3.11-bioc/R/library/BH/include/boost/mpl/aux_/find_if_pred.hpp:14,
from C:/Users/biocbuild/bbs-3.11-bioc/R/library/BH/include/boost/mpl/find_if.hpp:17,
from C:/Users/biocbuild/bbs-3.11-bioc/R/library/BH/include/boost/mpl/find.hpp:17,
from C:/Users/biocbuild/bbs-3.11-bioc/R/library/BH/include/boost/mpl/aux_/contains_impl.hpp:20,
from C:/Users/biocbuild/bbs-3.11-bioc/R/library/BH/include/boost/mpl/contains.hpp:20,
from C:/Users/biocbuild/bbs-3.11-bioc/R/library/BH/include/boost/math/policies/policy.hpp:10,
from C:/Users/biocbuild/bbs-3.11-bioc/R/library/BH/include/boost/math/special_functions/math_fwd.hpp:29,
from C:/Users/biocbuild/bbs-3.11-bioc/R/library/BH/include/boost/math/special_functions/fpclassify.hpp:19,
from C:/Users/biocbuild/bbs-3.11-bioc/R/library/BH/include/boost/random/hyperexponential_distribution.hpp:22,
from C:/Users/biocbuild/bbs-3.11-bioc/R/library/BH/include/boost/random.hpp:69,
from rand_custom.h:6,
from rand_custom.cpp:1:
C:/Users/biocbuild/bbs-3.11-bioc/R/library/BH/include/boost/mpl/assert.hpp:194:21: warning: unnecessary parentheses in declaration of 'assert_arg' [-Wparentheses]
failed ************ (Pred::************
^
C:/Users/biocbuild/bbs-3.11-bioc/R/library/BH/include/boost/mpl/assert.hpp:199:21: warning: unnecessary parentheses in declaration of 'assert_not_arg' [-Wparentheses]
failed ************ (boost::mpl::not_<Pred>::************
^
"C:/rtools40/mingw32/bin/"g++ -std=gnu++11 -I"C:/Users/BIOCBU~1/BBS-3~1.11-/R/include" -DNDEBUG -I'C:/Users/biocbuild/bbs-3.11-bioc/R/library/Rcpp/include' -I'C:/Users/biocbuild/bbs-3.11-bioc/R/library/beachmat/include' -I'C:/Users/biocbuild/bbs-3.11-bioc/R/library/BH/include' -I'C:/Users/biocbuild/bbs-3.11-bioc/R/library/dqrng/include' -I"C:/extsoft/include" -O2 -Wall -mfpmath=sse -msse2 -mstackrealign -c run_dormqr.cpp -o run_dormqr.o
"C:/rtools40/mingw32/bin/"g++ -std=gnu++11 -I"C:/Users/BIOCBU~1/BBS-3~1.11-/R/include" -DNDEBUG -I'C:/Users/biocbuild/bbs-3.11-bioc/R/library/Rcpp/include' -I'C:/Users/biocbuild/bbs-3.11-bioc/R/library/beachmat/include' -I'C:/Users/biocbuild/bbs-3.11-bioc/R/library/BH/include' -I'C:/Users/biocbuild/bbs-3.11-bioc/R/library/dqrng/include' -I"C:/extsoft/include" -O2 -Wall -mfpmath=sse -msse2 -mstackrealign -c subset_and_divide.cpp -o subset_and_divide.o
"C:/rtools40/mingw32/bin/"g++ -std=gnu++11 -I"C:/Users/BIOCBU~1/BBS-3~1.11-/R/include" -DNDEBUG -I'C:/Users/biocbuild/bbs-3.11-bioc/R/library/Rcpp/include' -I'C:/Users/biocbuild/bbs-3.11-bioc/R/library/beachmat/include' -I'C:/Users/biocbuild/bbs-3.11-bioc/R/library/BH/include' -I'C:/Users/biocbuild/bbs-3.11-bioc/R/library/dqrng/include' -I"C:/extsoft/include" -O2 -Wall -mfpmath=sse -msse2 -mstackrealign -c utils.cpp -o utils.o
C:/rtools40/mingw32/bin/g++ -shared -s -static-libgcc -o scran.dll tmp.def RcppExports.o build_snn.o combine_rho.o combine_simes.o compute_blocked_stats.o compute_residual_stats.o compute_rho_null.o compute_rho_pairs.o cyclone_scores.o fit_linear_model.o get_residuals.o get_scaled_ranks.o overlap_exprs.o pool_size_factors.o rand_custom.o run_dormqr.o subset_and_divide.o utils.o -LC:/Users/BIOCBU~1/BBS-3~1.11-/R/bin/i386 -lRlapack -LC:/Users/BIOCBU~1/BBS-3~1.11-/R/bin/i386 -lRblas -lgfortran -lm -lquadmath -LC:/extsoft/lib/i386 -LC:/extsoft/lib -LC:/Users/BIOCBU~1/BBS-3~1.11-/R/bin/i386 -lR
installing to C:/Users/biocbuild/bbs-3.11-bioc/meat/scran.buildbin-libdir/00LOCK-scran/00new/scran/libs/i386
** R
** inst
** byte-compile and prepare package for lazy loading
** help
*** installing help indices
converting help for package 'scran'
finding HTML links ... done
DM html
bootstrapCluster html
finding level-2 HTML links ... done
buildSNNGraph html
cleanSizeFactors html
clusterModularity html
clusterPurity html
clusterSNNGraph html
coassignProb html
combineMarkers html
combinePValues html
combineVar html
computeSpikeFactors html
computeSumFactors html
convertTo html
correlateGenes html
correlateNull html
correlatePairs html
cyclone html
decideTestsPerLabel html
defunct html
denoisePCA html
doubletCells html
doubletCluster html
doubletRecovery html
findMarkers html
fitTrendCV2 html
fitTrendPoisson html
fitTrendVar html
gene_selection html
getClusteredPCs html
getMarkerEffects html
getTopHVGs html
getTopMarkers html
modelGeneCV2 html
modelGeneCV2WithSpikes html
modelGeneVar html
modelGeneVarByPoisson html
modelGeneVarWithSpikes html
multiMarkerStats html
pairwiseBinom html
pairwiseTTests html
pairwiseWilcox html
pseudoBulkDGE html
quickCluster html
quickSubCluster html
sandbag html
scaledColRanks html
** building package indices
** installing vignettes
** testing if installed package can be loaded from temporary location
** testing if installed package can be loaded from final location
** testing if installed package keeps a record of temporary installation path
install for x64
* installing *source* package 'scran' ...
** libs
"C:/rtools40/mingw64/bin/"g++ -std=gnu++11 -I"C:/Users/BIOCBU~1/BBS-3~1.11-/R/include" -DNDEBUG -I'C:/Users/biocbuild/bbs-3.11-bioc/R/library/Rcpp/include' -I'C:/Users/biocbuild/bbs-3.11-bioc/R/library/beachmat/include' -I'C:/Users/biocbuild/bbs-3.11-bioc/R/library/BH/include' -I'C:/Users/biocbuild/bbs-3.11-bioc/R/library/dqrng/include' -I"C:/extsoft/include" -O2 -Wall -mfpmath=sse -msse2 -mstackrealign -c RcppExports.cpp -o RcppExports.o
"C:/rtools40/mingw64/bin/"g++ -std=gnu++11 -I"C:/Users/BIOCBU~1/BBS-3~1.11-/R/include" -DNDEBUG -I'C:/Users/biocbuild/bbs-3.11-bioc/R/library/Rcpp/include' -I'C:/Users/biocbuild/bbs-3.11-bioc/R/library/beachmat/include' -I'C:/Users/biocbuild/bbs-3.11-bioc/R/library/BH/include' -I'C:/Users/biocbuild/bbs-3.11-bioc/R/library/dqrng/include' -I"C:/extsoft/include" -O2 -Wall -mfpmath=sse -msse2 -mstackrealign -c build_snn.cpp -o build_snn.o
"C:/rtools40/mingw64/bin/"g++ -std=gnu++11 -I"C:/Users/BIOCBU~1/BBS-3~1.11-/R/include" -DNDEBUG -I'C:/Users/biocbuild/bbs-3.11-bioc/R/library/Rcpp/include' -I'C:/Users/biocbuild/bbs-3.11-bioc/R/library/beachmat/include' -I'C:/Users/biocbuild/bbs-3.11-bioc/R/library/BH/include' -I'C:/Users/biocbuild/bbs-3.11-bioc/R/library/dqrng/include' -I"C:/extsoft/include" -O2 -Wall -mfpmath=sse -msse2 -mstackrealign -c combine_rho.cpp -o combine_rho.o
"C:/rtools40/mingw64/bin/"g++ -std=gnu++11 -I"C:/Users/BIOCBU~1/BBS-3~1.11-/R/include" -DNDEBUG -I'C:/Users/biocbuild/bbs-3.11-bioc/R/library/Rcpp/include' -I'C:/Users/biocbuild/bbs-3.11-bioc/R/library/beachmat/include' -I'C:/Users/biocbuild/bbs-3.11-bioc/R/library/BH/include' -I'C:/Users/biocbuild/bbs-3.11-bioc/R/library/dqrng/include' -I"C:/extsoft/include" -O2 -Wall -mfpmath=sse -msse2 -mstackrealign -c combine_simes.cpp -o combine_simes.o
combine_simes.cpp: In instantiation of 'size_t instantiate_list(Rcpp::List, std::vector<T>&, std::__cxx11::string) [with V = Rcpp::Vector<14, Rcpp::PreserveStorage>; size_t = long long unsigned int; Rcpp::List = Rcpp::Vector<19>; std::__cxx11::string = std::__cxx11::basic_string<char>]':
combine_simes.cpp:28:70: required from here
combine_simes.cpp:13:23: warning: comparison of integer expressions of different signedness: 'size_t' {aka 'long long unsigned int'} and 'R_xlen_t' {aka 'long long int'} [-Wsign-compare]
for (size_t c=0; c<input.size(); ++c) {
~^~~~~~~~~~~~~
combine_simes.cpp: In instantiation of 'size_t instantiate_list(Rcpp::List, std::vector<T>&, std::__cxx11::string) [with V = Rcpp::Vector<13>; size_t = long long unsigned int; Rcpp::List = Rcpp::Vector<19>; std::__cxx11::string = std::__cxx11::basic_string<char>]':
combine_simes.cpp:145:67: required from here
combine_simes.cpp:13:23: warning: comparison of integer expressions of different signedness: 'size_t' {aka 'long long unsigned int'} and 'R_xlen_t' {aka 'long long int'} [-Wsign-compare]
"C:/rtools40/mingw64/bin/"g++ -std=gnu++11 -I"C:/Users/BIOCBU~1/BBS-3~1.11-/R/include" -DNDEBUG -I'C:/Users/biocbuild/bbs-3.11-bioc/R/library/Rcpp/include' -I'C:/Users/biocbuild/bbs-3.11-bioc/R/library/beachmat/include' -I'C:/Users/biocbuild/bbs-3.11-bioc/R/library/BH/include' -I'C:/Users/biocbuild/bbs-3.11-bioc/R/library/dqrng/include' -I"C:/extsoft/include" -O2 -Wall -mfpmath=sse -msse2 -mstackrealign -c compute_blocked_stats.cpp -o compute_blocked_stats.o
"C:/rtools40/mingw64/bin/"g++ -std=gnu++11 -I"C:/Users/BIOCBU~1/BBS-3~1.11-/R/include" -DNDEBUG -I'C:/Users/biocbuild/bbs-3.11-bioc/R/library/Rcpp/include' -I'C:/Users/biocbuild/bbs-3.11-bioc/R/library/beachmat/include' -I'C:/Users/biocbuild/bbs-3.11-bioc/R/library/BH/include' -I'C:/Users/biocbuild/bbs-3.11-bioc/R/library/dqrng/include' -I"C:/extsoft/include" -O2 -Wall -mfpmath=sse -msse2 -mstackrealign -c compute_residual_stats.cpp -o compute_residual_stats.o
"C:/rtools40/mingw64/bin/"g++ -std=gnu++11 -I"C:/Users/BIOCBU~1/BBS-3~1.11-/R/include" -DNDEBUG -I'C:/Users/biocbuild/bbs-3.11-bioc/R/library/Rcpp/include' -I'C:/Users/biocbuild/bbs-3.11-bioc/R/library/beachmat/include' -I'C:/Users/biocbuild/bbs-3.11-bioc/R/library/BH/include' -I'C:/Users/biocbuild/bbs-3.11-bioc/R/library/dqrng/include' -I"C:/extsoft/include" -O2 -Wall -mfpmath=sse -msse2 -mstackrealign -c compute_rho_null.cpp -o compute_rho_null.o
In file included from C:/Users/biocbuild/bbs-3.11-bioc/R/library/BH/include/boost/mpl/aux_/na_assert.hpp:23,
from C:/Users/biocbuild/bbs-3.11-bioc/R/library/BH/include/boost/mpl/arg.hpp:25,
from C:/Users/biocbuild/bbs-3.11-bioc/R/library/BH/include/boost/mpl/placeholders.hpp:24,
from C:/Users/biocbuild/bbs-3.11-bioc/R/library/BH/include/boost/mpl/apply.hpp:24,
from C:/Users/biocbuild/bbs-3.11-bioc/R/library/BH/include/boost/mpl/aux_/iter_apply.hpp:17,
from C:/Users/biocbuild/bbs-3.11-bioc/R/library/BH/include/boost/mpl/aux_/find_if_pred.hpp:14,
from C:/Users/biocbuild/bbs-3.11-bioc/R/library/BH/include/boost/mpl/find_if.hpp:17,
from C:/Users/biocbuild/bbs-3.11-bioc/R/library/BH/include/boost/mpl/find.hpp:17,
from C:/Users/biocbuild/bbs-3.11-bioc/R/library/BH/include/boost/mpl/aux_/contains_impl.hpp:20,
from C:/Users/biocbuild/bbs-3.11-bioc/R/library/BH/include/boost/mpl/contains.hpp:20,
from C:/Users/biocbuild/bbs-3.11-bioc/R/library/BH/include/boost/math/policies/policy.hpp:10,
from C:/Users/biocbuild/bbs-3.11-bioc/R/library/BH/include/boost/math/special_functions/math_fwd.hpp:29,
from C:/Users/biocbuild/bbs-3.11-bioc/R/library/BH/include/boost/math/special_functions/fpclassify.hpp:19,
from C:/Users/biocbuild/bbs-3.11-bioc/R/library/BH/include/boost/random/hyperexponential_distribution.hpp:22,
from C:/Users/biocbuild/bbs-3.11-bioc/R/library/BH/include/boost/random.hpp:69,
from rand_custom.h:6,
from compute_rho_null.cpp:4:
C:/Users/biocbuild/bbs-3.11-bioc/R/library/BH/include/boost/mpl/assert.hpp:194:21: warning: unnecessary parentheses in declaration of 'assert_arg' [-Wparentheses]
failed ************ (Pred::************
^
C:/Users/biocbuild/bbs-3.11-bioc/R/library/BH/include/boost/mpl/assert.hpp:199:21: warning: unnecessary parentheses in declaration of 'assert_not_arg' [-Wparentheses]
failed ************ (boost::mpl::not_<Pred>::************
^
"C:/rtools40/mingw64/bin/"g++ -std=gnu++11 -I"C:/Users/BIOCBU~1/BBS-3~1.11-/R/include" -DNDEBUG -I'C:/Users/biocbuild/bbs-3.11-bioc/R/library/Rcpp/include' -I'C:/Users/biocbuild/bbs-3.11-bioc/R/library/beachmat/include' -I'C:/Users/biocbuild/bbs-3.11-bioc/R/library/BH/include' -I'C:/Users/biocbuild/bbs-3.11-bioc/R/library/dqrng/include' -I"C:/extsoft/include" -O2 -Wall -mfpmath=sse -msse2 -mstackrealign -c compute_rho_pairs.cpp -o compute_rho_pairs.o
"C:/rtools40/mingw64/bin/"g++ -std=gnu++11 -I"C:/Users/BIOCBU~1/BBS-3~1.11-/R/include" -DNDEBUG -I'C:/Users/biocbuild/bbs-3.11-bioc/R/library/Rcpp/include' -I'C:/Users/biocbuild/bbs-3.11-bioc/R/library/beachmat/include' -I'C:/Users/biocbuild/bbs-3.11-bioc/R/library/BH/include' -I'C:/Users/biocbuild/bbs-3.11-bioc/R/library/dqrng/include' -I"C:/extsoft/include" -O2 -Wall -mfpmath=sse -msse2 -mstackrealign -c cyclone_scores.cpp -o cyclone_scores.o
In file included from C:/Users/biocbuild/bbs-3.11-bioc/R/library/BH/include/boost/mpl/aux_/na_assert.hpp:23,
from C:/Users/biocbuild/bbs-3.11-bioc/R/library/BH/include/boost/mpl/arg.hpp:25,
from C:/Users/biocbuild/bbs-3.11-bioc/R/library/BH/include/boost/mpl/placeholders.hpp:24,
from C:/Users/biocbuild/bbs-3.11-bioc/R/library/BH/include/boost/iterator/iterator_categories.hpp:16,
from C:/Users/biocbuild/bbs-3.11-bioc/R/library/BH/include/boost/iterator/iterator_concepts.hpp:10,
from C:/Users/biocbuild/bbs-3.11-bioc/R/library/BH/include/boost/range/concepts.hpp:20,
from C:/Users/biocbuild/bbs-3.11-bioc/R/library/BH/include/boost/range/algorithm.hpp:29,
from cyclone_scores.cpp:6:
C:/Users/biocbuild/bbs-3.11-bioc/R/library/BH/include/boost/mpl/assert.hpp:194:21: warning: unnecessary parentheses in declaration of 'assert_arg' [-Wparentheses]
failed ************ (Pred::************
^
C:/Users/biocbuild/bbs-3.11-bioc/R/library/BH/include/boost/mpl/assert.hpp:199:21: warning: unnecessary parentheses in declaration of 'assert_not_arg' [-Wparentheses]
failed ************ (boost::mpl::not_<Pred>::************
^
"C:/rtools40/mingw64/bin/"g++ -std=gnu++11 -I"C:/Users/BIOCBU~1/BBS-3~1.11-/R/include" -DNDEBUG -I'C:/Users/biocbuild/bbs-3.11-bioc/R/library/Rcpp/include' -I'C:/Users/biocbuild/bbs-3.11-bioc/R/library/beachmat/include' -I'C:/Users/biocbuild/bbs-3.11-bioc/R/library/BH/include' -I'C:/Users/biocbuild/bbs-3.11-bioc/R/library/dqrng/include' -I"C:/extsoft/include" -O2 -Wall -mfpmath=sse -msse2 -mstackrealign -c fit_linear_model.cpp -o fit_linear_model.o
"C:/rtools40/mingw64/bin/"g++ -std=gnu++11 -I"C:/Users/BIOCBU~1/BBS-3~1.11-/R/include" -DNDEBUG -I'C:/Users/biocbuild/bbs-3.11-bioc/R/library/Rcpp/include' -I'C:/Users/biocbuild/bbs-3.11-bioc/R/library/beachmat/include' -I'C:/Users/biocbuild/bbs-3.11-bioc/R/library/BH/include' -I'C:/Users/biocbuild/bbs-3.11-bioc/R/library/dqrng/include' -I"C:/extsoft/include" -O2 -Wall -mfpmath=sse -msse2 -mstackrealign -c get_residuals.cpp -o get_residuals.o
"C:/rtools40/mingw64/bin/"g++ -std=gnu++11 -I"C:/Users/BIOCBU~1/BBS-3~1.11-/R/include" -DNDEBUG -I'C:/Users/biocbuild/bbs-3.11-bioc/R/library/Rcpp/include' -I'C:/Users/biocbuild/bbs-3.11-bioc/R/library/beachmat/include' -I'C:/Users/biocbuild/bbs-3.11-bioc/R/library/BH/include' -I'C:/Users/biocbuild/bbs-3.11-bioc/R/library/dqrng/include' -I"C:/extsoft/include" -O2 -Wall -mfpmath=sse -msse2 -mstackrealign -c get_scaled_ranks.cpp -o get_scaled_ranks.o
get_scaled_ranks.cpp: In instantiation of 'SEXPREC* average_ranks_internal(SEXP, SEXP, SEXP, SEXP) [with M = beachmat::lin_matrix<int, Rcpp::Vector<13> >; SEXP = SEXPREC*]':
get_scaled_ranks.cpp:137:100: required from here
get_scaled_ranks.cpp:67:16: warning: unused variable 'accumulated_rank' [-Wunused-variable]
double accumulated_rank=0;
^~~~~~~~~~~~~~~~
get_scaled_ranks.cpp: In instantiation of 'SEXPREC* average_ranks_internal(SEXP, SEXP, SEXP, SEXP) [with M = beachmat::lin_matrix<double, Rcpp::Vector<14, Rcpp::PreserveStorage> >; SEXP = SEXPREC*]':
get_scaled_ranks.cpp:139:100: required from here
get_scaled_ranks.cpp:67:16: warning: unused variable 'accumulated_rank' [-Wunused-variable]
"C:/rtools40/mingw64/bin/"g++ -std=gnu++11 -I"C:/Users/BIOCBU~1/BBS-3~1.11-/R/include" -DNDEBUG -I'C:/Users/biocbuild/bbs-3.11-bioc/R/library/Rcpp/include' -I'C:/Users/biocbuild/bbs-3.11-bioc/R/library/beachmat/include' -I'C:/Users/biocbuild/bbs-3.11-bioc/R/library/BH/include' -I'C:/Users/biocbuild/bbs-3.11-bioc/R/library/dqrng/include' -I"C:/extsoft/include" -O2 -Wall -mfpmath=sse -msse2 -mstackrealign -c overlap_exprs.cpp -o overlap_exprs.o
"C:/rtools40/mingw64/bin/"g++ -std=gnu++11 -I"C:/Users/BIOCBU~1/BBS-3~1.11-/R/include" -DNDEBUG -I'C:/Users/biocbuild/bbs-3.11-bioc/R/library/Rcpp/include' -I'C:/Users/biocbuild/bbs-3.11-bioc/R/library/beachmat/include' -I'C:/Users/biocbuild/bbs-3.11-bioc/R/library/BH/include' -I'C:/Users/biocbuild/bbs-3.11-bioc/R/library/dqrng/include' -I"C:/extsoft/include" -O2 -Wall -mfpmath=sse -msse2 -mstackrealign -c pool_size_factors.cpp -o pool_size_factors.o
pool_size_factors.cpp: In function 'Rcpp::List pool_size_factors(Rcpp::RObject, Rcpp::NumericVector, Rcpp::IntegerVector, Rcpp::IntegerVector)':
pool_size_factors.cpp:36:15: warning: comparison of integer expressions of different signedness: 'const size_t' {aka 'const long long unsigned int'} and 'R_xlen_t' {aka 'long long int'} [-Wsign-compare]
if (ngenes!=pseudo_cell.size()) { throw std::runtime_error("length of pseudo-cell vector is not the same as the number of cells"); }
~~~~~~^~~~~~~~~~~~~~~~~~~~
pool_size_factors.cpp:39:22: warning: comparison of integer expressions of different signedness: 'R_xlen_t' {aka 'long long int'} and 'long long unsigned int' [-Wsign-compare]
if (order.size() < ncells*2-1) { throw std::runtime_error("ordering vector is too short for number of cells"); }
~~~~~~~~~~~~~^~~~~~~~~~~~
pool_size_factors.cpp:101:37: warning: comparison of integer expressions of different signedness: 'int' and 'long long unsigned int' [-Wsign-compare]
for (auto i=0; i<n; ++i, ++val, ++idx) {
~^~
In file included from pool_size_factors.cpp:4:
C:/Users/biocbuild/bbs-3.11-bioc/R/library/beachmat/include/beachmat/utils/const_column.h: In instantiation of 'Rcpp::traits::storage_type<13>::type* beachmat::const_column<M>::get_indices() [with M = beachmat::lin_matrix<double, Rcpp::Vector<14, Rcpp::PreserveStorage> >; Rcpp::Vector<13>::iterator = int*; Rcpp::traits::storage_type<13>::type = int]':
pool_size_factors.cpp:52:34: required from here
C:/Users/biocbuild/bbs-3.11-bioc/R/library/beachmat/include/beachmat/utils/const_column.h:66:29: warning: comparison of integer expressions of different signedness: 'size_t' {aka 'long long unsigned int'} and 'R_xlen_t' {aka 'long long int'} [-Wsign-compare]
if (ref->get_nrow() > indices.size()) {
"C:/rtools40/mingw64/bin/"g++ -std=gnu++11 -I"C:/Users/BIOCBU~1/BBS-3~1.11-/R/include" -DNDEBUG -I'C:/Users/biocbuild/bbs-3.11-bioc/R/library/Rcpp/include' -I'C:/Users/biocbuild/bbs-3.11-bioc/R/library/beachmat/include' -I'C:/Users/biocbuild/bbs-3.11-bioc/R/library/BH/include' -I'C:/Users/biocbuild/bbs-3.11-bioc/R/library/dqrng/include' -I"C:/extsoft/include" -O2 -Wall -mfpmath=sse -msse2 -mstackrealign -c rand_custom.cpp -o rand_custom.o
In file included from C:/Users/biocbuild/bbs-3.11-bioc/R/library/BH/include/boost/mpl/aux_/na_assert.hpp:23,
from C:/Users/biocbuild/bbs-3.11-bioc/R/library/BH/include/boost/mpl/arg.hpp:25,
from C:/Users/biocbuild/bbs-3.11-bioc/R/library/BH/include/boost/mpl/placeholders.hpp:24,
from C:/Users/biocbuild/bbs-3.11-bioc/R/library/BH/include/boost/mpl/apply.hpp:24,
from C:/Users/biocbuild/bbs-3.11-bioc/R/library/BH/include/boost/mpl/aux_/iter_apply.hpp:17,
from C:/Users/biocbuild/bbs-3.11-bioc/R/library/BH/include/boost/mpl/aux_/find_if_pred.hpp:14,
from C:/Users/biocbuild/bbs-3.11-bioc/R/library/BH/include/boost/mpl/find_if.hpp:17,
from C:/Users/biocbuild/bbs-3.11-bioc/R/library/BH/include/boost/mpl/find.hpp:17,
from C:/Users/biocbuild/bbs-3.11-bioc/R/library/BH/include/boost/mpl/aux_/contains_impl.hpp:20,
from C:/Users/biocbuild/bbs-3.11-bioc/R/library/BH/include/boost/mpl/contains.hpp:20,
from C:/Users/biocbuild/bbs-3.11-bioc/R/library/BH/include/boost/math/policies/policy.hpp:10,
from C:/Users/biocbuild/bbs-3.11-bioc/R/library/BH/include/boost/math/special_functions/math_fwd.hpp:29,
from C:/Users/biocbuild/bbs-3.11-bioc/R/library/BH/include/boost/math/special_functions/fpclassify.hpp:19,
from C:/Users/biocbuild/bbs-3.11-bioc/R/library/BH/include/boost/random/hyperexponential_distribution.hpp:22,
from C:/Users/biocbuild/bbs-3.11-bioc/R/library/BH/include/boost/random.hpp:69,
from rand_custom.h:6,
from rand_custom.cpp:1:
C:/Users/biocbuild/bbs-3.11-bioc/R/library/BH/include/boost/mpl/assert.hpp:194:21: warning: unnecessary parentheses in declaration of 'assert_arg' [-Wparentheses]
failed ************ (Pred::************
^
C:/Users/biocbuild/bbs-3.11-bioc/R/library/BH/include/boost/mpl/assert.hpp:199:21: warning: unnecessary parentheses in declaration of 'assert_not_arg' [-Wparentheses]
failed ************ (boost::mpl::not_<Pred>::************
^
"C:/rtools40/mingw64/bin/"g++ -std=gnu++11 -I"C:/Users/BIOCBU~1/BBS-3~1.11-/R/include" -DNDEBUG -I'C:/Users/biocbuild/bbs-3.11-bioc/R/library/Rcpp/include' -I'C:/Users/biocbuild/bbs-3.11-bioc/R/library/beachmat/include' -I'C:/Users/biocbuild/bbs-3.11-bioc/R/library/BH/include' -I'C:/Users/biocbuild/bbs-3.11-bioc/R/library/dqrng/include' -I"C:/extsoft/include" -O2 -Wall -mfpmath=sse -msse2 -mstackrealign -c run_dormqr.cpp -o run_dormqr.o
"C:/rtools40/mingw64/bin/"g++ -std=gnu++11 -I"C:/Users/BIOCBU~1/BBS-3~1.11-/R/include" -DNDEBUG -I'C:/Users/biocbuild/bbs-3.11-bioc/R/library/Rcpp/include' -I'C:/Users/biocbuild/bbs-3.11-bioc/R/library/beachmat/include' -I'C:/Users/biocbuild/bbs-3.11-bioc/R/library/BH/include' -I'C:/Users/biocbuild/bbs-3.11-bioc/R/library/dqrng/include' -I"C:/extsoft/include" -O2 -Wall -mfpmath=sse -msse2 -mstackrealign -c subset_and_divide.cpp -o subset_and_divide.o
"C:/rtools40/mingw64/bin/"g++ -std=gnu++11 -I"C:/Users/BIOCBU~1/BBS-3~1.11-/R/include" -DNDEBUG -I'C:/Users/biocbuild/bbs-3.11-bioc/R/library/Rcpp/include' -I'C:/Users/biocbuild/bbs-3.11-bioc/R/library/beachmat/include' -I'C:/Users/biocbuild/bbs-3.11-bioc/R/library/BH/include' -I'C:/Users/biocbuild/bbs-3.11-bioc/R/library/dqrng/include' -I"C:/extsoft/include" -O2 -Wall -mfpmath=sse -msse2 -mstackrealign -c utils.cpp -o utils.o
C:/rtools40/mingw64/bin/g++ -shared -s -static-libgcc -o scran.dll tmp.def RcppExports.o build_snn.o combine_rho.o combine_simes.o compute_blocked_stats.o compute_residual_stats.o compute_rho_null.o compute_rho_pairs.o cyclone_scores.o fit_linear_model.o get_residuals.o get_scaled_ranks.o overlap_exprs.o pool_size_factors.o rand_custom.o run_dormqr.o subset_and_divide.o utils.o -LC:/Users/BIOCBU~1/BBS-3~1.11-/R/bin/x64 -lRlapack -LC:/Users/BIOCBU~1/BBS-3~1.11-/R/bin/x64 -lRblas -lgfortran -lm -lquadmath -LC:/extsoft/lib/x64 -LC:/extsoft/lib -LC:/Users/BIOCBU~1/BBS-3~1.11-/R/bin/x64 -lR
installing to C:/Users/biocbuild/bbs-3.11-bioc/meat/scran.buildbin-libdir/scran/libs/x64
** testing if installed package can be loaded
* MD5 sums
packaged installation of 'scran' as scran_1.16.0.zip
* DONE (scran)
* installing to library 'C:/Users/biocbuild/bbs-3.11-bioc/R/library'
package 'scran' successfully unpacked and MD5 sums checked
|
scran.Rcheck/tests_i386/testthat.Rout
R version 4.0.3 (2020-10-10) -- "Bunny-Wunnies Freak Out"
Copyright (C) 2020 The R Foundation for Statistical Computing
Platform: i386-w64-mingw32/i386 (32-bit)
R is free software and comes with ABSOLUTELY NO WARRANTY.
You are welcome to redistribute it under certain conditions.
Type 'license()' or 'licence()' for distribution details.
R is a collaborative project with many contributors.
Type 'contributors()' for more information and
'citation()' on how to cite R or R packages in publications.
Type 'demo()' for some demos, 'help()' for on-line help, or
'help.start()' for an HTML browser interface to help.
Type 'q()' to quit R.
> library(testthat)
> library(scran)
Loading required package: SingleCellExperiment
Loading required package: SummarizedExperiment
Loading required package: GenomicRanges
Loading required package: stats4
Loading required package: BiocGenerics
Loading required package: parallel
Attaching package: 'BiocGenerics'
The following objects are masked from 'package:parallel':
clusterApply, clusterApplyLB, clusterCall, clusterEvalQ,
clusterExport, clusterMap, parApply, parCapply, parLapply,
parLapplyLB, parRapply, parSapply, parSapplyLB
The following objects are masked from 'package:stats':
IQR, mad, sd, var, xtabs
The following objects are masked from 'package:base':
Filter, Find, Map, Position, Reduce, anyDuplicated, append,
as.data.frame, basename, cbind, colnames, dirname, do.call,
duplicated, eval, evalq, get, grep, grepl, intersect, is.unsorted,
lapply, mapply, match, mget, order, paste, pmax, pmax.int, pmin,
pmin.int, rank, rbind, rownames, sapply, setdiff, sort, table,
tapply, union, unique, unsplit, which, which.max, which.min
Loading required package: S4Vectors
Attaching package: 'S4Vectors'
The following object is masked from 'package:base':
expand.grid
Loading required package: IRanges
Attaching package: 'IRanges'
The following object is masked from 'package:grDevices':
windows
Loading required package: GenomeInfoDb
Loading required package: Biobase
Welcome to Bioconductor
Vignettes contain introductory material; view with
'browseVignettes()'. To cite Bioconductor, see
'citation("Biobase")', and for packages 'citation("pkgname")'.
Loading required package: DelayedArray
Loading required package: matrixStats
Attaching package: 'matrixStats'
The following objects are masked from 'package:Biobase':
anyMissing, rowMedians
Attaching package: 'DelayedArray'
The following objects are masked from 'package:matrixStats':
colMaxs, colMins, colRanges, rowMaxs, rowMins, rowRanges
The following objects are masked from 'package:base':
aperm, apply, rowsum
> test_check("scran")
== testthat results ===========================================================
[ OK: 5685 | SKIPPED: 2 | WARNINGS: 394 | FAILED: 0 ]
>
> proc.time()
user system elapsed
389.70 11.34 486.43
|
scran.Rcheck/tests_x64/testthat.Rout
R version 4.0.3 (2020-10-10) -- "Bunny-Wunnies Freak Out"
Copyright (C) 2020 The R Foundation for Statistical Computing
Platform: x86_64-w64-mingw32/x64 (64-bit)
R is free software and comes with ABSOLUTELY NO WARRANTY.
You are welcome to redistribute it under certain conditions.
Type 'license()' or 'licence()' for distribution details.
R is a collaborative project with many contributors.
Type 'contributors()' for more information and
'citation()' on how to cite R or R packages in publications.
Type 'demo()' for some demos, 'help()' for on-line help, or
'help.start()' for an HTML browser interface to help.
Type 'q()' to quit R.
> library(testthat)
> library(scran)
Loading required package: SingleCellExperiment
Loading required package: SummarizedExperiment
Loading required package: GenomicRanges
Loading required package: stats4
Loading required package: BiocGenerics
Loading required package: parallel
Attaching package: 'BiocGenerics'
The following objects are masked from 'package:parallel':
clusterApply, clusterApplyLB, clusterCall, clusterEvalQ,
clusterExport, clusterMap, parApply, parCapply, parLapply,
parLapplyLB, parRapply, parSapply, parSapplyLB
The following objects are masked from 'package:stats':
IQR, mad, sd, var, xtabs
The following objects are masked from 'package:base':
Filter, Find, Map, Position, Reduce, anyDuplicated, append,
as.data.frame, basename, cbind, colnames, dirname, do.call,
duplicated, eval, evalq, get, grep, grepl, intersect, is.unsorted,
lapply, mapply, match, mget, order, paste, pmax, pmax.int, pmin,
pmin.int, rank, rbind, rownames, sapply, setdiff, sort, table,
tapply, union, unique, unsplit, which, which.max, which.min
Loading required package: S4Vectors
Attaching package: 'S4Vectors'
The following object is masked from 'package:base':
expand.grid
Loading required package: IRanges
Attaching package: 'IRanges'
The following object is masked from 'package:grDevices':
windows
Loading required package: GenomeInfoDb
Loading required package: Biobase
Welcome to Bioconductor
Vignettes contain introductory material; view with
'browseVignettes()'. To cite Bioconductor, see
'citation("Biobase")', and for packages 'citation("pkgname")'.
Loading required package: DelayedArray
Loading required package: matrixStats
Attaching package: 'matrixStats'
The following objects are masked from 'package:Biobase':
anyMissing, rowMedians
Attaching package: 'DelayedArray'
The following objects are masked from 'package:matrixStats':
colMaxs, colMins, colRanges, rowMaxs, rowMins, rowRanges
The following objects are masked from 'package:base':
aperm, apply, rowsum
> test_check("scran")
== testthat results ===========================================================
[ OK: 5685 | SKIPPED: 2 | WARNINGS: 394 | FAILED: 0 ]
>
> proc.time()
user system elapsed
371.64 7.35 467.34
|
|
scran.Rcheck/examples_i386/scran-Ex.timings
|
scran.Rcheck/examples_x64/scran-Ex.timings
|