| Back to Multiple platform build/check report for BioC 3.11 |
|
This page was generated on 2020-10-17 11:59:33 -0400 (Sat, 17 Oct 2020).
| TO THE DEVELOPERS/MAINTAINERS OF THE scran PACKAGE: Please make sure to use the following settings in order to reproduce any error or warning you see on this page. |
| Package 1609/1905 | Hostname | OS / Arch | INSTALL | BUILD | CHECK | BUILD BIN | ||||||
| scran 1.16.0 Aaron Lun
| malbec2 | Linux (Ubuntu 18.04.4 LTS) / x86_64 | OK | OK | OK | |||||||
| tokay2 | Windows Server 2012 R2 Standard / x64 | OK | OK | OK | NA | |||||||
| machv2 | macOS 10.14.6 Mojave / x86_64 | OK | OK | OK | [ OK ] |
| Package: scran |
| Version: 1.16.0 |
| Command: rm -rf scran.buildbin-libdir && mkdir scran.buildbin-libdir && /Users/biocbuild/BBS/utils/build-universal.sh scran_1.16.0.tar.gz /Library/Frameworks/R.framework/Versions/Current/Resources/bin/R scran.buildbin-libdir |
| StartedAt: 2020-10-17 07:56:58 -0400 (Sat, 17 Oct 2020) |
| EndedAt: 2020-10-17 08:00:26 -0400 (Sat, 17 Oct 2020) |
| EllapsedTime: 207.4 seconds |
| RetCode: 0 |
| Status: OK |
| PackageFile: scran_1.16.0.tgz |
| PackageFileSize: 1.474 MiB |
##############################################################################
##############################################################################
###
### Running command:
###
### rm -rf scran.buildbin-libdir && mkdir scran.buildbin-libdir && /Users/biocbuild/BBS/utils/build-universal.sh scran_1.16.0.tar.gz /Library/Frameworks/R.framework/Versions/Current/Resources/bin/R scran.buildbin-libdir
###
##############################################################################
##############################################################################
>>>>>>>
>>>>>>> INSTALLATION WITH 'R CMD INSTALL --preclean --no-multiarch --library=scran.buildbin-libdir scran_1.16.0.tar.gz'
>>>>>>>
* installing *source* package ‘scran’ ...
** using staged installation
** libs
clang++ -mmacosx-version-min=10.13 -std=gnu++11 -I"/Library/Frameworks/R.framework/Resources/include" -DNDEBUG -I'/Library/Frameworks/R.framework/Versions/4.0/Resources/library/Rcpp/include' -I'/Library/Frameworks/R.framework/Versions/4.0/Resources/library/beachmat/include' -I'/Library/Frameworks/R.framework/Versions/4.0/Resources/library/BH/include' -I'/Library/Frameworks/R.framework/Versions/4.0/Resources/library/dqrng/include' -I/usr/local/include -fPIC -Wall -g -O2 -c RcppExports.cpp -o RcppExports.o
clang++ -mmacosx-version-min=10.13 -std=gnu++11 -I"/Library/Frameworks/R.framework/Resources/include" -DNDEBUG -I'/Library/Frameworks/R.framework/Versions/4.0/Resources/library/Rcpp/include' -I'/Library/Frameworks/R.framework/Versions/4.0/Resources/library/beachmat/include' -I'/Library/Frameworks/R.framework/Versions/4.0/Resources/library/BH/include' -I'/Library/Frameworks/R.framework/Versions/4.0/Resources/library/dqrng/include' -I/usr/local/include -fPIC -Wall -g -O2 -c build_snn.cpp -o build_snn.o
clang++ -mmacosx-version-min=10.13 -std=gnu++11 -I"/Library/Frameworks/R.framework/Resources/include" -DNDEBUG -I'/Library/Frameworks/R.framework/Versions/4.0/Resources/library/Rcpp/include' -I'/Library/Frameworks/R.framework/Versions/4.0/Resources/library/beachmat/include' -I'/Library/Frameworks/R.framework/Versions/4.0/Resources/library/BH/include' -I'/Library/Frameworks/R.framework/Versions/4.0/Resources/library/dqrng/include' -I/usr/local/include -fPIC -Wall -g -O2 -c combine_rho.cpp -o combine_rho.o
clang++ -mmacosx-version-min=10.13 -std=gnu++11 -I"/Library/Frameworks/R.framework/Resources/include" -DNDEBUG -I'/Library/Frameworks/R.framework/Versions/4.0/Resources/library/Rcpp/include' -I'/Library/Frameworks/R.framework/Versions/4.0/Resources/library/beachmat/include' -I'/Library/Frameworks/R.framework/Versions/4.0/Resources/library/BH/include' -I'/Library/Frameworks/R.framework/Versions/4.0/Resources/library/dqrng/include' -I/usr/local/include -fPIC -Wall -g -O2 -c combine_simes.cpp -o combine_simes.o
clang++ -mmacosx-version-min=10.13 -std=gnu++11 -I"/Library/Frameworks/R.framework/Resources/include" -DNDEBUG -I'/Library/Frameworks/R.framework/Versions/4.0/Resources/library/Rcpp/include' -I'/Library/Frameworks/R.framework/Versions/4.0/Resources/library/beachmat/include' -I'/Library/Frameworks/R.framework/Versions/4.0/Resources/library/BH/include' -I'/Library/Frameworks/R.framework/Versions/4.0/Resources/library/dqrng/include' -I/usr/local/include -fPIC -Wall -g -O2 -c compute_blocked_stats.cpp -o compute_blocked_stats.o
clang++ -mmacosx-version-min=10.13 -std=gnu++11 -I"/Library/Frameworks/R.framework/Resources/include" -DNDEBUG -I'/Library/Frameworks/R.framework/Versions/4.0/Resources/library/Rcpp/include' -I'/Library/Frameworks/R.framework/Versions/4.0/Resources/library/beachmat/include' -I'/Library/Frameworks/R.framework/Versions/4.0/Resources/library/BH/include' -I'/Library/Frameworks/R.framework/Versions/4.0/Resources/library/dqrng/include' -I/usr/local/include -fPIC -Wall -g -O2 -c compute_residual_stats.cpp -o compute_residual_stats.o
clang++ -mmacosx-version-min=10.13 -std=gnu++11 -I"/Library/Frameworks/R.framework/Resources/include" -DNDEBUG -I'/Library/Frameworks/R.framework/Versions/4.0/Resources/library/Rcpp/include' -I'/Library/Frameworks/R.framework/Versions/4.0/Resources/library/beachmat/include' -I'/Library/Frameworks/R.framework/Versions/4.0/Resources/library/BH/include' -I'/Library/Frameworks/R.framework/Versions/4.0/Resources/library/dqrng/include' -I/usr/local/include -fPIC -Wall -g -O2 -c compute_rho_null.cpp -o compute_rho_null.o
clang++ -mmacosx-version-min=10.13 -std=gnu++11 -I"/Library/Frameworks/R.framework/Resources/include" -DNDEBUG -I'/Library/Frameworks/R.framework/Versions/4.0/Resources/library/Rcpp/include' -I'/Library/Frameworks/R.framework/Versions/4.0/Resources/library/beachmat/include' -I'/Library/Frameworks/R.framework/Versions/4.0/Resources/library/BH/include' -I'/Library/Frameworks/R.framework/Versions/4.0/Resources/library/dqrng/include' -I/usr/local/include -fPIC -Wall -g -O2 -c compute_rho_pairs.cpp -o compute_rho_pairs.o
clang++ -mmacosx-version-min=10.13 -std=gnu++11 -I"/Library/Frameworks/R.framework/Resources/include" -DNDEBUG -I'/Library/Frameworks/R.framework/Versions/4.0/Resources/library/Rcpp/include' -I'/Library/Frameworks/R.framework/Versions/4.0/Resources/library/beachmat/include' -I'/Library/Frameworks/R.framework/Versions/4.0/Resources/library/BH/include' -I'/Library/Frameworks/R.framework/Versions/4.0/Resources/library/dqrng/include' -I/usr/local/include -fPIC -Wall -g -O2 -c cyclone_scores.cpp -o cyclone_scores.o
clang++ -mmacosx-version-min=10.13 -std=gnu++11 -I"/Library/Frameworks/R.framework/Resources/include" -DNDEBUG -I'/Library/Frameworks/R.framework/Versions/4.0/Resources/library/Rcpp/include' -I'/Library/Frameworks/R.framework/Versions/4.0/Resources/library/beachmat/include' -I'/Library/Frameworks/R.framework/Versions/4.0/Resources/library/BH/include' -I'/Library/Frameworks/R.framework/Versions/4.0/Resources/library/dqrng/include' -I/usr/local/include -fPIC -Wall -g -O2 -c fit_linear_model.cpp -o fit_linear_model.o
clang++ -mmacosx-version-min=10.13 -std=gnu++11 -I"/Library/Frameworks/R.framework/Resources/include" -DNDEBUG -I'/Library/Frameworks/R.framework/Versions/4.0/Resources/library/Rcpp/include' -I'/Library/Frameworks/R.framework/Versions/4.0/Resources/library/beachmat/include' -I'/Library/Frameworks/R.framework/Versions/4.0/Resources/library/BH/include' -I'/Library/Frameworks/R.framework/Versions/4.0/Resources/library/dqrng/include' -I/usr/local/include -fPIC -Wall -g -O2 -c get_residuals.cpp -o get_residuals.o
clang++ -mmacosx-version-min=10.13 -std=gnu++11 -I"/Library/Frameworks/R.framework/Resources/include" -DNDEBUG -I'/Library/Frameworks/R.framework/Versions/4.0/Resources/library/Rcpp/include' -I'/Library/Frameworks/R.framework/Versions/4.0/Resources/library/beachmat/include' -I'/Library/Frameworks/R.framework/Versions/4.0/Resources/library/BH/include' -I'/Library/Frameworks/R.framework/Versions/4.0/Resources/library/dqrng/include' -I/usr/local/include -fPIC -Wall -g -O2 -c get_scaled_ranks.cpp -o get_scaled_ranks.o
get_scaled_ranks.cpp:67:16: warning: unused variable 'accumulated_rank' [-Wunused-variable]
double accumulated_rank=0;
^
1 warning generated.
clang++ -mmacosx-version-min=10.13 -std=gnu++11 -I"/Library/Frameworks/R.framework/Resources/include" -DNDEBUG -I'/Library/Frameworks/R.framework/Versions/4.0/Resources/library/Rcpp/include' -I'/Library/Frameworks/R.framework/Versions/4.0/Resources/library/beachmat/include' -I'/Library/Frameworks/R.framework/Versions/4.0/Resources/library/BH/include' -I'/Library/Frameworks/R.framework/Versions/4.0/Resources/library/dqrng/include' -I/usr/local/include -fPIC -Wall -g -O2 -c overlap_exprs.cpp -o overlap_exprs.o
clang++ -mmacosx-version-min=10.13 -std=gnu++11 -I"/Library/Frameworks/R.framework/Resources/include" -DNDEBUG -I'/Library/Frameworks/R.framework/Versions/4.0/Resources/library/Rcpp/include' -I'/Library/Frameworks/R.framework/Versions/4.0/Resources/library/beachmat/include' -I'/Library/Frameworks/R.framework/Versions/4.0/Resources/library/BH/include' -I'/Library/Frameworks/R.framework/Versions/4.0/Resources/library/dqrng/include' -I/usr/local/include -fPIC -Wall -g -O2 -c pool_size_factors.cpp -o pool_size_factors.o
clang++ -mmacosx-version-min=10.13 -std=gnu++11 -I"/Library/Frameworks/R.framework/Resources/include" -DNDEBUG -I'/Library/Frameworks/R.framework/Versions/4.0/Resources/library/Rcpp/include' -I'/Library/Frameworks/R.framework/Versions/4.0/Resources/library/beachmat/include' -I'/Library/Frameworks/R.framework/Versions/4.0/Resources/library/BH/include' -I'/Library/Frameworks/R.framework/Versions/4.0/Resources/library/dqrng/include' -I/usr/local/include -fPIC -Wall -g -O2 -c rand_custom.cpp -o rand_custom.o
clang++ -mmacosx-version-min=10.13 -std=gnu++11 -I"/Library/Frameworks/R.framework/Resources/include" -DNDEBUG -I'/Library/Frameworks/R.framework/Versions/4.0/Resources/library/Rcpp/include' -I'/Library/Frameworks/R.framework/Versions/4.0/Resources/library/beachmat/include' -I'/Library/Frameworks/R.framework/Versions/4.0/Resources/library/BH/include' -I'/Library/Frameworks/R.framework/Versions/4.0/Resources/library/dqrng/include' -I/usr/local/include -fPIC -Wall -g -O2 -c run_dormqr.cpp -o run_dormqr.o
clang++ -mmacosx-version-min=10.13 -std=gnu++11 -I"/Library/Frameworks/R.framework/Resources/include" -DNDEBUG -I'/Library/Frameworks/R.framework/Versions/4.0/Resources/library/Rcpp/include' -I'/Library/Frameworks/R.framework/Versions/4.0/Resources/library/beachmat/include' -I'/Library/Frameworks/R.framework/Versions/4.0/Resources/library/BH/include' -I'/Library/Frameworks/R.framework/Versions/4.0/Resources/library/dqrng/include' -I/usr/local/include -fPIC -Wall -g -O2 -c subset_and_divide.cpp -o subset_and_divide.o
clang++ -mmacosx-version-min=10.13 -std=gnu++11 -I"/Library/Frameworks/R.framework/Resources/include" -DNDEBUG -I'/Library/Frameworks/R.framework/Versions/4.0/Resources/library/Rcpp/include' -I'/Library/Frameworks/R.framework/Versions/4.0/Resources/library/beachmat/include' -I'/Library/Frameworks/R.framework/Versions/4.0/Resources/library/BH/include' -I'/Library/Frameworks/R.framework/Versions/4.0/Resources/library/dqrng/include' -I/usr/local/include -fPIC -Wall -g -O2 -c utils.cpp -o utils.o
clang++ -mmacosx-version-min=10.13 -std=gnu++11 -dynamiclib -Wl,-headerpad_max_install_names -undefined dynamic_lookup -single_module -multiply_defined suppress -L/Library/Frameworks/R.framework/Resources/lib -L/usr/local/lib -o scran.so RcppExports.o build_snn.o combine_rho.o combine_simes.o compute_blocked_stats.o compute_residual_stats.o compute_rho_null.o compute_rho_pairs.o cyclone_scores.o fit_linear_model.o get_residuals.o get_scaled_ranks.o overlap_exprs.o pool_size_factors.o rand_custom.o run_dormqr.o subset_and_divide.o utils.o -L/Library/Frameworks/R.framework/Resources/lib -lRlapack -L/Library/Frameworks/R.framework/Resources/lib -lRblas -L/usr/local/gfortran/lib/gcc/x86_64-apple-darwin18/8.2.0 -L/usr/local/gfortran/lib -lgfortran -lquadmath -lm -F/Library/Frameworks/R.framework/.. -framework R -Wl,-framework -Wl,CoreFoundation
installing to /Users/biocbuild/bbs-3.11-bioc/meat/scran.buildbin-libdir/00LOCK-scran/00new/scran/libs
** R
** inst
** byte-compile and prepare package for lazy loading
** help
*** installing help indices
** building package indices
** installing vignettes
** testing if installed package can be loaded from temporary location
** checking absolute paths in shared objects and dynamic libraries
** testing if installed package can be loaded from final location
** testing if installed package keeps a record of temporary installation path
* DONE (scran)
>>>>>>>
>>>>>>> FIXING LINKS FOR scran.buildbin-libdir/scran/libs/scran.so
>>>>>>>
install_name_tool -change "/usr/local/lib/libgcc_s.1.dylib" "/Library/Frameworks/R.framework/Versions/4.0/Resources/lib/libgcc_s.1.dylib" "scran.buildbin-libdir/scran/libs/scran.so"
install_name_tool -change "/usr/local/lib/libgfortran.5.dylib" "/Library/Frameworks/R.framework/Versions/4.0/Resources/lib/libgfortran.5.dylib" "scran.buildbin-libdir/scran/libs/scran.so"
install_name_tool -change "/usr/local/lib/libquadmath.0.dylib" "/Library/Frameworks/R.framework/Versions/4.0/Resources/lib/libquadmath.0.dylib" "scran.buildbin-libdir/scran/libs/scran.so"
install_name_tool -change "/usr/local/gfortran/lib/libgfortran.5.dylib" "/Library/Frameworks/R.framework/Versions/4.0/Resources/lib/libgfortran.5.dylib" "scran.buildbin-libdir/scran/libs/scran.so"
install_name_tool -change "/usr/local/gfortran/lib/libquadmath.0.dylib" "/Library/Frameworks/R.framework/Versions/4.0/Resources/lib/libquadmath.0.dylib" "scran.buildbin-libdir/scran/libs/scran.so"