| Back to Multiple platform build/check report for BioC 3.11 |
|
This page was generated on 2020-10-17 11:55:41 -0400 (Sat, 17 Oct 2020).
| TO THE DEVELOPERS/MAINTAINERS OF THE scHOT PACKAGE: Please make sure to use the following settings in order to reproduce any error or warning you see on this page. |
| Package 1596/1905 | Hostname | OS / Arch | INSTALL | BUILD | CHECK | BUILD BIN | ||||||
| scHOT 1.0.0 Shila Ghazanfar
| malbec2 | Linux (Ubuntu 18.04.4 LTS) / x86_64 | OK | OK | [ OK ] | |||||||
| tokay2 | Windows Server 2012 R2 Standard / x64 | OK | OK | OK | OK | |||||||
| machv2 | macOS 10.14.6 Mojave / x86_64 | OK | OK | OK | OK |
| Package: scHOT |
| Version: 1.0.0 |
| Command: /home/biocbuild/bbs-3.11-bioc/R/bin/R CMD check --install=check:scHOT.install-out.txt --library=/home/biocbuild/bbs-3.11-bioc/R/library --no-vignettes --timings scHOT_1.0.0.tar.gz |
| StartedAt: 2020-10-17 05:13:26 -0400 (Sat, 17 Oct 2020) |
| EndedAt: 2020-10-17 05:22:37 -0400 (Sat, 17 Oct 2020) |
| EllapsedTime: 550.9 seconds |
| RetCode: 0 |
| Status: OK |
| CheckDir: scHOT.Rcheck |
| Warnings: 0 |
##############################################################################
##############################################################################
###
### Running command:
###
### /home/biocbuild/bbs-3.11-bioc/R/bin/R CMD check --install=check:scHOT.install-out.txt --library=/home/biocbuild/bbs-3.11-bioc/R/library --no-vignettes --timings scHOT_1.0.0.tar.gz
###
##############################################################################
##############################################################################
* using log directory ‘/home/biocbuild/bbs-3.11-bioc/meat/scHOT.Rcheck’
* using R version 4.0.3 (2020-10-10)
* using platform: x86_64-pc-linux-gnu (64-bit)
* using session charset: UTF-8
* using option ‘--no-vignettes’
* checking for file ‘scHOT/DESCRIPTION’ ... OK
* checking extension type ... Package
* this is package ‘scHOT’ version ‘1.0.0’
* package encoding: UTF-8
* checking package namespace information ... OK
* checking package dependencies ... OK
* checking if this is a source package ... OK
* checking if there is a namespace ... OK
* checking for hidden files and directories ... OK
* checking for portable file names ... OK
* checking for sufficient/correct file permissions ... OK
* checking whether package ‘scHOT’ can be installed ... OK
* checking installed package size ... OK
* checking package directory ... OK
* checking ‘build’ directory ... OK
* checking DESCRIPTION meta-information ... OK
* checking top-level files ... OK
* checking for left-over files ... OK
* checking index information ... OK
* checking package subdirectories ... OK
* checking R files for non-ASCII characters ... OK
* checking R files for syntax errors ... OK
* checking whether the package can be loaded ... OK
* checking whether the package can be loaded with stated dependencies ... OK
* checking whether the package can be unloaded cleanly ... OK
* checking whether the namespace can be loaded with stated dependencies ... OK
* checking whether the namespace can be unloaded cleanly ... OK
* checking dependencies in R code ... OK
* checking S3 generic/method consistency ... OK
* checking replacement functions ... OK
* checking foreign function calls ... OK
* checking R code for possible problems ... OK
* checking Rd files ... OK
* checking Rd metadata ... OK
* checking Rd cross-references ... OK
* checking for missing documentation entries ... OK
* checking for code/documentation mismatches ... OK
* checking Rd \usage sections ... OK
* checking Rd contents ... OK
* checking for unstated dependencies in examples ... OK
* checking contents of ‘data’ directory ... OK
* checking data for non-ASCII characters ... OK
* checking data for ASCII and uncompressed saves ... OK
* checking files in ‘vignettes’ ... OK
* checking examples ... OK
Examples with CPU (user + system) or elapsed time > 5s
user system elapsed
scHOT_performPermutationTest 116.769 0.456 117.954
scHOT 117.116 0.032 118.325
scHOT_estimatePvalues 109.465 0.000 110.295
* checking for unstated dependencies in vignettes ... OK
* checking package vignettes in ‘inst/doc’ ... OK
* checking running R code from vignettes ... SKIPPED
* checking re-building of vignette outputs ... SKIPPED
* checking PDF version of manual ... OK
* DONE
Status: OK
scHOT.Rcheck/00install.out
############################################################################## ############################################################################## ### ### Running command: ### ### /home/biocbuild/bbs-3.11-bioc/R/bin/R CMD INSTALL scHOT ### ############################################################################## ############################################################################## * installing to library ‘/home/biocbuild/bbs-3.11-bioc/R/library’ * installing *source* package ‘scHOT’ ... ** using staged installation ** R ** data *** moving datasets to lazyload DB ** byte-compile and prepare package for lazy loading ** help *** installing help indices ** building package indices ** installing vignettes ** testing if installed package can be loaded from temporary location ** testing if installed package can be loaded from final location ** testing if installed package keeps a record of temporary installation path * DONE (scHOT)
scHOT.Rcheck/scHOT-Ex.timings
| name | user | system | elapsed | |
| params-set | 0.373 | 0.020 | 0.392 | |
| plotColouredExpression | 1.224 | 0.012 | 1.236 | |
| plotHigherOrderSequence | 2.618 | 0.015 | 2.689 | |
| positionColData-set | 0.085 | 0.000 | 0.085 | |
| positionType-set | 0.077 | 0.004 | 0.081 | |
| scHOT | 117.116 | 0.032 | 118.325 | |
| scHOT_addTestingScaffold | 0.165 | 0.004 | 0.172 | |
| scHOT_buildFromMatrix | 0.126 | 0.000 | 0.126 | |
| scHOT_buildFromSCE | 0.393 | 0.008 | 0.450 | |
| scHOT_calculateGlobalHigherOrderFunction | 0.204 | 0.000 | 0.208 | |
| scHOT_calculateHigherOrderTestStatistics | 1.092 | 0.016 | 1.108 | |
| scHOT_estimatePvalues | 109.465 | 0.000 | 110.295 | |
| scHOT_output-set | 0.103 | 0.000 | 0.170 | |
| scHOT_performPermutationTest | 116.769 | 0.456 | 117.954 | |
| scHOT_setPermutationScaffold | 0.287 | 0.000 | 0.287 | |
| scHOT_setWeightMatrix | 0.164 | 0.000 | 0.164 | |
| scHOT_stripOutput | 0.098 | 0.000 | 0.097 | |
| spatialWeightMatrix | 0.003 | 0.000 | 0.004 | |
| testingScaffold-set | 0.089 | 0.000 | 0.090 | |
| thin | 0.008 | 0.000 | 0.008 | |
| trajectoryWeightMatrix | 0.003 | 0.000 | 0.002 | |
| weightMatrix-set | 0.281 | 0.004 | 0.285 | |
| weightedPearson | 0.001 | 0.000 | 0.000 | |
| weightedSpearman | 0.001 | 0.000 | 0.000 | |
| weightedVariance | 0.001 | 0.000 | 0.000 | |
| weightedZIKendall | 0.001 | 0.000 | 0.001 | |
| weightedZISpearman | 0.000 | 0.000 | 0.001 | |