| Back to Multiple platform build/check report for BioC 3.11 | 
 | 
This page was generated on 2020-10-17 11:57:39 -0400 (Sat, 17 Oct 2020).
| TO THE DEVELOPERS/MAINTAINERS OF THE rmelting PACKAGE: Please make sure to use the following settings in order to reproduce any error or warning you see on this page. | 
| Package 1501/1905 | Hostname | OS / Arch | INSTALL | BUILD | CHECK | BUILD BIN | ||||||
| rmelting 1.4.0 J. Aravind 
 | malbec2 | Linux (Ubuntu 18.04.4 LTS) / x86_64 | OK | OK | OK |  | ||||||
| tokay2 | Windows Server 2012 R2 Standard / x64 | OK | [ OK ] | OK | OK |  | ||||||
| machv2 | macOS 10.14.6 Mojave / x86_64 | OK | OK | OK | OK |  | 
| Package: rmelting | 
| Version: 1.4.0 | 
| Command: chmod a+r rmelting -R && C:\Users\biocbuild\bbs-3.11-bioc\R\bin\R.exe CMD build --keep-empty-dirs --no-resave-data rmelting | 
| StartedAt: 2020-10-17 00:14:45 -0400 (Sat, 17 Oct 2020) | 
| EndedAt: 2020-10-17 00:15:48 -0400 (Sat, 17 Oct 2020) | 
| EllapsedTime: 62.9 seconds | 
| RetCode: 0 | 
| Status: OK | 
| PackageFile: rmelting_1.4.0.tar.gz | 
| PackageFileSize: 3.071 MiB | 
##############################################################################
##############################################################################
###
### Running command:
###
###   chmod a+r rmelting -R && C:\Users\biocbuild\bbs-3.11-bioc\R\bin\R.exe CMD build --keep-empty-dirs --no-resave-data rmelting
###
##############################################################################
##############################################################################
* checking for file 'rmelting/DESCRIPTION' ... OK
* preparing 'rmelting':
* checking DESCRIPTION meta-information ... OK
* installing the package to process help pages
genre Ph.{D}. {Thesis} is currently unknown to bibConvert; using Misc instead
genre Ph.{D}. {Thesis} is currently unknown to bibConvert; using Misc instead
Loading required namespace: rmelting
* saving partial Rd database
* creating vignettes ... OK
* checking for LF line-endings in source and make files and shell scripts
* checking for empty or unneeded directories
* building 'rmelting_1.4.0.tar.gz'