| Back to Multiple platform build/check report for BioC 3.11 | 
 | 
This page was generated on 2020-10-17 11:57:39 -0400 (Sat, 17 Oct 2020).
| TO THE DEVELOPERS/MAINTAINERS OF THE rmelting PACKAGE: Please make sure to use the following settings in order to reproduce any error or warning you see on this page. | 
| Package 1501/1905 | Hostname | OS / Arch | INSTALL | BUILD | CHECK | BUILD BIN | ||||||
| rmelting 1.4.0 J. Aravind 
 | malbec2 | Linux (Ubuntu 18.04.4 LTS) / x86_64 | OK | OK | OK |  | ||||||
| tokay2 | Windows Server 2012 R2 Standard / x64 | OK | OK | OK | [ OK ] |  | ||||||
| machv2 | macOS 10.14.6 Mojave / x86_64 | OK | OK | OK | OK |  | 
| Package: rmelting | 
| Version: 1.4.0 | 
| Command: rm -rf rmelting.buildbin-libdir && mkdir rmelting.buildbin-libdir && C:\Users\biocbuild\bbs-3.11-bioc\R\bin\R.exe CMD INSTALL --merge-multiarch --build --library=rmelting.buildbin-libdir rmelting_1.4.0.tar.gz | 
| StartedAt: 2020-10-17 11:29:22 -0400 (Sat, 17 Oct 2020) | 
| EndedAt: 2020-10-17 11:29:42 -0400 (Sat, 17 Oct 2020) | 
| EllapsedTime: 20.2 seconds | 
| RetCode: 0 | 
| Status: OK | 
| PackageFile: rmelting_1.4.0.zip | 
| PackageFileSize: 3.058 MiB | 
##############################################################################
##############################################################################
###
### Running command:
###
###   rm -rf rmelting.buildbin-libdir && mkdir rmelting.buildbin-libdir && C:\Users\biocbuild\bbs-3.11-bioc\R\bin\R.exe CMD INSTALL --merge-multiarch --build --library=rmelting.buildbin-libdir rmelting_1.4.0.tar.gz
###
##############################################################################
##############################################################################
install for i386
* installing *source* package 'rmelting' ...
** using staged installation
** R
** inst
** byte-compile and prepare package for lazy loading
** help
*** installing help indices
  converting help for package 'rmelting'
    finding HTML links ... done
    melting                                 html  
    meltingBatch                            html  
    print.melting                           html  
    withWE                                  html  
** building package indices
** installing vignettes
** testing if installed package can be loaded from temporary location
** testing if installed package can be loaded from final location
** testing if installed package keeps a record of temporary installation path
install for x64
* installing *source* package 'rmelting' ...
** testing if installed package can be loaded
* MD5 sums
packaged installation of 'rmelting' as rmelting_1.4.0.zip
* DONE (rmelting)