| Back to Multiple platform build/check report for BioC 3.11 | 
 | 
This page was generated on 2020-10-17 11:57:35 -0400 (Sat, 17 Oct 2020).
| TO THE DEVELOPERS/MAINTAINERS OF THE readat PACKAGE: Please make sure to use the following settings in order to reproduce any error or warning you see on this page. | 
| Package 1447/1905 | Hostname | OS / Arch | INSTALL | BUILD | CHECK | BUILD BIN | ||||||
| Richard Cotton 
 | malbec2 | Linux (Ubuntu 18.04.4 LTS) / x86_64 | ERROR | ERROR | skipped | |||||||
| tokay2 | Windows Server 2012 R2 Standard / x64 | ERROR | [ ERROR ] | skipped | skipped | |||||||
| machv2 | macOS 10.14.6 Mojave / x86_64 | ERROR | ERROR | skipped | skipped | 
| Package: readat | 
| Version: 1.14.0 | 
| Command: chmod a+r readat -R && C:\Users\biocbuild\bbs-3.11-bioc\R\bin\R.exe CMD build --keep-empty-dirs --no-resave-data readat | 
| StartedAt: 2020-10-17 00:07:57 -0400 (Sat, 17 Oct 2020) | 
| EndedAt: 2020-10-17 00:08:17 -0400 (Sat, 17 Oct 2020) | 
| EllapsedTime: 20.1 seconds | 
| RetCode: 1 | 
| Status: ERROR | 
| PackageFile: readat_1.14.0.tar.gz | 
| PackageFileSize: 1.225 MiB | 
##############################################################################
##############################################################################
###
### Running command:
###
###   chmod a+r readat -R && C:\Users\biocbuild\bbs-3.11-bioc\R\bin\R.exe CMD build --keep-empty-dirs --no-resave-data readat
###
##############################################################################
##############################################################################
* checking for file 'readat/DESCRIPTION' ... OK
* preparing 'readat':
* checking DESCRIPTION meta-information ... OK
* installing the package to build vignettes
      -----------------------------------
ERROR: dependency 'pathological' is not available for package 'readat'
* removing 'C:/Users/biocbuild/bbs-3.11-bioc/tmpdir/RtmpA9zA9C/Rinst2d84c4174e4/readat'
      -----------------------------------
ERROR: package installation failed