| Back to Multiple platform build/check report for BioC 3.11 | 
 | 
This page was generated on 2020-10-17 11:59:22 -0400 (Sat, 17 Oct 2020).
| TO THE DEVELOPERS/MAINTAINERS OF THE readat PACKAGE: Please make sure to use the following settings in order to reproduce any error or warning you see on this page. | 
| Package 1447/1905 | Hostname | OS / Arch | INSTALL | BUILD | CHECK | BUILD BIN | ||||||
| Richard Cotton 
 | malbec2 | Linux (Ubuntu 18.04.4 LTS) / x86_64 | ERROR | ERROR | skipped | |||||||
| tokay2 | Windows Server 2012 R2 Standard / x64 | ERROR | ERROR | skipped | skipped | |||||||
| machv2 | macOS 10.14.6 Mojave / x86_64 | ERROR | [ ERROR ] | skipped | skipped | 
| Package: readat | 
| Version: 1.14.0 | 
| Command: /Library/Frameworks/R.framework/Versions/Current/Resources/bin/R CMD build --keep-empty-dirs --no-resave-data readat | 
| StartedAt: 2020-10-16 20:47:54 -0400 (Fri, 16 Oct 2020) | 
| EndedAt: 2020-10-16 20:47:58 -0400 (Fri, 16 Oct 2020) | 
| EllapsedTime: 4.2 seconds | 
| RetCode: 1 | 
| Status: ERROR | 
| PackageFile: None | 
| PackageFileSize: NA | 
##############################################################################
##############################################################################
###
### Running command:
###
###   /Library/Frameworks/R.framework/Versions/Current/Resources/bin/R CMD build --keep-empty-dirs --no-resave-data readat
###
##############################################################################
##############################################################################
* checking for file ‘readat/DESCRIPTION’ ... OK
* preparing ‘readat’:
* checking DESCRIPTION meta-information ... OK
* installing the package to build vignettes
      -----------------------------------
ERROR: dependency ‘pathological’ is not available for package ‘readat’
* removing ‘/private/tmp/RtmpNSNl6B/Rinstdc3d7899e395/readat’
      -----------------------------------
ERROR: package installation failed