| Back to Multiple platform build/check report for BioC 3.11 |
|
This page was generated on 2020-10-17 11:55:07 -0400 (Sat, 17 Oct 2020).
| TO THE DEVELOPERS/MAINTAINERS OF THE methrix PACKAGE: Please make sure to use the following settings in order to reproduce any error or warning you see on this page. |
| Package 1052/1905 | Hostname | OS / Arch | INSTALL | BUILD | CHECK | BUILD BIN | ||||||
| methrix 1.2.06 Anand Mayakonda
| malbec2 | Linux (Ubuntu 18.04.4 LTS) / x86_64 | OK | OK | [ OK ] | |||||||
| tokay2 | Windows Server 2012 R2 Standard / x64 | OK | OK | ERROR | OK | |||||||
| machv2 | macOS 10.14.6 Mojave / x86_64 | OK | OK | OK | OK |
| Package: methrix |
| Version: 1.2.06 |
| Command: /home/biocbuild/bbs-3.11-bioc/R/bin/R CMD check --install=check:methrix.install-out.txt --library=/home/biocbuild/bbs-3.11-bioc/R/library --no-vignettes --timings methrix_1.2.06.tar.gz |
| StartedAt: 2020-10-17 03:03:32 -0400 (Sat, 17 Oct 2020) |
| EndedAt: 2020-10-17 03:08:49 -0400 (Sat, 17 Oct 2020) |
| EllapsedTime: 317.1 seconds |
| RetCode: 0 |
| Status: OK |
| CheckDir: methrix.Rcheck |
| Warnings: 0 |
##############################################################################
##############################################################################
###
### Running command:
###
### /home/biocbuild/bbs-3.11-bioc/R/bin/R CMD check --install=check:methrix.install-out.txt --library=/home/biocbuild/bbs-3.11-bioc/R/library --no-vignettes --timings methrix_1.2.06.tar.gz
###
##############################################################################
##############################################################################
* using log directory ‘/home/biocbuild/bbs-3.11-bioc/meat/methrix.Rcheck’
* using R version 4.0.3 (2020-10-10)
* using platform: x86_64-pc-linux-gnu (64-bit)
* using session charset: UTF-8
* using option ‘--no-vignettes’
* checking for file ‘methrix/DESCRIPTION’ ... OK
* this is package ‘methrix’ version ‘1.2.06’
* package encoding: UTF-8
* checking package namespace information ... OK
* checking package dependencies ... OK
* checking if this is a source package ... OK
* checking if there is a namespace ... OK
* checking for hidden files and directories ... NOTE
Found the following hidden files and directories:
.travis.yml
These were most likely included in error. See section ‘Package
structure’ in the ‘Writing R Extensions’ manual.
* checking for portable file names ... OK
* checking for sufficient/correct file permissions ... OK
* checking whether package ‘methrix’ can be installed ... OK
* checking installed package size ... OK
* checking package directory ... OK
* checking ‘build’ directory ... OK
* checking DESCRIPTION meta-information ... OK
* checking top-level files ... OK
* checking for left-over files ... OK
* checking index information ... OK
* checking package subdirectories ... OK
* checking R files for non-ASCII characters ... OK
* checking R files for syntax errors ... OK
* checking whether the package can be loaded ... OK
* checking whether the package can be loaded with stated dependencies ... OK
* checking whether the package can be unloaded cleanly ... OK
* checking whether the namespace can be loaded with stated dependencies ... OK
* checking whether the namespace can be unloaded cleanly ... OK
* checking dependencies in R code ... OK
* checking S3 generic/method consistency ... OK
* checking replacement functions ... OK
* checking foreign function calls ... OK
* checking R code for possible problems ... NOTE
write_bedgraphs: no visible global function definition for
‘seqlevelsStyle<-’
Undefined global functions or variables:
seqlevelsStyle<-
* checking Rd files ... OK
* checking Rd metadata ... OK
* checking Rd cross-references ... OK
* checking for missing documentation entries ... OK
* checking for code/documentation mismatches ... OK
* checking Rd \usage sections ... OK
* checking Rd contents ... OK
* checking for unstated dependencies in examples ... OK
* checking contents of ‘data’ directory ... OK
* checking data for non-ASCII characters ... OK
* checking data for ASCII and uncompressed saves ... OK
* checking files in ‘vignettes’ ... OK
* checking examples ... OK
Examples with CPU (user + system) or elapsed time > 5s
user system elapsed
remove_snps 5.919 0.16 6.809
* checking for unstated dependencies in ‘tests’ ... OK
* checking tests ...
Running ‘testthat.R’
OK
* checking for unstated dependencies in vignettes ... OK
* checking package vignettes in ‘inst/doc’ ... OK
* checking running R code from vignettes ... SKIPPED
* checking re-building of vignette outputs ... SKIPPED
* checking PDF version of manual ... OK
* DONE
Status: 2 NOTEs
See
‘/home/biocbuild/bbs-3.11-bioc/meat/methrix.Rcheck/00check.log’
for details.
methrix.Rcheck/00install.out
############################################################################## ############################################################################## ### ### Running command: ### ### /home/biocbuild/bbs-3.11-bioc/R/bin/R CMD INSTALL methrix ### ############################################################################## ############################################################################## * installing to library ‘/home/biocbuild/bbs-3.11-bioc/R/library’ * installing *source* package ‘methrix’ ... ** using staged installation ** R ** data ** inst ** byte-compile and prepare package for lazy loading ** help *** installing help indices ** building package indices ** installing vignettes ** testing if installed package can be loaded from temporary location ** testing if installed package can be loaded from final location ** testing if installed package keeps a record of temporary installation path * DONE (methrix)
methrix.Rcheck/tests/testthat.Rout
R version 4.0.3 (2020-10-10) -- "Bunny-Wunnies Freak Out"
Copyright (C) 2020 The R Foundation for Statistical Computing
Platform: x86_64-pc-linux-gnu (64-bit)
R is free software and comes with ABSOLUTELY NO WARRANTY.
You are welcome to redistribute it under certain conditions.
Type 'license()' or 'licence()' for distribution details.
R is a collaborative project with many contributors.
Type 'contributors()' for more information and
'citation()' on how to cite R or R packages in publications.
Type 'demo()' for some demos, 'help()' for on-line help, or
'help.start()' for an HTML browser interface to help.
Type 'q()' to quit R.
> library(testthat)
> library(methrix)
Loading required package: data.table
Loading required package: SummarizedExperiment
Loading required package: GenomicRanges
Loading required package: stats4
Loading required package: BiocGenerics
Loading required package: parallel
Attaching package: 'BiocGenerics'
The following objects are masked from 'package:parallel':
clusterApply, clusterApplyLB, clusterCall, clusterEvalQ,
clusterExport, clusterMap, parApply, parCapply, parLapply,
parLapplyLB, parRapply, parSapply, parSapplyLB
The following objects are masked from 'package:stats':
IQR, mad, sd, var, xtabs
The following objects are masked from 'package:base':
Filter, Find, Map, Position, Reduce, anyDuplicated, append,
as.data.frame, basename, cbind, colnames, dirname, do.call,
duplicated, eval, evalq, get, grep, grepl, intersect, is.unsorted,
lapply, mapply, match, mget, order, paste, pmax, pmax.int, pmin,
pmin.int, rank, rbind, rownames, sapply, setdiff, sort, table,
tapply, union, unique, unsplit, which, which.max, which.min
Loading required package: S4Vectors
Attaching package: 'S4Vectors'
The following objects are masked from 'package:data.table':
first, second
The following object is masked from 'package:base':
expand.grid
Loading required package: IRanges
Attaching package: 'IRanges'
The following object is masked from 'package:data.table':
shift
Loading required package: GenomeInfoDb
Loading required package: Biobase
Welcome to Bioconductor
Vignettes contain introductory material; view with
'browseVignettes()'. To cite Bioconductor, see
'citation("Biobase")', and for packages 'citation("pkgname")'.
Loading required package: DelayedArray
Loading required package: matrixStats
Attaching package: 'matrixStats'
The following objects are masked from 'package:Biobase':
anyMissing, rowMedians
Attaching package: 'DelayedArray'
The following objects are masked from 'package:matrixStats':
colMaxs, colMins, colRanges, rowMaxs, rowMins, rowRanges
The following objects are masked from 'package:base':
aperm, apply, rowsum
>
> test_check("methrix")
══ testthat results ═══════════════════════════════════════════════════════════
[ OK: 86 | SKIPPED: 0 | WARNINGS: 0 | FAILED: 0 ]
>
> proc.time()
user system elapsed
29.500 0.767 29.984
methrix.Rcheck/methrix-Ex.timings
| name | user | system | elapsed | |
| convert_HDF5_methrix | 0.416 | 0.024 | 0.440 | |
| convert_methrix | 0.158 | 0.031 | 0.190 | |
| coverage_filter | 0.749 | 0.013 | 0.756 | |
| extract_CPGs | 0 | 0 | 0 | |
| get_matrix | 0.170 | 0.015 | 0.186 | |
| get_region_summary | 0.104 | 0.012 | 0.112 | |
| get_stats | 0.859 | 0.008 | 0.867 | |
| load_HDF5_methrix | 0.330 | 0.016 | 0.347 | |
| mask_methrix | 0.215 | 0.016 | 0.231 | |
| methrix2bsseq | 0 | 0 | 0 | |
| methrix_data | 0.035 | 0.016 | 0.051 | |
| methrix_pca | 0.704 | 0.020 | 0.723 | |
| methrix_report | 0.000 | 0.001 | 0.001 | |
| order_by_sd | 0.045 | 0.014 | 0.059 | |
| plot_coverage | 0.973 | 0.012 | 0.981 | |
| plot_density | 1.769 | 0.016 | 1.786 | |
| plot_pca | 0.849 | 0.016 | 0.865 | |
| plot_stats | 1.538 | 0.028 | 1.567 | |
| plot_violin | 1.275 | 0.032 | 1.307 | |
| read_bedgraphs | 0.001 | 0.000 | 0.000 | |
| region_filter | 0.074 | 0.020 | 0.095 | |
| remove_snps | 5.919 | 0.160 | 6.809 | |
| remove_uncovered | 0.994 | 0.029 | 0.947 | |
| save_HDF5_methrix | 0.305 | 0.035 | 0.341 | |
| subset_methrix | 0.045 | 0.016 | 0.061 | |
| write_bedgraphs | 0.105 | 0.015 | 0.120 | |