| Back to Multiple platform build/check report for BioC 3.11 | 
 | 
This page was generated on 2020-10-17 11:57:02 -0400 (Sat, 17 Oct 2020).
| TO THE DEVELOPERS/MAINTAINERS OF THE metaArray PACKAGE: Please make sure to use the following settings in order to reproduce any error or warning you see on this page. | 
| Package 1029/1905 | Hostname | OS / Arch | INSTALL | BUILD | CHECK | BUILD BIN | ||||||
| metaArray 1.66.0 Hyungwon Choi 
 | malbec2 | Linux (Ubuntu 18.04.4 LTS) / x86_64 | OK | OK | WARNINGS |  | ||||||
| tokay2 | Windows Server 2012 R2 Standard / x64 | [ OK ] | OK | WARNINGS | OK |  | ||||||
| machv2 | macOS 10.14.6 Mojave / x86_64 | OK | OK | WARNINGS | OK |  | 
| Package: metaArray | 
| Version: 1.66.0 | 
| Command: C:\cygwin\bin\curl.exe -O https://malbec2.bioconductor.org/BBS/3.11/bioc/src/contrib/metaArray_1.66.0.tar.gz && rm -rf metaArray.buildbin-libdir && mkdir metaArray.buildbin-libdir && C:\Users\biocbuild\bbs-3.11-bioc\R\bin\R.exe CMD INSTALL --merge-multiarch --build --library=metaArray.buildbin-libdir metaArray_1.66.0.tar.gz && C:\Users\biocbuild\bbs-3.11-bioc\R\bin\R.exe CMD INSTALL metaArray_1.66.0.zip && rm metaArray_1.66.0.tar.gz metaArray_1.66.0.zip | 
| StartedAt: 2020-10-16 17:04:04 -0400 (Fri, 16 Oct 2020) | 
| EndedAt: 2020-10-16 17:04:38 -0400 (Fri, 16 Oct 2020) | 
| EllapsedTime: 33.2 seconds | 
| RetCode: 0 | 
| Status: OK | 
##############################################################################
##############################################################################
###
### Running command:
###
###   C:\cygwin\bin\curl.exe -O https://malbec2.bioconductor.org/BBS/3.11/bioc/src/contrib/metaArray_1.66.0.tar.gz && rm -rf metaArray.buildbin-libdir && mkdir metaArray.buildbin-libdir && C:\Users\biocbuild\bbs-3.11-bioc\R\bin\R.exe CMD INSTALL --merge-multiarch --build --library=metaArray.buildbin-libdir metaArray_1.66.0.tar.gz && C:\Users\biocbuild\bbs-3.11-bioc\R\bin\R.exe CMD INSTALL metaArray_1.66.0.zip && rm metaArray_1.66.0.tar.gz metaArray_1.66.0.zip
###
##############################################################################
##############################################################################
  % Total    % Received % Xferd  Average Speed   Time    Time     Time  Current
                                 Dload  Upload   Total   Spent    Left  Speed
  0     0    0     0    0     0      0      0 --:--:-- --:--:-- --:--:--     0
100  661k  100  661k    0     0  2761k      0 --:--:-- --:--:-- --:--:-- 2838k
install for i386
* installing *source* package 'metaArray' ...
** using staged installation
** libs
"C:/rtools40/mingw32/bin/"gcc  -I"C:/Users/BIOCBU~1/BBS-3~1.11-/R/include" -DNDEBUG     -I"C:/extsoft/include"  -DUSEDOUBLE -DWINDOWS   -O2 -Wall  -std=gnu99 -mfpmath=sse -msse2 -mstackrealign -c contr.c -o contr.o
"C:/rtools40/mingw32/bin/"gcc  -I"C:/Users/BIOCBU~1/BBS-3~1.11-/R/include" -DNDEBUG     -I"C:/extsoft/include"  -DUSEDOUBLE -DWINDOWS   -O2 -Wall  -std=gnu99 -mfpmath=sse -msse2 -mstackrealign -c dproc.c -o dproc.o
dproc.c: In function 'malloc_CH':
dproc.c:111:21: warning: variable 'num' set but not used [-Wunused-but-set-variable]
   int i, j, nr, nc, num;
                     ^~~
dproc.c: In function 'free_CH':
dproc.c:192:16: warning: unused variable 'nc' [-Wunused-variable]
   int num, nr, nc;
                ^~
dproc.c:192:12: warning: variable 'nr' set but not used [-Wunused-but-set-variable]
   int num, nr, nc;
            ^~
dproc.c:192:7: warning: variable 'num' set but not used [-Wunused-but-set-variable]
   int num, nr, nc;
       ^~~
"C:/rtools40/mingw32/bin/"gcc  -I"C:/Users/BIOCBU~1/BBS-3~1.11-/R/include" -DNDEBUG     -I"C:/extsoft/include"  -DUSEDOUBLE -DWINDOWS   -O2 -Wall  -std=gnu99 -mfpmath=sse -msse2 -mstackrealign -c dproc2.c -o dproc2.o
"C:/rtools40/mingw32/bin/"gcc  -I"C:/Users/BIOCBU~1/BBS-3~1.11-/R/include" -DNDEBUG     -I"C:/extsoft/include"  -DUSEDOUBLE -DWINDOWS   -O2 -Wall  -std=gnu99 -mfpmath=sse -msse2 -mstackrealign -c intcor.c -o intcor.o
"C:/rtools40/mingw32/bin/"gcc  -I"C:/Users/BIOCBU~1/BBS-3~1.11-/R/include" -DNDEBUG     -I"C:/extsoft/include"  -DUSEDOUBLE -DWINDOWS   -O2 -Wall  -std=gnu99 -mfpmath=sse -msse2 -mstackrealign -c lowess.c -o lowess.o
"C:/rtools40/mingw32/bin/"gcc  -I"C:/Users/BIOCBU~1/BBS-3~1.11-/R/include" -DNDEBUG     -I"C:/extsoft/include"  -DUSEDOUBLE -DWINDOWS   -O2 -Wall  -std=gnu99 -mfpmath=sse -msse2 -mstackrealign -c mmath.c -o mmath.o
"C:/rtools40/mingw32/bin/"gcc  -I"C:/Users/BIOCBU~1/BBS-3~1.11-/R/include" -DNDEBUG     -I"C:/extsoft/include"  -DUSEDOUBLE -DWINDOWS   -O2 -Wall  -std=gnu99 -mfpmath=sse -msse2 -mstackrealign -c perm.c -o perm.o
"C:/rtools40/mingw32/bin/"gcc  -I"C:/Users/BIOCBU~1/BBS-3~1.11-/R/include" -DNDEBUG     -I"C:/extsoft/include"  -DUSEDOUBLE -DWINDOWS   -O2 -Wall  -std=gnu99 -mfpmath=sse -msse2 -mstackrealign -c poe.c -o poe.o
poe.c: In function 'poe_one_iter':
poe.c:131:53: warning: variable 'shift' set but not used [-Wunused-but-set-variable]
   double kappa_b, kappa_a, kappa_new, aaa, res_max, shift;
                                                     ^~~~~
poe.c:120:20: warning: variable 'accept' set but not used [-Wunused-but-set-variable]
   int nr,nc,tt,gg, accept;
                    ^~~~~~
C:/rtools40/mingw32/bin/gcc -shared -s -static-libgcc -o metaArray.dll tmp.def contr.o dproc.o dproc2.o intcor.o lowess.o mmath.o perm.o poe.o -lm -LC:/extsoft/lib/i386 -LC:/extsoft/lib -LC:/Users/BIOCBU~1/BBS-3~1.11-/R/bin/i386 -lR
installing to C:/Users/biocbuild/bbs-3.11-bioc/meat/metaArray.buildbin-libdir/00LOCK-metaArray/00new/metaArray/libs/i386
** R
** data
** byte-compile and prepare package for lazy loading
Warning: Package 'MergeMaid' is deprecated and will be removed from Bioconductor
  version 3.12
** help
*** installing help indices
  converting help for package 'metaArray'
    finding HTML links ... done
    Zscore                                  html  
    em.draw                                 html  
    find.init                               html  
    fit.em                                  html  
    intcor                                  html  
    logit                                   html  
    mdata                                   html  
    poe.em                                  html  
    poe.mcmc                                html  
** building package indices
** installing vignettes
** testing if installed package can be loaded from temporary location
** testing if installed package can be loaded from final location
** testing if installed package keeps a record of temporary installation path
install for x64
* installing *source* package 'metaArray' ...
** libs
"C:/rtools40/mingw64/bin/"gcc  -I"C:/Users/BIOCBU~1/BBS-3~1.11-/R/include" -DNDEBUG     -I"C:/extsoft/include"  -DUSEDOUBLE -DWINDOWS   -O2 -Wall  -std=gnu99 -mfpmath=sse -msse2 -mstackrealign -c contr.c -o contr.o
"C:/rtools40/mingw64/bin/"gcc  -I"C:/Users/BIOCBU~1/BBS-3~1.11-/R/include" -DNDEBUG     -I"C:/extsoft/include"  -DUSEDOUBLE -DWINDOWS   -O2 -Wall  -std=gnu99 -mfpmath=sse -msse2 -mstackrealign -c dproc.c -o dproc.o
dproc.c: In function 'malloc_CH':
dproc.c:111:21: warning: variable 'num' set but not used [-Wunused-but-set-variable]
   int i, j, nr, nc, num;
                     ^~~
dproc.c: In function 'free_CH':
dproc.c:192:16: warning: unused variable 'nc' [-Wunused-variable]
   int num, nr, nc;
                ^~
dproc.c:192:12: warning: variable 'nr' set but not used [-Wunused-but-set-variable]
   int num, nr, nc;
            ^~
dproc.c:192:7: warning: variable 'num' set but not used [-Wunused-but-set-variable]
   int num, nr, nc;
       ^~~
"C:/rtools40/mingw64/bin/"gcc  -I"C:/Users/BIOCBU~1/BBS-3~1.11-/R/include" -DNDEBUG     -I"C:/extsoft/include"  -DUSEDOUBLE -DWINDOWS   -O2 -Wall  -std=gnu99 -mfpmath=sse -msse2 -mstackrealign -c dproc2.c -o dproc2.o
"C:/rtools40/mingw64/bin/"gcc  -I"C:/Users/BIOCBU~1/BBS-3~1.11-/R/include" -DNDEBUG     -I"C:/extsoft/include"  -DUSEDOUBLE -DWINDOWS   -O2 -Wall  -std=gnu99 -mfpmath=sse -msse2 -mstackrealign -c intcor.c -o intcor.o
"C:/rtools40/mingw64/bin/"gcc  -I"C:/Users/BIOCBU~1/BBS-3~1.11-/R/include" -DNDEBUG     -I"C:/extsoft/include"  -DUSEDOUBLE -DWINDOWS   -O2 -Wall  -std=gnu99 -mfpmath=sse -msse2 -mstackrealign -c lowess.c -o lowess.o
"C:/rtools40/mingw64/bin/"gcc  -I"C:/Users/BIOCBU~1/BBS-3~1.11-/R/include" -DNDEBUG     -I"C:/extsoft/include"  -DUSEDOUBLE -DWINDOWS   -O2 -Wall  -std=gnu99 -mfpmath=sse -msse2 -mstackrealign -c mmath.c -o mmath.o
"C:/rtools40/mingw64/bin/"gcc  -I"C:/Users/BIOCBU~1/BBS-3~1.11-/R/include" -DNDEBUG     -I"C:/extsoft/include"  -DUSEDOUBLE -DWINDOWS   -O2 -Wall  -std=gnu99 -mfpmath=sse -msse2 -mstackrealign -c perm.c -o perm.o
"C:/rtools40/mingw64/bin/"gcc  -I"C:/Users/BIOCBU~1/BBS-3~1.11-/R/include" -DNDEBUG     -I"C:/extsoft/include"  -DUSEDOUBLE -DWINDOWS   -O2 -Wall  -std=gnu99 -mfpmath=sse -msse2 -mstackrealign -c poe.c -o poe.o
poe.c: In function 'poe_one_iter':
poe.c:131:53: warning: variable 'shift' set but not used [-Wunused-but-set-variable]
   double kappa_b, kappa_a, kappa_new, aaa, res_max, shift;
                                                     ^~~~~
poe.c:120:20: warning: variable 'accept' set but not used [-Wunused-but-set-variable]
   int nr,nc,tt,gg, accept;
                    ^~~~~~
C:/rtools40/mingw64/bin/gcc -shared -s -static-libgcc -o metaArray.dll tmp.def contr.o dproc.o dproc2.o intcor.o lowess.o mmath.o perm.o poe.o -lm -LC:/extsoft/lib/x64 -LC:/extsoft/lib -LC:/Users/BIOCBU~1/BBS-3~1.11-/R/bin/x64 -lR
installing to C:/Users/biocbuild/bbs-3.11-bioc/meat/metaArray.buildbin-libdir/metaArray/libs/x64
** testing if installed package can be loaded
* MD5 sums
packaged installation of 'metaArray' as metaArray_1.66.0.zip
* DONE (metaArray)
* installing to library 'C:/Users/biocbuild/bbs-3.11-bioc/R/library'
package 'metaArray' successfully unpacked and MD5 sums checked