| Back to Multiple platform build/check report for BioC 3.11 |
|
This page was generated on 2020-10-17 11:58:53 -0400 (Sat, 17 Oct 2020).
| TO THE DEVELOPERS/MAINTAINERS OF THE metaArray PACKAGE: Please make sure to use the following settings in order to reproduce any error or warning you see on this page. |
| Package 1029/1905 | Hostname | OS / Arch | INSTALL | BUILD | CHECK | BUILD BIN | ||||||
| metaArray 1.66.0 Hyungwon Choi
| malbec2 | Linux (Ubuntu 18.04.4 LTS) / x86_64 | OK | OK | WARNINGS | |||||||
| tokay2 | Windows Server 2012 R2 Standard / x64 | OK | OK | WARNINGS | OK | |||||||
| machv2 | macOS 10.14.6 Mojave / x86_64 | OK | OK | WARNINGS | [ OK ] |
| Package: metaArray |
| Version: 1.66.0 |
| Command: rm -rf metaArray.buildbin-libdir && mkdir metaArray.buildbin-libdir && /Users/biocbuild/BBS/utils/build-universal.sh metaArray_1.66.0.tar.gz /Library/Frameworks/R.framework/Versions/Current/Resources/bin/R metaArray.buildbin-libdir |
| StartedAt: 2020-10-17 07:26:24 -0400 (Sat, 17 Oct 2020) |
| EndedAt: 2020-10-17 07:26:55 -0400 (Sat, 17 Oct 2020) |
| EllapsedTime: 30.9 seconds |
| RetCode: 0 |
| Status: OK |
| PackageFile: metaArray_1.66.0.tgz |
| PackageFileSize: 842.6 KiB |
##############################################################################
##############################################################################
###
### Running command:
###
### rm -rf metaArray.buildbin-libdir && mkdir metaArray.buildbin-libdir && /Users/biocbuild/BBS/utils/build-universal.sh metaArray_1.66.0.tar.gz /Library/Frameworks/R.framework/Versions/Current/Resources/bin/R metaArray.buildbin-libdir
###
##############################################################################
##############################################################################
>>>>>>>
>>>>>>> INSTALLATION WITH 'R CMD INSTALL --preclean --no-multiarch --library=metaArray.buildbin-libdir metaArray_1.66.0.tar.gz'
>>>>>>>
* installing *source* package ‘metaArray’ ...
** using staged installation
** libs
clang -mmacosx-version-min=10.13 -I"/Library/Frameworks/R.framework/Resources/include" -DNDEBUG -I/usr/local/include -DUSEDOUBLE -fPIC -Wall -g -O2 -c contr.c -o contr.o
clang -mmacosx-version-min=10.13 -I"/Library/Frameworks/R.framework/Resources/include" -DNDEBUG -I/usr/local/include -DUSEDOUBLE -fPIC -Wall -g -O2 -c dproc.c -o dproc.o
dproc.c:192:16: warning: unused variable 'nc' [-Wunused-variable]
int num, nr, nc;
^
1 warning generated.
clang -mmacosx-version-min=10.13 -I"/Library/Frameworks/R.framework/Resources/include" -DNDEBUG -I/usr/local/include -DUSEDOUBLE -fPIC -Wall -g -O2 -c dproc2.c -o dproc2.o
clang -mmacosx-version-min=10.13 -I"/Library/Frameworks/R.framework/Resources/include" -DNDEBUG -I/usr/local/include -DUSEDOUBLE -fPIC -Wall -g -O2 -c intcor.c -o intcor.o
clang -mmacosx-version-min=10.13 -I"/Library/Frameworks/R.framework/Resources/include" -DNDEBUG -I/usr/local/include -DUSEDOUBLE -fPIC -Wall -g -O2 -c lowess.c -o lowess.o
clang -mmacosx-version-min=10.13 -I"/Library/Frameworks/R.framework/Resources/include" -DNDEBUG -I/usr/local/include -DUSEDOUBLE -fPIC -Wall -g -O2 -c mmath.c -o mmath.o
clang -mmacosx-version-min=10.13 -I"/Library/Frameworks/R.framework/Resources/include" -DNDEBUG -I/usr/local/include -DUSEDOUBLE -fPIC -Wall -g -O2 -c perm.c -o perm.o
clang -mmacosx-version-min=10.13 -I"/Library/Frameworks/R.framework/Resources/include" -DNDEBUG -I/usr/local/include -DUSEDOUBLE -fPIC -Wall -g -O2 -c poe.c -o poe.o
clang -mmacosx-version-min=10.13 -dynamiclib -Wl,-headerpad_max_install_names -undefined dynamic_lookup -single_module -multiply_defined suppress -L/Library/Frameworks/R.framework/Resources/lib -L/usr/local/lib -o metaArray.so contr.o dproc.o dproc2.o intcor.o lowess.o mmath.o perm.o poe.o -lm -F/Library/Frameworks/R.framework/.. -framework R -Wl,-framework -Wl,CoreFoundation
installing to /Users/biocbuild/bbs-3.11-bioc/meat/metaArray.buildbin-libdir/00LOCK-metaArray/00new/metaArray/libs
** R
** data
** inst
** byte-compile and prepare package for lazy loading
Warning: Package 'MergeMaid' is deprecated and will be removed from Bioconductor
version 3.12
** help
*** installing help indices
** building package indices
** installing vignettes
** testing if installed package can be loaded from temporary location
** checking absolute paths in shared objects and dynamic libraries
** testing if installed package can be loaded from final location
** testing if installed package keeps a record of temporary installation path
* DONE (metaArray)
>>>>>>>
>>>>>>> FIXING LINKS FOR metaArray.buildbin-libdir/metaArray/libs/metaArray.so
>>>>>>>
install_name_tool -change "/usr/local/lib/libgcc_s.1.dylib" "/Library/Frameworks/R.framework/Versions/4.0/Resources/lib/libgcc_s.1.dylib" "metaArray.buildbin-libdir/metaArray/libs/metaArray.so"
install_name_tool -change "/usr/local/lib/libgfortran.5.dylib" "/Library/Frameworks/R.framework/Versions/4.0/Resources/lib/libgfortran.5.dylib" "metaArray.buildbin-libdir/metaArray/libs/metaArray.so"
install_name_tool -change "/usr/local/lib/libquadmath.0.dylib" "/Library/Frameworks/R.framework/Versions/4.0/Resources/lib/libquadmath.0.dylib" "metaArray.buildbin-libdir/metaArray/libs/metaArray.so"