| Back to Multiple platform build/check report for BioC 3.11 | 
 | 
This page was generated on 2020-10-17 11:56:37 -0400 (Sat, 17 Oct 2020).
| TO THE DEVELOPERS/MAINTAINERS OF THE gaggle PACKAGE: Please make sure to use the following settings in order to reproduce any error or warning you see on this page. | 
| Package 650/1905 | Hostname | OS / Arch | INSTALL | BUILD | CHECK | BUILD BIN | ||||||
| gaggle 1.56.0 Christopher Bare 
 | malbec2 | Linux (Ubuntu 18.04.4 LTS) / x86_64 | OK | OK | OK |  | ||||||
| tokay2 | Windows Server 2012 R2 Standard / x64 | OK | OK | OK | [ OK ] |  | ||||||
| machv2 | macOS 10.14.6 Mojave / x86_64 | OK | OK | OK | OK |  | 
| Package: gaggle | 
| Version: 1.56.0 | 
| Command: rm -rf gaggle.buildbin-libdir && mkdir gaggle.buildbin-libdir && C:\Users\biocbuild\bbs-3.11-bioc\R\bin\R.exe CMD INSTALL --merge-multiarch --build --library=gaggle.buildbin-libdir gaggle_1.56.0.tar.gz | 
| StartedAt: 2020-10-17 10:33:51 -0400 (Sat, 17 Oct 2020) | 
| EndedAt: 2020-10-17 10:34:13 -0400 (Sat, 17 Oct 2020) | 
| EllapsedTime: 21.3 seconds | 
| RetCode: 0 | 
| Status: OK | 
| PackageFile: gaggle_1.56.0.zip | 
| PackageFileSize: 337.3 KiB | 
##############################################################################
##############################################################################
###
### Running command:
###
###   rm -rf gaggle.buildbin-libdir && mkdir gaggle.buildbin-libdir && C:\Users\biocbuild\bbs-3.11-bioc\R\bin\R.exe CMD INSTALL --merge-multiarch --build --library=gaggle.buildbin-libdir gaggle_1.56.0.tar.gz
###
##############################################################################
##############################################################################
install for i386
* installing *source* package 'gaggle' ...
** using staged installation
** R
** inst
** byte-compile and prepare package for lazy loading
** help
*** installing help indices
  converting help for package 'gaggle'
    finding HTML links ... done
    broadcast                               html  
    connectToGaggle                         html  
    disconnectFromGaggle                    html  
    gaggleInit                              html  
    geese                                   html  
    getCluster                              html  
    getJavaClassName                        html  
    getMatrix                               html  
    getNameList                             html  
    getNetwork                              html  
    getSpecies                              html  
    getTargetGoose                          html  
    getTuple                                html  
    hideGoose                               html  
    newTuple                                html  
    setSpecies                              html  
    setTargetGoose                          html  
    showGoose                               html  
    testGagglePackage                       html  
** building package indices
** installing vignettes
** testing if installed package can be loaded from temporary location
onLoad -- libname: C:/Users/biocbuild/bbs-3.11-bioc/meat/gaggle.buildbin-libdir/00LOCK-gaggle/00new pkgname: gaggle 
path to jar: C:/Users/biocbuild/bbs-3.11-bioc/meat/gaggle.buildbin-libdir/00LOCK-gaggle/00new/gaggle/jars/gaggleRShell.jar 
      script:  gaggle.R $Revision: 4499 $   $Date: 2010-08-10 17:15:03 -0700 (Tue, 10 Aug 2010) $ 
  os version:  Windows Server 2012 R2 
 jvm version:  1.8.0_111 
   You are using the wrong version of Java.
   Please see http://gaggle.systemsbiology.org/docs/html/java
** testing if installed package can be loaded from final location
onLoad -- libname: C:/Users/biocbuild/bbs-3.11-bioc/meat/gaggle.buildbin-libdir pkgname: gaggle 
path to jar: C:/Users/biocbuild/bbs-3.11-bioc/meat/gaggle.buildbin-libdir/gaggle/jars/gaggleRShell.jar 
      script:  gaggle.R $Revision: 4499 $   $Date: 2010-08-10 17:15:03 -0700 (Tue, 10 Aug 2010) $ 
  os version:  Windows Server 2012 R2 
 jvm version:  1.8.0_111 
   You are using the wrong version of Java.
   Please see http://gaggle.systemsbiology.org/docs/html/java
** testing if installed package keeps a record of temporary installation path
install for x64
* installing *source* package 'gaggle' ...
** testing if installed package can be loaded
onLoad -- libname: C:/Users/biocbuild/bbs-3.11-bioc/meat/gaggle.buildbin-libdir pkgname: gaggle 
path to jar: C:/Users/biocbuild/bbs-3.11-bioc/meat/gaggle.buildbin-libdir/gaggle/jars/gaggleRShell.jar 
      script:  gaggle.R $Revision: 4499 $   $Date: 2010-08-10 17:15:03 -0700 (Tue, 10 Aug 2010) $ 
  os version:  Windows Server 2012 R2 
 jvm version:  1.8.0_111 
   You are using the wrong version of Java.
   Please see http://gaggle.systemsbiology.org/docs/html/java
* MD5 sums
packaged installation of 'gaggle' as gaggle_1.56.0.zip
* DONE (gaggle)