| Back to Multiple platform build/check report for BioC 3.11 |
|
This page was generated on 2020-10-17 11:54:47 -0400 (Sat, 17 Oct 2020).
| TO THE DEVELOPERS/MAINTAINERS OF THE gaggle PACKAGE: Please make sure to use the following settings in order to reproduce any error or warning you see on this page. |
| Package 650/1905 | Hostname | OS / Arch | INSTALL | BUILD | CHECK | BUILD BIN | ||||||
| gaggle 1.56.0 Christopher Bare
| malbec2 | Linux (Ubuntu 18.04.4 LTS) / x86_64 | [ OK ] | OK | OK | |||||||
| tokay2 | Windows Server 2012 R2 Standard / x64 | OK | OK | OK | OK | |||||||
| machv2 | macOS 10.14.6 Mojave / x86_64 | OK | OK | OK | OK |
| Package: gaggle |
| Version: 1.56.0 |
| Command: /home/biocbuild/bbs-3.11-bioc/R/bin/R CMD INSTALL gaggle |
| StartedAt: 2020-10-16 16:27:38 -0400 (Fri, 16 Oct 2020) |
| EndedAt: 2020-10-16 16:27:45 -0400 (Fri, 16 Oct 2020) |
| EllapsedTime: 6.5 seconds |
| RetCode: 0 |
| Status: OK |
##############################################################################
##############################################################################
###
### Running command:
###
### /home/biocbuild/bbs-3.11-bioc/R/bin/R CMD INSTALL gaggle
###
##############################################################################
##############################################################################
* installing to library ‘/home/biocbuild/bbs-3.11-bioc/R/library’
* installing *source* package ‘gaggle’ ...
** using staged installation
** R
** inst
** byte-compile and prepare package for lazy loading
** help
*** installing help indices
** building package indices
** installing vignettes
** testing if installed package can be loaded from temporary location
onLoad -- libname: /home/biocbuild/bbs-3.11-bioc/R/library/00LOCK-gaggle/00new pkgname: gaggle
path to jar: /home/biocbuild/bbs-3.11-bioc/R/library/00LOCK-gaggle/00new/gaggle/jars/gaggleRShell.jar
script: gaggle.R $Revision: 4499 $ $Date: 2010-08-10 17:15:03 -0700 (Tue, 10 Aug 2010) $
os version: Linux
jvm version: 1.8.0_265
You are using the wrong version of Java.
Please see http://gaggle.systemsbiology.org/docs/html/java
** testing if installed package can be loaded from final location
onLoad -- libname: /home/biocbuild/bbs-3.11-bioc/R/library pkgname: gaggle
path to jar: /home/biocbuild/bbs-3.11-bioc/R/library/gaggle/jars/gaggleRShell.jar
script: gaggle.R $Revision: 4499 $ $Date: 2010-08-10 17:15:03 -0700 (Tue, 10 Aug 2010) $
os version: Linux
jvm version: 1.8.0_265
You are using the wrong version of Java.
Please see http://gaggle.systemsbiology.org/docs/html/java
** testing if installed package keeps a record of temporary installation path
* DONE (gaggle)