| Back to Multiple platform build/check report for BioC 3.11 | 
  | 
This page was generated on 2020-10-17 11:56:27 -0400 (Sat, 17 Oct 2020).
| TO THE DEVELOPERS/MAINTAINERS OF THE diffcyt PACKAGE: Please make sure to use the following settings in order to reproduce any error or warning you see on this page. | 
| Package 471/1905 | Hostname | OS / Arch | INSTALL | BUILD | CHECK | BUILD BIN | ||||||
| diffcyt 1.8.8 Lukas M. Weber 
  | malbec2 | Linux (Ubuntu 18.04.4 LTS) / x86_64 | OK | OK | OK | |||||||
| tokay2 | Windows Server 2012 R2 Standard / x64 | OK | OK | OK | [ OK ] | |||||||
| machv2 | macOS 10.14.6 Mojave / x86_64 | OK | OK | OK | OK | 
| Package: diffcyt | 
| Version: 1.8.8 | 
| Command: rm -rf diffcyt.buildbin-libdir && mkdir diffcyt.buildbin-libdir && C:\Users\biocbuild\bbs-3.11-bioc\R\bin\R.exe CMD INSTALL --merge-multiarch --build --library=diffcyt.buildbin-libdir diffcyt_1.8.8.tar.gz | 
| StartedAt: 2020-10-17 10:20:06 -0400 (Sat, 17 Oct 2020) | 
| EndedAt: 2020-10-17 10:21:00 -0400 (Sat, 17 Oct 2020) | 
| EllapsedTime: 54.7 seconds | 
| RetCode: 0 | 
| Status: OK | 
| PackageFile: diffcyt_1.8.8.zip | 
| PackageFileSize: 715.3 KiB | 
##############################################################################
##############################################################################
###
### Running command:
###
###   rm -rf diffcyt.buildbin-libdir && mkdir diffcyt.buildbin-libdir && C:\Users\biocbuild\bbs-3.11-bioc\R\bin\R.exe CMD INSTALL --merge-multiarch --build --library=diffcyt.buildbin-libdir diffcyt_1.8.8.tar.gz
###
##############################################################################
##############################################################################
install for i386
* installing *source* package 'diffcyt' ...
** using staged installation
** R
** inst
** byte-compile and prepare package for lazy loading
** help
*** installing help indices
  converting help for package 'diffcyt'
    finding HTML links ... done
    calcCounts                              html  
    finding level-2 HTML links ... done
    calcMedians                             html  
    calcMediansByClusterMarker              html  
    calcMediansBySampleMarker               html  
    createContrast                          html  
    createDesignMatrix                      html  
    createFormula                           html  
    diffcyt                                 html  
    generateClusters                        html  
    plotHeatmap                             html  
    prepareData                             html  
    testDA_GLMM                             html  
    testDA_edgeR                            html  
    testDA_voom                             html  
    testDS_LMM                              html  
    testDS_limma                            html  
    topClusters                             html  
    topTable                                html  
    transformData                           html  
** building package indices
** installing vignettes
** testing if installed package can be loaded from temporary location
** testing if installed package can be loaded from final location
** testing if installed package keeps a record of temporary installation path
install for x64
* installing *source* package 'diffcyt' ...
** testing if installed package can be loaded
* MD5 sums
packaged installation of 'diffcyt' as diffcyt_1.8.8.zip
* DONE (diffcyt)