| Back to Multiple platform build/check report for BioC 3.11 | 
  | 
This page was generated on 2020-10-17 11:58:23 -0400 (Sat, 17 Oct 2020).
| TO THE DEVELOPERS/MAINTAINERS OF THE diffcyt PACKAGE: Please make sure to use the following settings in order to reproduce any error or warning you see on this page. | 
| Package 471/1905 | Hostname | OS / Arch | INSTALL | BUILD | CHECK | BUILD BIN | ||||||
| diffcyt 1.8.8 Lukas M. Weber 
  | malbec2 | Linux (Ubuntu 18.04.4 LTS) / x86_64 | OK | OK | OK | |||||||
| tokay2 | Windows Server 2012 R2 Standard / x64 | OK | OK | OK | OK | |||||||
| machv2 | macOS 10.14.6 Mojave / x86_64 | OK | OK | OK | [ OK ] | 
| Package: diffcyt | 
| Version: 1.8.8 | 
| Command: rm -rf diffcyt.buildbin-libdir && mkdir diffcyt.buildbin-libdir && /Users/biocbuild/BBS/utils/build-universal.sh diffcyt_1.8.8.tar.gz /Library/Frameworks/R.framework/Versions/Current/Resources/bin/R diffcyt.buildbin-libdir | 
| StartedAt: 2020-10-17 06:56:58 -0400 (Sat, 17 Oct 2020) | 
| EndedAt: 2020-10-17 06:57:41 -0400 (Sat, 17 Oct 2020) | 
| EllapsedTime: 42.5 seconds | 
| RetCode: 0 | 
| Status: OK | 
| PackageFile: diffcyt_1.8.8.tgz | 
| PackageFileSize: 588.8 KiB | 
############################################################################## ############################################################################## ### ### Running command: ### ### rm -rf diffcyt.buildbin-libdir && mkdir diffcyt.buildbin-libdir && /Users/biocbuild/BBS/utils/build-universal.sh diffcyt_1.8.8.tar.gz /Library/Frameworks/R.framework/Versions/Current/Resources/bin/R diffcyt.buildbin-libdir ### ############################################################################## ############################################################################## >>>>>>> >>>>>>> INSTALLATION WITH 'R CMD INSTALL --preclean --no-multiarch --library=diffcyt.buildbin-libdir diffcyt_1.8.8.tar.gz' >>>>>>> * installing *source* package ‘diffcyt’ ... ** using staged installation ** R ** inst ** byte-compile and prepare package for lazy loading ** help *** installing help indices ** building package indices ** installing vignettes ** testing if installed package can be loaded from temporary location ** testing if installed package can be loaded from final location ** testing if installed package keeps a record of temporary installation path * DONE (diffcyt)