| Back to Multiple platform build/check report for BioC 3.11 | 
 | 
This page was generated on 2020-10-17 11:59:53 -0400 (Sat, 17 Oct 2020).
| TO THE DEVELOPERS/MAINTAINERS OF THE Xeva PACKAGE: Please make sure to use the following settings in order to reproduce any error or warning you see on this page. | 
| Package 1894/1905 | Hostname | OS / Arch | INSTALL | BUILD | CHECK | BUILD BIN | ||||||
| Xeva 1.4.0 Benjamin Haibe-Kains 
 | malbec2 | Linux (Ubuntu 18.04.4 LTS) / x86_64 | OK | OK | OK |  | ||||||
| tokay2 | Windows Server 2012 R2 Standard / x64 | OK | OK | OK | NA | |||||||
| machv2 | macOS 10.14.6 Mojave / x86_64 | OK | [ OK ] | OK | OK |  | 
| Package: Xeva | 
| Version: 1.4.0 | 
| Command: /Library/Frameworks/R.framework/Versions/Current/Resources/bin/R CMD build --keep-empty-dirs --no-resave-data Xeva | 
| StartedAt: 2020-10-16 21:49:30 -0400 (Fri, 16 Oct 2020) | 
| EndedAt: 2020-10-16 21:50:57 -0400 (Fri, 16 Oct 2020) | 
| EllapsedTime: 86.7 seconds | 
| RetCode: 0 | 
| Status: OK | 
| PackageFile: Xeva_1.4.0.tar.gz | 
| PackageFileSize: 1.156 MiB | 
############################################################################## ############################################################################## ### ### Running command: ### ### /Library/Frameworks/R.framework/Versions/Current/Resources/bin/R CMD build --keep-empty-dirs --no-resave-data Xeva ### ############################################################################## ############################################################################## * checking for file ‘Xeva/DESCRIPTION’ ... OK * preparing ‘Xeva’: * checking DESCRIPTION meta-information ... OK * installing the package to build vignettes * creating vignettes ... OK * checking for LF line-endings in source and make files and shell scripts * checking for empty or unneeded directories * looking to see if a ‘data/datalist’ file should be added * building ‘Xeva_1.4.0.tar.gz’