| Back to Multiple platform build/check report for BioC 3.11 | 
 | 
This page was generated on 2020-10-17 11:57:50 -0400 (Sat, 17 Oct 2020).
| TO THE DEVELOPERS/MAINTAINERS OF THE SomaticSignatures PACKAGE: Please make sure to use the following settings in order to reproduce any error or warning you see on this page. | 
| Package 1698/1905 | Hostname | OS / Arch | INSTALL | BUILD | CHECK | BUILD BIN | ||||||
| SomaticSignatures 2.24.0 Julian Gehring 
 | malbec2 | Linux (Ubuntu 18.04.4 LTS) / x86_64 | OK | OK | OK |  | ||||||
| tokay2 | Windows Server 2012 R2 Standard / x64 | OK | [ OK ] | WARNINGS | NA | |||||||
| machv2 | macOS 10.14.6 Mojave / x86_64 | OK | OK | OK | OK |  | 
| Package: SomaticSignatures | 
| Version: 2.24.0 | 
| Command: chmod a+r SomaticSignatures -R && C:\Users\biocbuild\bbs-3.11-bioc\R\bin\R.exe CMD build --keep-empty-dirs --no-resave-data SomaticSignatures | 
| StartedAt: 2020-10-17 00:45:12 -0400 (Sat, 17 Oct 2020) | 
| EndedAt: 2020-10-17 01:05:01 -0400 (Sat, 17 Oct 2020) | 
| EllapsedTime: 1188.6 seconds | 
| RetCode: 0 | 
| Status: OK | 
| PackageFile: SomaticSignatures_2.24.0.tar.gz | 
| PackageFileSize: 718.6 KiB | 
############################################################################## ############################################################################## ### ### Running command: ### ### chmod a+r SomaticSignatures -R && C:\Users\biocbuild\bbs-3.11-bioc\R\bin\R.exe CMD build --keep-empty-dirs --no-resave-data SomaticSignatures ### ############################################################################## ############################################################################## * checking for file 'SomaticSignatures/DESCRIPTION' ... OK * preparing 'SomaticSignatures': * checking DESCRIPTION meta-information ... OK * installing the package to build vignettes * creating vignettes ... OK * checking for LF line-endings in source and make files and shell scripts * checking for empty or unneeded directories * looking to see if a 'data/datalist' file should be added * building 'SomaticSignatures_2.24.0.tar.gz'