| Back to Multiple platform build/check report for BioC 3.11 |
|
This page was generated on 2020-10-17 11:57:47 -0400 (Sat, 17 Oct 2020).
| TO THE DEVELOPERS/MAINTAINERS OF THE SELEX PACKAGE: Please make sure to use the following settings in order to reproduce any error or warning you see on this page. |
| Package 1620/1905 | Hostname | OS / Arch | INSTALL | BUILD | CHECK | BUILD BIN | ||||||
| SELEX 1.20.0 Harmen J. Bussemaker
| malbec2 | Linux (Ubuntu 18.04.4 LTS) / x86_64 | OK | OK | OK | |||||||
| tokay2 | Windows Server 2012 R2 Standard / x64 | OK | OK | OK | [ OK ] | |||||||
| machv2 | macOS 10.14.6 Mojave / x86_64 | OK | OK | OK | OK |
| Package: SELEX |
| Version: 1.20.0 |
| Command: rm -rf SELEX.buildbin-libdir && mkdir SELEX.buildbin-libdir && C:\Users\biocbuild\bbs-3.11-bioc\R\bin\R.exe CMD INSTALL --merge-multiarch --build --library=SELEX.buildbin-libdir SELEX_1.20.0.tar.gz |
| StartedAt: 2020-10-17 11:38:03 -0400 (Sat, 17 Oct 2020) |
| EndedAt: 2020-10-17 11:38:25 -0400 (Sat, 17 Oct 2020) |
| EllapsedTime: 22.0 seconds |
| RetCode: 0 |
| Status: OK |
| PackageFile: SELEX_1.20.0.zip |
| PackageFileSize: 2.814 MiB |
##############################################################################
##############################################################################
###
### Running command:
###
### rm -rf SELEX.buildbin-libdir && mkdir SELEX.buildbin-libdir && C:\Users\biocbuild\bbs-3.11-bioc\R\bin\R.exe CMD INSTALL --merge-multiarch --build --library=SELEX.buildbin-libdir SELEX_1.20.0.tar.gz
###
##############################################################################
##############################################################################
install for i386
* installing *source* package 'SELEX' ...
** using staged installation
** R
** inst
** byte-compile and prepare package for lazy loading
** help
*** installing help indices
converting help for package 'SELEX'
finding HTML links ... done
SELEX html
selex.affinities html
selex.config html
selex.countSummary html
selex.counts html
selex.defineSample html
selex.exampledata html
selex.fastqPSFM html
selex.getAttributes html
selex.getRound0 html
selex.getSeqfilter html
selex.infogain html
selex.infogainSummary html
selex.jvmStatus html
selex.kmax html
selex.kmerPSFM html
selex.loadAnnotation html
selex.mm html
selex.mmProb html
selex.mmSummary html
selex.revcomp html
selex.run html
selex.sample html
selex.samplePSFM html
selex.sampleSummary html
selex.saveAnnotation html
selex.seqfilter html
selex.setwd html
selex.split html
selex.summary html
** building package indices
** installing vignettes
** testing if installed package can be loaded from temporary location
** testing if installed package can be loaded from final location
** testing if installed package keeps a record of temporary installation path
install for x64
* installing *source* package 'SELEX' ...
** testing if installed package can be loaded
* MD5 sums
packaged installation of 'SELEX' as SELEX_1.20.0.zip
* DONE (SELEX)