| Back to Multiple platform build/check report for BioC 3.11 |
|
This page was generated on 2020-10-17 11:59:33 -0400 (Sat, 17 Oct 2020).
| TO THE DEVELOPERS/MAINTAINERS OF THE SELEX PACKAGE: Please make sure to use the following settings in order to reproduce any error or warning you see on this page. |
| Package 1620/1905 | Hostname | OS / Arch | INSTALL | BUILD | CHECK | BUILD BIN | ||||||
| SELEX 1.20.0 Harmen J. Bussemaker
| malbec2 | Linux (Ubuntu 18.04.4 LTS) / x86_64 | OK | OK | OK | |||||||
| tokay2 | Windows Server 2012 R2 Standard / x64 | OK | OK | OK | OK | |||||||
| machv2 | macOS 10.14.6 Mojave / x86_64 | OK | OK | [ OK ] | OK |
| Package: SELEX |
| Version: 1.20.0 |
| Command: /Library/Frameworks/R.framework/Versions/Current/Resources/bin/R CMD check --install=check:SELEX.install-out.txt --library=/Library/Frameworks/R.framework/Versions/Current/Resources/library --no-vignettes --timings SELEX_1.20.0.tar.gz |
| StartedAt: 2020-10-17 05:11:16 -0400 (Sat, 17 Oct 2020) |
| EndedAt: 2020-10-17 05:13:40 -0400 (Sat, 17 Oct 2020) |
| EllapsedTime: 143.8 seconds |
| RetCode: 0 |
| Status: OK |
| CheckDir: SELEX.Rcheck |
| Warnings: 0 |
##############################################################################
##############################################################################
###
### Running command:
###
### /Library/Frameworks/R.framework/Versions/Current/Resources/bin/R CMD check --install=check:SELEX.install-out.txt --library=/Library/Frameworks/R.framework/Versions/Current/Resources/library --no-vignettes --timings SELEX_1.20.0.tar.gz
###
##############################################################################
##############################################################################
* using log directory ‘/Users/biocbuild/bbs-3.11-bioc/meat/SELEX.Rcheck’
* using R version 4.0.3 (2020-10-10)
* using platform: x86_64-apple-darwin17.0 (64-bit)
* using session charset: UTF-8
* using option ‘--no-vignettes’
* checking for file ‘SELEX/DESCRIPTION’ ... OK
* this is package ‘SELEX’ version ‘1.20.0’
* checking package namespace information ... OK
* checking package dependencies ... OK
* checking if this is a source package ... OK
* checking if there is a namespace ... OK
* checking for hidden files and directories ... OK
* checking for portable file names ... OK
* checking for sufficient/correct file permissions ... OK
* checking whether package ‘SELEX’ can be installed ... OK
* checking installed package size ... OK
* checking package directory ... OK
* checking ‘build’ directory ... OK
* checking DESCRIPTION meta-information ... OK
* checking top-level files ... OK
* checking for left-over files ... OK
* checking index information ... OK
* checking package subdirectories ... OK
* checking R files for non-ASCII characters ... OK
* checking R files for syntax errors ... OK
* checking whether the package can be loaded ... OK
* checking whether the package can be loaded with stated dependencies ... OK
* checking whether the package can be unloaded cleanly ... OK
* checking whether the namespace can be loaded with stated dependencies ... OK
* checking whether the namespace can be unloaded cleanly ... OK
* checking dependencies in R code ... OK
* checking S3 generic/method consistency ... OK
* checking replacement functions ... OK
* checking foreign function calls ... OK
* checking R code for possible problems ... OK
* checking Rd files ... OK
* checking Rd metadata ... OK
* checking Rd cross-references ... OK
* checking for missing documentation entries ... OK
* checking for code/documentation mismatches ... OK
* checking Rd \usage sections ... OK
* checking Rd contents ... OK
* checking for unstated dependencies in examples ... OK
* checking line endings in Makefiles ... OK
* checking for GNU extensions in Makefiles ... OK
* checking include directives in Makefiles ... OK
* checking sizes of PDF files under ‘inst/doc’ ... OK
* checking files in ‘vignettes’ ... OK
* checking examples ... OK
Examples with CPU (user + system) or elapsed time > 5s
user system elapsed
SELEX 28.680 3.139 11.353
selex.seqfilter 13.105 1.605 5.062
* checking for unstated dependencies in vignettes ... OK
* checking package vignettes in ‘inst/doc’ ... OK
* checking running R code from vignettes ... SKIPPED
* checking re-building of vignette outputs ... SKIPPED
* checking PDF version of manual ... OK
* DONE
Status: OK
SELEX.Rcheck/00install.out
############################################################################## ############################################################################## ### ### Running command: ### ### /Library/Frameworks/R.framework/Versions/Current/Resources/bin/R CMD INSTALL SELEX ### ############################################################################## ############################################################################## * installing to library ‘/Library/Frameworks/R.framework/Versions/4.0/Resources/library’ * installing *source* package ‘SELEX’ ... ** using staged installation ** R ** inst ** byte-compile and prepare package for lazy loading ** help *** installing help indices ** building package indices ** installing vignettes ** testing if installed package can be loaded from temporary location ** testing if installed package can be loaded from final location ** testing if installed package keeps a record of temporary installation path * DONE (SELEX)
SELEX.Rcheck/SELEX-Ex.timings
| name | user | system | elapsed | |
| SELEX | 28.680 | 3.139 | 11.353 | |
| selex.affinities | 1.302 | 0.047 | 0.547 | |
| selex.config | 0.262 | 0.009 | 0.067 | |
| selex.countSummary | 1.335 | 0.067 | 0.587 | |
| selex.counts | 2.025 | 0.065 | 0.823 | |
| selex.defineSample | 0.088 | 0.013 | 0.068 | |
| selex.exampledata | 0.109 | 0.010 | 0.051 | |
| selex.fastqPSFM | 0.941 | 0.042 | 0.419 | |
| selex.getAttributes | 0.257 | 0.015 | 0.100 | |
| selex.getRound0 | 0.343 | 0.017 | 0.170 | |
| selex.getSeqfilter | 0.100 | 0.004 | 0.048 | |
| selex.infogain | 2.250 | 0.083 | 0.809 | |
| selex.infogainSummary | 1.334 | 0.037 | 0.416 | |
| selex.jvmStatus | 0.173 | 0.005 | 0.060 | |
| selex.kmax | 2.475 | 0.378 | 1.229 | |
| selex.kmerPSFM | 0.825 | 0.071 | 0.351 | |
| selex.loadAnnotation | 0.752 | 0.016 | 0.190 | |
| selex.mm | 0.683 | 0.038 | 0.380 | |
| selex.mmProb | 0.717 | 0.035 | 0.359 | |
| selex.mmSummary | 0.639 | 0.040 | 0.390 | |
| selex.revcomp | 1.146 | 0.048 | 0.619 | |
| selex.run | 2.364 | 0.074 | 0.832 | |
| selex.sample | 0.461 | 0.019 | 0.147 | |
| selex.samplePSFM | 1.036 | 0.033 | 0.396 | |
| selex.sampleSummary | 0.178 | 0.013 | 0.130 | |
| selex.saveAnnotation | 0.062 | 0.011 | 0.074 | |
| selex.seqfilter | 13.105 | 1.605 | 5.062 | |
| selex.setwd | 0.113 | 0.003 | 0.034 | |
| selex.split | 0.808 | 0.031 | 0.262 | |
| selex.summary | 1.951 | 0.100 | 0.893 | |