| Back to Multiple platform build/check report for BioC 3.11 |
|
This page was generated on 2020-10-17 11:57:43 -0400 (Sat, 17 Oct 2020).
| TO THE DEVELOPERS/MAINTAINERS OF THE RUVcorr PACKAGE: Please make sure to use the following settings in order to reproduce any error or warning you see on this page. |
| Package 1559/1905 | Hostname | OS / Arch | INSTALL | BUILD | CHECK | BUILD BIN | ||||||
| RUVcorr 1.20.0 Saskia Freytag
| malbec2 | Linux (Ubuntu 18.04.4 LTS) / x86_64 | OK | OK | OK | |||||||
| tokay2 | Windows Server 2012 R2 Standard / x64 | OK | OK | OK | [ OK ] | |||||||
| machv2 | macOS 10.14.6 Mojave / x86_64 | OK | OK | OK | OK |
| Package: RUVcorr |
| Version: 1.20.0 |
| Command: rm -rf RUVcorr.buildbin-libdir && mkdir RUVcorr.buildbin-libdir && C:\Users\biocbuild\bbs-3.11-bioc\R\bin\R.exe CMD INSTALL --merge-multiarch --build --library=RUVcorr.buildbin-libdir RUVcorr_1.20.0.tar.gz |
| StartedAt: 2020-10-17 11:33:45 -0400 (Sat, 17 Oct 2020) |
| EndedAt: 2020-10-17 11:34:10 -0400 (Sat, 17 Oct 2020) |
| EllapsedTime: 25.7 seconds |
| RetCode: 0 |
| Status: OK |
| PackageFile: RUVcorr_1.20.0.zip |
| PackageFileSize: 313.4 KiB |
##############################################################################
##############################################################################
###
### Running command:
###
### rm -rf RUVcorr.buildbin-libdir && mkdir RUVcorr.buildbin-libdir && C:\Users\biocbuild\bbs-3.11-bioc\R\bin\R.exe CMD INSTALL --merge-multiarch --build --library=RUVcorr.buildbin-libdir RUVcorr_1.20.0.tar.gz
###
##############################################################################
##############################################################################
install for i386
* installing *source* package 'RUVcorr' ...
** using staged installation
** R
** inst
** byte-compile and prepare package for lazy loading
** help
*** installing help indices
converting help for package 'RUVcorr'
finding HTML links ... done
ECDFPlot html
PCAPlot html
RLEPlot html
RUVNaiveRidge html
RUVcorr html
assessQuality html
background html
calculateThreshold html
compareRanks html
correlationPlot html
eigenvaluePlot html
empNegativeControls html
findIQR html
findMinmaxSamples html
findWeights html
funcPara html
funcThresh html
genePlot html
histogramPlot html
is.Threshold html
is.Weights html
is.optimizeParameters html
is.simulateGEdata html
makePosSemiDef html
makeRankedList html
mashUp html
optimizeParameters html
plot.optimizeParameters html
plotDesign html
plotThreshold html
print.simulateGEdata html
prioritise html
simulateGEdata html
splitByFactor html
wcor html
** building package indices
** installing vignettes
** testing if installed package can be loaded from temporary location
** testing if installed package can be loaded from final location
** testing if installed package keeps a record of temporary installation path
install for x64
* installing *source* package 'RUVcorr' ...
** testing if installed package can be loaded
* MD5 sums
packaged installation of 'RUVcorr' as RUVcorr_1.20.0.zip
* DONE (RUVcorr)