| Back to Multiple platform build/check report for BioC 3.11 |
|
This page was generated on 2020-10-17 11:57:34 -0400 (Sat, 17 Oct 2020).
| TO THE DEVELOPERS/MAINTAINERS OF THE RDAVIDWebService PACKAGE: Please make sure to use the following settings in order to reproduce any error or warning you see on this page. |
| Package 1441/1905 | Hostname | OS / Arch | INSTALL | BUILD | CHECK | BUILD BIN | ||||||
| RDAVIDWebService 1.26.0 Cristobal Fresno
| malbec2 | Linux (Ubuntu 18.04.4 LTS) / x86_64 | OK | OK | WARNINGS | |||||||
| tokay2 | Windows Server 2012 R2 Standard / x64 | [ OK ] | OK | WARNINGS | OK | |||||||
| machv2 | macOS 10.14.6 Mojave / x86_64 | OK | OK | WARNINGS | OK |
| Package: RDAVIDWebService |
| Version: 1.26.0 |
| Command: C:\cygwin\bin\curl.exe -O https://malbec2.bioconductor.org/BBS/3.11/bioc/src/contrib/RDAVIDWebService_1.26.0.tar.gz && rm -rf RDAVIDWebService.buildbin-libdir && mkdir RDAVIDWebService.buildbin-libdir && C:\Users\biocbuild\bbs-3.11-bioc\R\bin\R.exe CMD INSTALL --merge-multiarch --build --library=RDAVIDWebService.buildbin-libdir RDAVIDWebService_1.26.0.tar.gz && C:\Users\biocbuild\bbs-3.11-bioc\R\bin\R.exe CMD INSTALL RDAVIDWebService_1.26.0.zip && rm RDAVIDWebService_1.26.0.tar.gz RDAVIDWebService_1.26.0.zip |
| StartedAt: 2020-10-16 18:15:56 -0400 (Fri, 16 Oct 2020) |
| EndedAt: 2020-10-16 18:18:44 -0400 (Fri, 16 Oct 2020) |
| EllapsedTime: 168.2 seconds |
| RetCode: 0 |
| Status: OK |
##############################################################################
##############################################################################
###
### Running command:
###
### C:\cygwin\bin\curl.exe -O https://malbec2.bioconductor.org/BBS/3.11/bioc/src/contrib/RDAVIDWebService_1.26.0.tar.gz && rm -rf RDAVIDWebService.buildbin-libdir && mkdir RDAVIDWebService.buildbin-libdir && C:\Users\biocbuild\bbs-3.11-bioc\R\bin\R.exe CMD INSTALL --merge-multiarch --build --library=RDAVIDWebService.buildbin-libdir RDAVIDWebService_1.26.0.tar.gz && C:\Users\biocbuild\bbs-3.11-bioc\R\bin\R.exe CMD INSTALL RDAVIDWebService_1.26.0.zip && rm RDAVIDWebService_1.26.0.tar.gz RDAVIDWebService_1.26.0.zip
###
##############################################################################
##############################################################################
% Total % Received % Xferd Average Speed Time Time Time Current
Dload Upload Total Spent Left Speed
0 0 0 0 0 0 0 0 --:--:-- --:--:-- --:--:-- 0
100 20.2M 100 20.2M 0 0 85.9M 0 --:--:-- --:--:-- --:--:-- 88.6M
install for i386
* installing *source* package 'RDAVIDWebService' ...
** using staged installation
** R
** data
** inst
** byte-compile and prepare package for lazy loading
** help
*** installing help indices
converting help for package 'RDAVIDWebService'
finding HTML links ... done
DAVIDClasses-categories html
DAVIDClasses-constructor html
DAVIDClasses-genes html
DAVIDClasses-ids html
DAVIDClasses-plot2D html
DAVIDClasses-show html
DAVIDClasses-summary html
DAVIDCluster-class html
DAVIDCluster-methods html
DAVIDFunctionalAnnotationChart-class html
DAVIDFunctionalAnnotationTable-class html
DAVIDFunctionalAnnotationTable-methods
html
DAVIDGODag-class html
DAVIDGODag-methods html
DAVIDGeneCluster-class html
DAVIDGenes-class html
DAVIDGenes-methods html
DAVIDResult-class html
DAVIDResult-getters html
DAVIDTermCluster-class html
DAVIDWebService-accessors html
DAVIDWebService-class html
DAVIDWebService-methods html
DAVIDWebService-package html
DAVIDWebService-reports html
DAVIDdemo-annotationSummary html
DAVIDdemo-annotationTable html
DAVIDdemo-clusterReport html
DAVIDdemo-functionalAnnotationChart html
DAVIDdemo-geneList html
DAVIDdemo-ids html
** building package indices
** installing vignettes
** testing if installed package can be loaded from temporary location
** testing if installed package can be loaded from final location
** testing if installed package keeps a record of temporary installation path
install for x64
* installing *source* package 'RDAVIDWebService' ...
** testing if installed package can be loaded
* MD5 sums
packaged installation of 'RDAVIDWebService' as RDAVIDWebService_1.26.0.zip
* DONE (RDAVIDWebService)
* installing to library 'C:/Users/biocbuild/bbs-3.11-bioc/R/library'
package 'RDAVIDWebService' successfully unpacked and MD5 sums checked