| Back to Multiple platform build/check report for BioC 3.11 |
|
This page was generated on 2020-10-17 11:57:34 -0400 (Sat, 17 Oct 2020).
| TO THE DEVELOPERS/MAINTAINERS OF THE RDAVIDWebService PACKAGE: Please make sure to use the following settings in order to reproduce any error or warning you see on this page. |
| Package 1441/1905 | Hostname | OS / Arch | INSTALL | BUILD | CHECK | BUILD BIN | ||||||
| RDAVIDWebService 1.26.0 Cristobal Fresno
| malbec2 | Linux (Ubuntu 18.04.4 LTS) / x86_64 | OK | OK | WARNINGS | |||||||
| tokay2 | Windows Server 2012 R2 Standard / x64 | OK | OK | WARNINGS | [ OK ] | |||||||
| machv2 | macOS 10.14.6 Mojave / x86_64 | OK | OK | WARNINGS | OK |
| Package: RDAVIDWebService |
| Version: 1.26.0 |
| Command: rm -rf RDAVIDWebService.buildbin-libdir && mkdir RDAVIDWebService.buildbin-libdir && C:\Users\biocbuild\bbs-3.11-bioc\R\bin\R.exe CMD INSTALL --merge-multiarch --build --library=RDAVIDWebService.buildbin-libdir RDAVIDWebService_1.26.0.tar.gz |
| StartedAt: 2020-10-17 11:25:24 -0400 (Sat, 17 Oct 2020) |
| EndedAt: 2020-10-17 11:26:12 -0400 (Sat, 17 Oct 2020) |
| EllapsedTime: 47.3 seconds |
| RetCode: 0 |
| Status: OK |
| PackageFile: RDAVIDWebService_1.26.0.zip |
| PackageFileSize: 21.32 MiB |
##############################################################################
##############################################################################
###
### Running command:
###
### rm -rf RDAVIDWebService.buildbin-libdir && mkdir RDAVIDWebService.buildbin-libdir && C:\Users\biocbuild\bbs-3.11-bioc\R\bin\R.exe CMD INSTALL --merge-multiarch --build --library=RDAVIDWebService.buildbin-libdir RDAVIDWebService_1.26.0.tar.gz
###
##############################################################################
##############################################################################
install for i386
* installing *source* package 'RDAVIDWebService' ...
** using staged installation
** R
** data
** inst
** byte-compile and prepare package for lazy loading
** help
*** installing help indices
converting help for package 'RDAVIDWebService'
finding HTML links ... done
DAVIDClasses-categories html
DAVIDClasses-constructor html
DAVIDClasses-genes html
DAVIDClasses-ids html
DAVIDClasses-plot2D html
DAVIDClasses-show html
DAVIDClasses-summary html
DAVIDCluster-class html
DAVIDCluster-methods html
DAVIDFunctionalAnnotationChart-class html
DAVIDFunctionalAnnotationTable-class html
DAVIDFunctionalAnnotationTable-methods
html
DAVIDGODag-class html
DAVIDGODag-methods html
DAVIDGeneCluster-class html
DAVIDGenes-class html
DAVIDGenes-methods html
DAVIDResult-class html
DAVIDResult-getters html
DAVIDTermCluster-class html
DAVIDWebService-accessors html
DAVIDWebService-class html
DAVIDWebService-methods html
DAVIDWebService-package html
DAVIDWebService-reports html
DAVIDdemo-annotationSummary html
DAVIDdemo-annotationTable html
DAVIDdemo-clusterReport html
DAVIDdemo-functionalAnnotationChart html
DAVIDdemo-geneList html
DAVIDdemo-ids html
** building package indices
** installing vignettes
** testing if installed package can be loaded from temporary location
** testing if installed package can be loaded from final location
** testing if installed package keeps a record of temporary installation path
install for x64
* installing *source* package 'RDAVIDWebService' ...
** testing if installed package can be loaded
* MD5 sums
packaged installation of 'RDAVIDWebService' as RDAVIDWebService_1.26.0.zip
* DONE (RDAVIDWebService)