| Back to Multiple platform build/check report for BioC 3.11 | 
 | 
This page was generated on 2020-10-17 11:57:30 -0400 (Sat, 17 Oct 2020).
| TO THE DEVELOPERS/MAINTAINERS OF THE PSICQUIC PACKAGE: Please make sure to use the following settings in order to reproduce any error or warning you see on this page. | 
| Package 1374/1905 | Hostname | OS / Arch | INSTALL | BUILD | CHECK | BUILD BIN | ||||||
| PSICQUIC 1.26.1 Paul Shannon 
 | malbec2 | Linux (Ubuntu 18.04.4 LTS) / x86_64 | OK | OK | WARNINGS |  | ||||||
| tokay2 | Windows Server 2012 R2 Standard / x64 | OK | [ OK ] | WARNINGS | OK |  | ||||||
| machv2 | macOS 10.14.6 Mojave / x86_64 | OK | ERROR | skipped | skipped | 
| Package: PSICQUIC | 
| Version: 1.26.1 | 
| Command: chmod a+r PSICQUIC -R && C:\Users\biocbuild\bbs-3.11-bioc\R\bin\R.exe CMD build --keep-empty-dirs --no-resave-data PSICQUIC | 
| StartedAt: 2020-10-16 23:58:15 -0400 (Fri, 16 Oct 2020) | 
| EndedAt: 2020-10-17 00:00:00 -0400 (Sat, 17 Oct 2020) | 
| EllapsedTime: 104.5 seconds | 
| RetCode: 0 | 
| Status: OK | 
| PackageFile: PSICQUIC_1.26.1.tar.gz | 
| PackageFileSize: 217.8 KiB | 
############################################################################## ############################################################################## ### ### Running command: ### ### chmod a+r PSICQUIC -R && C:\Users\biocbuild\bbs-3.11-bioc\R\bin\R.exe CMD build --keep-empty-dirs --no-resave-data PSICQUIC ### ############################################################################## ############################################################################## * checking for file 'PSICQUIC/DESCRIPTION' ... OK * preparing 'PSICQUIC': * checking DESCRIPTION meta-information ... OK * installing the package to build vignettes * creating vignettes ... OK * checking for LF line-endings in source and make files and shell scripts * checking for empty or unneeded directories * building 'PSICQUIC_1.26.1.tar.gz'