| Back to Multiple platform build/check report for BioC 3.11 | 
 | 
This page was generated on 2020-10-17 11:57:30 -0400 (Sat, 17 Oct 2020).
| TO THE DEVELOPERS/MAINTAINERS OF THE PSICQUIC PACKAGE: Please make sure to use the following settings in order to reproduce any error or warning you see on this page. | 
| Package 1374/1905 | Hostname | OS / Arch | INSTALL | BUILD | CHECK | BUILD BIN | ||||||
| PSICQUIC 1.26.1 Paul Shannon 
 | malbec2 | Linux (Ubuntu 18.04.4 LTS) / x86_64 | OK | OK | WARNINGS |  | ||||||
| tokay2 | Windows Server 2012 R2 Standard / x64 | OK | OK | WARNINGS | [ OK ] |  | ||||||
| machv2 | macOS 10.14.6 Mojave / x86_64 | OK | ERROR | skipped | skipped | 
| Package: PSICQUIC | 
| Version: 1.26.1 | 
| Command: rm -rf PSICQUIC.buildbin-libdir && mkdir PSICQUIC.buildbin-libdir && C:\Users\biocbuild\bbs-3.11-bioc\R\bin\R.exe CMD INSTALL --merge-multiarch --build --library=PSICQUIC.buildbin-libdir PSICQUIC_1.26.1.tar.gz | 
| StartedAt: 2020-10-17 11:21:08 -0400 (Sat, 17 Oct 2020) | 
| EndedAt: 2020-10-17 11:21:51 -0400 (Sat, 17 Oct 2020) | 
| EllapsedTime: 43.3 seconds | 
| RetCode: 0 | 
| Status: OK | 
| PackageFile: PSICQUIC_1.26.1.zip | 
| PackageFileSize: 446 KiB | 
##############################################################################
##############################################################################
###
### Running command:
###
###   rm -rf PSICQUIC.buildbin-libdir && mkdir PSICQUIC.buildbin-libdir && C:\Users\biocbuild\bbs-3.11-bioc\R\bin\R.exe CMD INSTALL --merge-multiarch --build --library=PSICQUIC.buildbin-libdir PSICQUIC_1.26.1.tar.gz
###
##############################################################################
##############################################################################
install for i386
* installing *source* package 'PSICQUIC' ...
** using staged installation
** R
** inst
** byte-compile and prepare package for lazy loading
Warning: replacing previous import 'IRanges::desc' by 'plyr::desc' when loading 'PSICQUIC'
Creating a new generic function for 'count' in package 'PSICQUIC'
** help
*** installing help indices
  converting help for package 'PSICQUIC'
    finding HTML links ... done
    IDMapper-class                          html  
    PSICQUIC-class                          html  
    PSICQUIC-package                        html  
    interactions                            html  
    providers                               html  
    rawQuery                                html  
    webBrowser-functions                    html  
** building package indices
** installing vignettes
** testing if installed package can be loaded from temporary location
Warning: replacing previous import 'IRanges::desc' by 'plyr::desc' when loading 'PSICQUIC'
** testing if installed package can be loaded from final location
Warning: replacing previous import 'IRanges::desc' by 'plyr::desc' when loading 'PSICQUIC'
** testing if installed package keeps a record of temporary installation path
install for x64
* installing *source* package 'PSICQUIC' ...
** testing if installed package can be loaded
Warning: replacing previous import 'IRanges::desc' by 'plyr::desc' when loading 'PSICQUIC'
* MD5 sums
packaged installation of 'PSICQUIC' as PSICQUIC_1.26.1.zip
* DONE (PSICQUIC)