| Back to Multiple platform build/check report for BioC 3.11 |
|
This page was generated on 2020-10-17 11:55:18 -0400 (Sat, 17 Oct 2020).
| TO THE DEVELOPERS/MAINTAINERS OF THE OmicsMarkeR PACKAGE: Please make sure to use the following settings in order to reproduce any error or warning you see on this page. |
| Package 1225/1905 | Hostname | OS / Arch | INSTALL | BUILD | CHECK | BUILD BIN | ||||||
| OmicsMarkeR 1.20.0 Charles E. Determan Jr.
| malbec2 | Linux (Ubuntu 18.04.4 LTS) / x86_64 | OK | [ OK ] | ERROR | |||||||
| tokay2 | Windows Server 2012 R2 Standard / x64 | OK | OK | ERROR | OK | |||||||
| machv2 | macOS 10.14.6 Mojave / x86_64 | OK | OK | ERROR | OK |
| Package: OmicsMarkeR |
| Version: 1.20.0 |
| Command: /home/biocbuild/bbs-3.11-bioc/R/bin/R CMD build --keep-empty-dirs --no-resave-data OmicsMarkeR |
| StartedAt: 2020-10-16 20:43:25 -0400 (Fri, 16 Oct 2020) |
| EndedAt: 2020-10-16 20:43:56 -0400 (Fri, 16 Oct 2020) |
| EllapsedTime: 31.5 seconds |
| RetCode: 0 |
| Status: OK |
| PackageFile: OmicsMarkeR_1.20.0.tar.gz |
| PackageFileSize: 295.2 KiB |
##############################################################################
##############################################################################
###
### Running command:
###
### /home/biocbuild/bbs-3.11-bioc/R/bin/R CMD build --keep-empty-dirs --no-resave-data OmicsMarkeR
###
##############################################################################
##############################################################################
* checking for file ‘OmicsMarkeR/DESCRIPTION’ ... OK
* preparing ‘OmicsMarkeR’:
* checking DESCRIPTION meta-information ... OK
* installing the package to build vignettes
* creating vignettes ... OK
Warning: ‘inst/doc’ files
‘OmicsMarkeR.Rnw’, ‘OmicsMarkeR.pdf’, ‘OmicsMarkeR.R’
ignored as vignettes have been rebuilt.
Run R CMD build with --no-build-vignettes to prevent rebuilding.
* checking for LF line-endings in source and make files and shell scripts
* checking for empty or unneeded directories
* building ‘OmicsMarkeR_1.20.0.tar.gz’