| Back to Multiple platform build/check report for BioC 3.11 |
|
This page was generated on 2020-10-17 11:57:17 -0400 (Sat, 17 Oct 2020).
| TO THE DEVELOPERS/MAINTAINERS OF THE NormqPCR PACKAGE: Please make sure to use the following settings in order to reproduce any error or warning you see on this page. |
| Package 1202/1905 | Hostname | OS / Arch | INSTALL | BUILD | CHECK | BUILD BIN | ||||||
| NormqPCR 1.34.0 James Perkins
| malbec2 | Linux (Ubuntu 18.04.4 LTS) / x86_64 | OK | OK | OK | |||||||
| tokay2 | Windows Server 2012 R2 Standard / x64 | OK | OK | WARNINGS | [ OK ] | |||||||
| machv2 | macOS 10.14.6 Mojave / x86_64 | OK | OK | WARNINGS | OK |
| Package: NormqPCR |
| Version: 1.34.0 |
| Command: rm -rf NormqPCR.buildbin-libdir && mkdir NormqPCR.buildbin-libdir && C:\Users\biocbuild\bbs-3.11-bioc\R\bin\R.exe CMD INSTALL --merge-multiarch --build --library=NormqPCR.buildbin-libdir NormqPCR_1.34.0.tar.gz |
| StartedAt: 2020-10-17 11:09:18 -0400 (Sat, 17 Oct 2020) |
| EndedAt: 2020-10-17 11:09:35 -0400 (Sat, 17 Oct 2020) |
| EllapsedTime: 16.2 seconds |
| RetCode: 0 |
| Status: OK |
| PackageFile: NormqPCR_1.34.0.zip |
| PackageFileSize: 439.2 KiB |
##############################################################################
##############################################################################
###
### Running command:
###
### rm -rf NormqPCR.buildbin-libdir && mkdir NormqPCR.buildbin-libdir && C:\Users\biocbuild\bbs-3.11-bioc\R\bin\R.exe CMD INSTALL --merge-multiarch --build --library=NormqPCR.buildbin-libdir NormqPCR_1.34.0.tar.gz
###
##############################################################################
##############################################################################
install for i386
* installing *source* package 'NormqPCR' ...
** using staged installation
** R
** data
*** moving datasets to lazyload DB
** inst
** byte-compile and prepare package for lazy loading
** help
*** installing help indices
converting help for package 'NormqPCR'
finding HTML links ... done
Bladder html
BladderRepro html
Colon html
ComputeNRQs html
Rd warning: C:/Users/biocbuild/bbs-3.11-bioc/tmpdir/RtmpCsjEBI/R.INSTALL2c1c25314919/NormqPCR/man/ComputeNRQs.Rd:14: file link 'qPCRBatch' in package 'ReadqPCR' does not exist and so has been treated as a topic
CqValues html
Rd warning: C:/Users/biocbuild/bbs-3.11-bioc/tmpdir/RtmpCsjEBI/R.INSTALL2c1c25314919/NormqPCR/man/CqValues.Rd:23: file link 'CyclesSet' in package 'ReadqPCR' does not exist and so has been treated as a topic
NormqPCR-package html
combineTechReps html
combineTechRepsSD html
deltaCt html
deltaDeltaCt html
geNorm html
geomMean html
makeAllNAs html
makeAllNewVal html
replaceAboveCutOff html
replaceNAs html
selectHKs html
stabMeasureM html
stabMeasureRho html
** building package indices
** installing vignettes
** testing if installed package can be loaded from temporary location
** testing if installed package can be loaded from final location
** testing if installed package keeps a record of temporary installation path
install for x64
* installing *source* package 'NormqPCR' ...
** testing if installed package can be loaded
* MD5 sums
packaged installation of 'NormqPCR' as NormqPCR_1.34.0.zip
* DONE (NormqPCR)