| Back to Multiple platform build/check report for BioC 3.11 | 
 | 
This page was generated on 2020-10-17 11:56:56 -0400 (Sat, 17 Oct 2020).
| TO THE DEVELOPERS/MAINTAINERS OF THE LedPred PACKAGE: Please make sure to use the following settings in order to reproduce any error or warning you see on this page. | 
| Package 932/1905 | Hostname | OS / Arch | INSTALL | BUILD | CHECK | BUILD BIN | ||||||
| LedPred 1.22.0 Aitor Gonzalez 
 | malbec2 | Linux (Ubuntu 18.04.4 LTS) / x86_64 | OK | OK | OK |  | ||||||
| tokay2 | Windows Server 2012 R2 Standard / x64 | OK | [ OK ] | OK | OK |  | ||||||
| machv2 | macOS 10.14.6 Mojave / x86_64 | OK | OK | OK | OK |  | 
| Package: LedPred | 
| Version: 1.22.0 | 
| Command: chmod a+r LedPred -R && C:\Users\biocbuild\bbs-3.11-bioc\R\bin\R.exe CMD build --keep-empty-dirs --no-resave-data LedPred | 
| StartedAt: 2020-10-16 22:28:07 -0400 (Fri, 16 Oct 2020) | 
| EndedAt: 2020-10-16 22:28:43 -0400 (Fri, 16 Oct 2020) | 
| EllapsedTime: 36.4 seconds | 
| RetCode: 0 | 
| Status: OK | 
| PackageFile: LedPred_1.22.0.tar.gz | 
| PackageFileSize: 1.38 MiB | 
##############################################################################
##############################################################################
###
### Running command:
###
###   chmod a+r LedPred -R && C:\Users\biocbuild\bbs-3.11-bioc\R\bin\R.exe CMD build --keep-empty-dirs --no-resave-data LedPred
###
##############################################################################
##############################################################################
* checking for file 'LedPred/DESCRIPTION' ... OK
* preparing 'LedPred':
* checking DESCRIPTION meta-information ... OK
* installing the package to build vignettes
* creating vignettes ... OK
Warning: 'inst/doc' files
    'LedPred.Rnw', 'LedPred.pdf', 'LedPred.R'
  ignored as vignettes have been rebuilt.
  Run R CMD build with --no-build-vignettes to prevent rebuilding.
* checking for LF line-endings in source and make files and shell scripts
* checking for empty or unneeded directories
* building 'LedPred_1.22.0.tar.gz'