| Back to Multiple platform build/check report for BioC 3.11 | 
 | 
This page was generated on 2020-10-17 11:56:56 -0400 (Sat, 17 Oct 2020).
| TO THE DEVELOPERS/MAINTAINERS OF THE LedPred PACKAGE: Please make sure to use the following settings in order to reproduce any error or warning you see on this page. | 
| Package 932/1905 | Hostname | OS / Arch | INSTALL | BUILD | CHECK | BUILD BIN | ||||||
| LedPred 1.22.0 Aitor Gonzalez 
 | malbec2 | Linux (Ubuntu 18.04.4 LTS) / x86_64 | OK | OK | OK |  | ||||||
| tokay2 | Windows Server 2012 R2 Standard / x64 | OK | OK | OK | [ OK ] |  | ||||||
| machv2 | macOS 10.14.6 Mojave / x86_64 | OK | OK | OK | OK |  | 
| Package: LedPred | 
| Version: 1.22.0 | 
| Command: rm -rf LedPred.buildbin-libdir && mkdir LedPred.buildbin-libdir && C:\Users\biocbuild\bbs-3.11-bioc\R\bin\R.exe CMD INSTALL --merge-multiarch --build --library=LedPred.buildbin-libdir LedPred_1.22.0.tar.gz | 
| StartedAt: 2020-10-17 10:52:20 -0400 (Sat, 17 Oct 2020) | 
| EndedAt: 2020-10-17 10:52:59 -0400 (Sat, 17 Oct 2020) | 
| EllapsedTime: 39.1 seconds | 
| RetCode: 0 | 
| Status: OK | 
| PackageFile: LedPred_1.22.0.zip | 
| PackageFileSize: 1.612 MiB | 
##############################################################################
##############################################################################
###
### Running command:
###
###   rm -rf LedPred.buildbin-libdir && mkdir LedPred.buildbin-libdir && C:\Users\biocbuild\bbs-3.11-bioc\R\bin\R.exe CMD INSTALL --merge-multiarch --build --library=LedPred.buildbin-libdir LedPred_1.22.0.tar.gz
###
##############################################################################
##############################################################################
install for i386
* installing *source* package 'LedPred' ...
** using staged installation
** R
** data
*** moving datasets to lazyload DB
** inst
** byte-compile and prepare package for lazy loading
** help
*** installing help indices
  converting help for package 'LedPred'
    finding HTML links ... done
    LedPred                                 html  
    createModel                             html  
    crm.features                            html  
    evaluateModelPerformance                html  
    feature.ranking                         html  
    mapFeaturesToCRMs                       html  
    mcTune                                  html  
    rankFeatures                            html  
    scoreData                               html  
    tuneFeatureNb                           html  
** building package indices
** installing vignettes
** testing if installed package can be loaded from temporary location
** testing if installed package can be loaded from final location
** testing if installed package keeps a record of temporary installation path
install for x64
* installing *source* package 'LedPred' ...
** testing if installed package can be loaded
* MD5 sums
packaged installation of 'LedPred' as LedPred_1.22.0.zip
* DONE (LedPred)