| Back to Multiple platform build/check report for BioC 3.11 |
|
This page was generated on 2020-10-17 11:56:53 -0400 (Sat, 17 Oct 2020).
| TO THE DEVELOPERS/MAINTAINERS OF THE InterMineR PACKAGE: Please make sure to use the following settings in order to reproduce any error or warning you see on this page. |
| Package 886/1905 | Hostname | OS / Arch | INSTALL | BUILD | CHECK | BUILD BIN | ||||||
| InterMineR 1.10.0 InterMine Team
| malbec2 | Linux (Ubuntu 18.04.4 LTS) / x86_64 | OK | OK | WARNINGS | |||||||
| tokay2 | Windows Server 2012 R2 Standard / x64 | OK | OK | WARNINGS | [ OK ] | |||||||
| machv2 | macOS 10.14.6 Mojave / x86_64 | OK | OK | WARNINGS | OK |
| Package: InterMineR |
| Version: 1.10.0 |
| Command: rm -rf InterMineR.buildbin-libdir && mkdir InterMineR.buildbin-libdir && C:\Users\biocbuild\bbs-3.11-bioc\R\bin\R.exe CMD INSTALL --merge-multiarch --build --library=InterMineR.buildbin-libdir InterMineR_1.10.0.tar.gz |
| StartedAt: 2020-10-17 10:49:16 -0400 (Sat, 17 Oct 2020) |
| EndedAt: 2020-10-17 10:50:21 -0400 (Sat, 17 Oct 2020) |
| EllapsedTime: 64.7 seconds |
| RetCode: 0 |
| Status: OK |
| PackageFile: InterMineR_1.10.0.zip |
| PackageFileSize: 5.168 MiB |
##############################################################################
##############################################################################
###
### Running command:
###
### rm -rf InterMineR.buildbin-libdir && mkdir InterMineR.buildbin-libdir && C:\Users\biocbuild\bbs-3.11-bioc\R\bin\R.exe CMD INSTALL --merge-multiarch --build --library=InterMineR.buildbin-libdir InterMineR_1.10.0.tar.gz
###
##############################################################################
##############################################################################
install for i386
* installing *source* package 'InterMineR' ...
** using staged installation
** R
** data
*** moving datasets to lazyload DB
** inst
** byte-compile and prepare package for lazy loading
** help
*** installing help indices
converting help for package 'InterMineR'
finding HTML links ... done
InterMineR-class html
InterMineR-methods html
InterMineR-package html
PL_DiabetesGenes html
PL_FlyTF_site_specific_TFs html
convertToGRanges html
Rd warning: C:/Users/biocbuild/bbs-3.11-bioc/tmpdir/Rtmpm0XwV7/R.INSTALL30881444389d/InterMineR/man/convertToGRanges.Rd:5: file link 'GRanges' in package 'GenomicRanges' does not exist and so has been treated as a topic
Rd warning: C:/Users/biocbuild/bbs-3.11-bioc/tmpdir/Rtmpm0XwV7/R.INSTALL30881444389d/InterMineR/man/convertToGRanges.Rd:8: file link 'GRanges' in package 'GenomicRanges' does not exist and so has been treated as a topic
Rd warning: C:/Users/biocbuild/bbs-3.11-bioc/tmpdir/Rtmpm0XwV7/R.INSTALL30881444389d/InterMineR/man/convertToGRanges.Rd:26: file link 'GRanges' in package 'GenomicRanges' does not exist and so has been treated as a topic
Rd warning: C:/Users/biocbuild/bbs-3.11-bioc/tmpdir/Rtmpm0XwV7/R.INSTALL30881444389d/InterMineR/man/convertToGRanges.Rd:29: file link 'GRanges' in package 'GenomicRanges' does not exist and so has been treated as a topic
Rd warning: C:/Users/biocbuild/bbs-3.11-bioc/tmpdir/Rtmpm0XwV7/R.INSTALL30881444389d/InterMineR/man/convertToGRanges.Rd:32: file link 'GRanges' in package 'GenomicRanges' does not exist and so has been treated as a topic
Rd warning: C:/Users/biocbuild/bbs-3.11-bioc/tmpdir/Rtmpm0XwV7/R.INSTALL30881444389d/InterMineR/man/convertToGRanges.Rd:35: file link 'GRanges' in package 'GenomicRanges' does not exist and so has been treated as a topic
Rd warning: C:/Users/biocbuild/bbs-3.11-bioc/tmpdir/Rtmpm0XwV7/R.INSTALL30881444389d/InterMineR/man/convertToGRanges.Rd:38: file link 'GRanges' in package 'GenomicRanges' does not exist and so has been treated as a topic
Rd warning: C:/Users/biocbuild/bbs-3.11-bioc/tmpdir/Rtmpm0XwV7/R.INSTALL30881444389d/InterMineR/man/convertToGRanges.Rd:41: file link 'GRanges' in package 'GenomicRanges' does not exist and so has been treated as a topic
Rd warning: C:/Users/biocbuild/bbs-3.11-bioc/tmpdir/Rtmpm0XwV7/R.INSTALL30881444389d/InterMineR/man/convertToGRanges.Rd:44: file link 'GRanges' in package 'GenomicRanges' does not exist and so has been treated as a topic
Rd warning: C:/Users/biocbuild/bbs-3.11-bioc/tmpdir/Rtmpm0XwV7/R.INSTALL30881444389d/InterMineR/man/convertToGRanges.Rd:47: file link 'GRanges' in package 'GenomicRanges' does not exist and so has been treated as a topic
Rd warning: C:/Users/biocbuild/bbs-3.11-bioc/tmpdir/Rtmpm0XwV7/R.INSTALL30881444389d/InterMineR/man/convertToGRanges.Rd:56: file link 'GRanges' in package 'GenomicRanges' does not exist and so has been treated as a topic
Rd warning: C:/Users/biocbuild/bbs-3.11-bioc/tmpdir/Rtmpm0XwV7/R.INSTALL30881444389d/InterMineR/man/convertToGRanges.Rd:59: file link 'GRanges' in package 'GenomicRanges' does not exist and so has been treated as a topic
Rd warning: C:/Users/biocbuild/bbs-3.11-bioc/tmpdir/Rtmpm0XwV7/R.INSTALL30881444389d/InterMineR/man/convertToGRanges.Rd:66: file link 'GRanges' in package 'GenomicRanges' does not exist and so has been treated as a topic
convertToGeneAnswers html
Rd warning: C:/Users/biocbuild/bbs-3.11-bioc/tmpdir/Rtmpm0XwV7/R.INSTALL30881444389d/InterMineR/man/convertToGeneAnswers.Rd:8: file link 'GeneAnswers' in package 'GeneAnswers' does not exist and so has been treated as a topic
convertToRangedSummarizedExperiment html
Rd warning: C:/Users/biocbuild/bbs-3.11-bioc/tmpdir/Rtmpm0XwV7/R.INSTALL30881444389d/InterMineR/man/convertToRangedSummarizedExperiment.Rd:5: file link 'RangedSummarizedExperiment' in package 'SummarizedExperiment' does not exist and so has been treated as a topic
Rd warning: C:/Users/biocbuild/bbs-3.11-bioc/tmpdir/Rtmpm0XwV7/R.INSTALL30881444389d/InterMineR/man/convertToRangedSummarizedExperiment.Rd:8: file link 'RangedSummarizedExperiment' in package 'SummarizedExperiment' does not exist and so has been treated as a topic
Rd warning: C:/Users/biocbuild/bbs-3.11-bioc/tmpdir/Rtmpm0XwV7/R.INSTALL30881444389d/InterMineR/man/convertToRangedSummarizedExperiment.Rd:43: file link 'RangedSummarizedExperiment' in package 'SummarizedExperiment' does not exist and so has been treated as a topic
Rd warning: C:/Users/biocbuild/bbs-3.11-bioc/tmpdir/Rtmpm0XwV7/R.INSTALL30881444389d/InterMineR/man/convertToRangedSummarizedExperiment.Rd:46: file link 'RangedSummarizedExperiment' in package 'SummarizedExperiment' does not exist and so has been treated as a topic
Rd warning: C:/Users/biocbuild/bbs-3.11-bioc/tmpdir/Rtmpm0XwV7/R.INSTALL30881444389d/InterMineR/man/convertToRangedSummarizedExperiment.Rd:52: file link 'RangedSummarizedExperiment' in package 'SummarizedExperiment' does not exist and so has been treated as a topic
Rd warning: C:/Users/biocbuild/bbs-3.11-bioc/tmpdir/Rtmpm0XwV7/R.INSTALL30881444389d/InterMineR/man/convertToRangedSummarizedExperiment.Rd:54: file link 'SummarizedExperiment' in package 'SummarizedExperiment' does not exist and so has been treated as a topic
Rd warning: C:/Users/biocbuild/bbs-3.11-bioc/tmpdir/Rtmpm0XwV7/R.INSTALL30881444389d/InterMineR/man/convertToRangedSummarizedExperiment.Rd:58: file link 'RangedSummarizedExperiment' in package 'SummarizedExperiment' does not exist and so has been treated as a topic
Rd warning: C:/Users/biocbuild/bbs-3.11-bioc/tmpdir/Rtmpm0XwV7/R.INSTALL30881444389d/InterMineR/man/convertToRangedSummarizedExperiment.Rd:61: file link 'SummarizedExperiment' in package 'SummarizedExperiment' does not exist and so has been treated as a topic
Rd warning: C:/Users/biocbuild/bbs-3.11-bioc/tmpdir/Rtmpm0XwV7/R.INSTALL30881444389d/InterMineR/man/convertToRangedSummarizedExperiment.Rd:69: file link 'RangedSummarizedExperiment' in package 'SummarizedExperiment' does not exist and so has been treated as a topic
doEnrichment html
getDatasets html
getGeneIds html
getModel html
getRelease html
getTemplateQuery html
getTemplates html
getVersion html
getWidgets html
initInterMine html
listDatasets html
listMines html
newQuery html
runQuery html
setConstraints html
setQuery html
simplifyResult html
summary html
** building package indices
** installing vignettes
** testing if installed package can be loaded from temporary location
** testing if installed package can be loaded from final location
** testing if installed package keeps a record of temporary installation path
install for x64
* installing *source* package 'InterMineR' ...
** testing if installed package can be loaded
* MD5 sums
packaged installation of 'InterMineR' as InterMineR_1.10.0.zip
* DONE (InterMineR)