Back to Multiple platform build/check report for BioC 3.11 |
|
This page was generated on 2020-10-17 11:56:51 -0400 (Sat, 17 Oct 2020).
TO THE DEVELOPERS/MAINTAINERS OF THE IdMappingAnalysis PACKAGE: Please make sure to use the following settings in order to reproduce any error or warning you see on this page. |
Package 857/1905 | Hostname | OS / Arch | INSTALL | BUILD | CHECK | BUILD BIN | ||||||
Alex Lisovich
| malbec2 | Linux (Ubuntu 18.04.4 LTS) / x86_64 | ERROR | ERROR | skipped | |||||||
tokay2 | Windows Server 2012 R2 Standard / x64 | [ ERROR ] | ERROR | skipped | skipped | |||||||
machv2 | macOS 10.14.6 Mojave / x86_64 | ERROR | ERROR | skipped | skipped |
Package: IdMappingAnalysis |
Version: 1.32.0 |
Command: C:\cygwin\bin\curl.exe -O https://malbec2.bioconductor.org/BBS/3.11/bioc/src/contrib/IdMappingAnalysis_1.32.0.tar.gz && rm -rf IdMappingAnalysis.buildbin-libdir && mkdir IdMappingAnalysis.buildbin-libdir && C:\Users\biocbuild\bbs-3.11-bioc\R\bin\R.exe CMD INSTALL --merge-multiarch --build --library=IdMappingAnalysis.buildbin-libdir IdMappingAnalysis_1.32.0.tar.gz && C:\Users\biocbuild\bbs-3.11-bioc\R\bin\R.exe CMD INSTALL IdMappingAnalysis_1.32.0.zip && rm IdMappingAnalysis_1.32.0.tar.gz IdMappingAnalysis_1.32.0.zip |
StartedAt: 2020-10-16 17:10:03 -0400 (Fri, 16 Oct 2020) |
EndedAt: 2020-10-16 17:10:33 -0400 (Fri, 16 Oct 2020) |
EllapsedTime: 29.7 seconds |
RetCode: 1 |
Status: ERROR |
############################################################################## ############################################################################## ### ### Running command: ### ### C:\cygwin\bin\curl.exe -O https://malbec2.bioconductor.org/BBS/3.11/bioc/src/contrib/IdMappingAnalysis_1.32.0.tar.gz && rm -rf IdMappingAnalysis.buildbin-libdir && mkdir IdMappingAnalysis.buildbin-libdir && C:\Users\biocbuild\bbs-3.11-bioc\R\bin\R.exe CMD INSTALL --merge-multiarch --build --library=IdMappingAnalysis.buildbin-libdir IdMappingAnalysis_1.32.0.tar.gz && C:\Users\biocbuild\bbs-3.11-bioc\R\bin\R.exe CMD INSTALL IdMappingAnalysis_1.32.0.zip && rm IdMappingAnalysis_1.32.0.tar.gz IdMappingAnalysis_1.32.0.zip ### ############################################################################## ############################################################################## % Total % Received % Xferd Average Speed Time Time Time Current Dload Upload Total Spent Left Speed 0 0 0 0 0 0 0 0 --:--:-- --:--:-- --:--:-- 0 100 1660k 100 1660k 0 0 4364k 0 --:--:-- --:--:-- --:--:-- 4462k install for i386 * installing *source* package 'IdMappingAnalysis' ... ** using staged installation ** R Error in .install_package_code_files(".", instdir) : duplicated files in 'Collate' field: zzz.R ERROR: unable to collate and parse R files for package 'IdMappingAnalysis' * removing 'C:/Users/biocbuild/bbs-3.11-bioc/meat/IdMappingAnalysis.buildbin-libdir/IdMappingAnalysis'