| Back to Multiple platform build/check report for BioC 3.11 |
|
This page was generated on 2020-10-17 11:58:43 -0400 (Sat, 17 Oct 2020).
| TO THE DEVELOPERS/MAINTAINERS OF THE IdMappingAnalysis PACKAGE: Please make sure to use the following settings in order to reproduce any error or warning you see on this page. |
| Package 857/1905 | Hostname | OS / Arch | INSTALL | BUILD | CHECK | BUILD BIN | ||||||
Alex Lisovich
| malbec2 | Linux (Ubuntu 18.04.4 LTS) / x86_64 | ERROR | ERROR | skipped | |||||||
| tokay2 | Windows Server 2012 R2 Standard / x64 | ERROR | ERROR | skipped | skipped | |||||||
| machv2 | macOS 10.14.6 Mojave / x86_64 | ERROR | [ ERROR ] | skipped | skipped |
| Package: IdMappingAnalysis |
| Version: 1.32.0 |
| Command: /Library/Frameworks/R.framework/Versions/Current/Resources/bin/R CMD build --keep-empty-dirs --no-resave-data IdMappingAnalysis |
| StartedAt: 2020-10-16 19:32:09 -0400 (Fri, 16 Oct 2020) |
| EndedAt: 2020-10-16 19:32:17 -0400 (Fri, 16 Oct 2020) |
| EllapsedTime: 7.4 seconds |
| RetCode: 1 |
| Status: ERROR |
| PackageFile: None |
| PackageFileSize: NA |
##############################################################################
##############################################################################
###
### Running command:
###
### /Library/Frameworks/R.framework/Versions/Current/Resources/bin/R CMD build --keep-empty-dirs --no-resave-data IdMappingAnalysis
###
##############################################################################
##############################################################################
* checking for file ‘IdMappingAnalysis/DESCRIPTION’ ... OK
* preparing ‘IdMappingAnalysis’:
* checking DESCRIPTION meta-information ... OK
* installing the package to build vignettes
-----------------------------------
* installing *source* package ‘IdMappingAnalysis’ ...
** using staged installation
** R
Error in .install_package_code_files(".", instdir) :
duplicated files in 'Collate' field:
zzz.R
ERROR: unable to collate and parse R files for package ‘IdMappingAnalysis’
* removing ‘/private/tmp/RtmpqNB6DI/Rinst3f4a6965aa8b/IdMappingAnalysis’
-----------------------------------
ERROR: package installation failed