| Back to Multiple platform build/check report for BioC 3.11 | 
  | 
This page was generated on 2020-10-17 11:58:39 -0400 (Sat, 17 Oct 2020).
| TO THE DEVELOPERS/MAINTAINERS OF THE GSVA PACKAGE: Please make sure to use the following settings in order to reproduce any error or warning you see on this page. | 
| Package 791/1905 | Hostname | OS / Arch | INSTALL | BUILD | CHECK | BUILD BIN | ||||||
| GSVA 1.36.3 Justin Guinney 
  | malbec2 | Linux (Ubuntu 18.04.4 LTS) / x86_64 | OK | OK | OK | |||||||
| tokay2 | Windows Server 2012 R2 Standard / x64 | OK | OK | OK | OK | |||||||
| machv2 | macOS 10.14.6 Mojave / x86_64 | OK | OK | OK | [ OK ] | 
| Package: GSVA | 
| Version: 1.36.3 | 
| Command: rm -rf GSVA.buildbin-libdir && mkdir GSVA.buildbin-libdir && /Users/biocbuild/BBS/utils/build-universal.sh GSVA_1.36.3.tar.gz /Library/Frameworks/R.framework/Versions/Current/Resources/bin/R GSVA.buildbin-libdir | 
| StartedAt: 2020-10-17 07:14:15 -0400 (Sat, 17 Oct 2020) | 
| EndedAt: 2020-10-17 07:14:49 -0400 (Sat, 17 Oct 2020) | 
| EllapsedTime: 34.0 seconds | 
| RetCode: 0 | 
| Status: OK | 
| PackageFile: GSVA_1.36.3.tgz | 
| PackageFileSize: 1.276 MiB | 
##############################################################################
##############################################################################
###
### Running command:
###
###   rm -rf GSVA.buildbin-libdir && mkdir GSVA.buildbin-libdir && /Users/biocbuild/BBS/utils/build-universal.sh GSVA_1.36.3.tar.gz /Library/Frameworks/R.framework/Versions/Current/Resources/bin/R GSVA.buildbin-libdir
###
##############################################################################
##############################################################################
>>>>>>> 
>>>>>>> INSTALLATION WITH 'R CMD INSTALL --preclean --no-multiarch --library=GSVA.buildbin-libdir GSVA_1.36.3.tar.gz'
>>>>>>> 
* installing *source* package ‘GSVA’ ...
** using staged installation
** libs
clang -mmacosx-version-min=10.13 -I"/Library/Frameworks/R.framework/Resources/include" -DNDEBUG   -I/usr/local/include   -fPIC  -Wall -g -O2  -c kernel_estimation.c -o kernel_estimation.o
clang -mmacosx-version-min=10.13 -I"/Library/Frameworks/R.framework/Resources/include" -DNDEBUG   -I/usr/local/include   -fPIC  -Wall -g -O2  -c ks_test.c -o ks_test.o
ks_test.c:24:9: warning: unused variable 'mx_value' [-Wunused-variable]
        double mx_value = 0.0;
               ^
1 warning generated.
clang -mmacosx-version-min=10.13 -I"/Library/Frameworks/R.framework/Resources/include" -DNDEBUG   -I/usr/local/include   -fPIC  -Wall -g -O2  -c register_cmethods.c -o register_cmethods.o
clang -mmacosx-version-min=10.13 -dynamiclib -Wl,-headerpad_max_install_names -undefined dynamic_lookup -single_module -multiply_defined suppress -L/Library/Frameworks/R.framework/Resources/lib -L/usr/local/lib -o GSVA.so kernel_estimation.o ks_test.o register_cmethods.o -F/Library/Frameworks/R.framework/.. -framework R -Wl,-framework -Wl,CoreFoundation
installing to /Users/biocbuild/bbs-3.11-bioc/meat/GSVA.buildbin-libdir/00LOCK-GSVA/00new/GSVA/libs
** R
** inst
** byte-compile and prepare package for lazy loading
** help
*** installing help indices
** building package indices
** installing vignettes
** testing if installed package can be loaded from temporary location
** checking absolute paths in shared objects and dynamic libraries
** testing if installed package can be loaded from final location
** testing if installed package keeps a record of temporary installation path
* DONE (GSVA)
>>>>>>> 
>>>>>>> FIXING LINKS FOR GSVA.buildbin-libdir/GSVA/libs/GSVA.so
>>>>>>> 
install_name_tool -change "/usr/local/lib/libgcc_s.1.dylib" "/Library/Frameworks/R.framework/Versions/4.0/Resources/lib/libgcc_s.1.dylib" "GSVA.buildbin-libdir/GSVA/libs/GSVA.so"
install_name_tool -change "/usr/local/lib/libgfortran.5.dylib" "/Library/Frameworks/R.framework/Versions/4.0/Resources/lib/libgfortran.5.dylib" "GSVA.buildbin-libdir/GSVA/libs/GSVA.so"
install_name_tool -change "/usr/local/lib/libquadmath.0.dylib" "/Library/Frameworks/R.framework/Versions/4.0/Resources/lib/libquadmath.0.dylib" "GSVA.buildbin-libdir/GSVA/libs/GSVA.so"